BEGIN:VCALENDAR
VERSION:2.0
PRODID:-//Diversions Puzzles &amp; Games - ECPv6.14.0//NONSGML v1.0//EN
CALSCALE:GREGORIAN
METHOD:PUBLISH
X-WR-CALNAME:Diversions Puzzles &amp; Games
X-ORIGINAL-URL:https://diversionsgames.com
X-WR-CALDESC:Events for Diversions Puzzles &amp; Games
REFRESH-INTERVAL;VALUE=DURATION:PT1H
X-Robots-Tag:noindex
X-PUBLISHED-TTL:PT1H
BEGIN:VTIMEZONE
TZID:America/New_York
BEGIN:DAYLIGHT
TZOFFSETFROM:-0500
TZOFFSETTO:-0400
TZNAME:EDT
DTSTART:20210314T070000
END:DAYLIGHT
BEGIN:STANDARD
TZOFFSETFROM:-0400
TZOFFSETTO:-0500
TZNAME:EST
DTSTART:20211107T060000
END:STANDARD
END:VTIMEZONE
BEGIN:VEVENT
DTSTART;TZID=America/New_York:20210821T170000
DTEND;TZID=America/New_York:20210821T235900
DTSTAMP:20260424T234011
CREATED:20210726T195447Z
LAST-MODIFIED:20210726T195447Z
UID:10045549-1629565200-1629590340@diversionsgames.com
SUMMARY:*Special* Late Night Gaming Fundraiser with Chits & Bits
DESCRIPTION:Joins us for a special session of Late Night Gaming featuring Chits & Bits!\n\nEntry is a suggested $5.00 donation\, which gets you 7 awesome hours of gaming and a raffle ticket for a chance to win a mystery prize pack. There will be refreshments\, raffles\, and more!\n\nChits & Bits’ Extra Life team has raised over $100\,000 for The Barbara Bush Children’s Hospital over the past 7 years. Every single dollar makes a difference #forthekids and 100% of donations go directly to BBCH.
URL:https://diversionsgames.com/event/special-late-night-gaming-fundraiser-with-chits-bits/
CATEGORIES:South Portland
ATTACH;FMTTYPE=image/png:https://diversionsgames.com/wp-content/uploads/2021/07/CB-Late-Night.png
END:VEVENT
END:VCALENDAR