BEGIN:VCALENDAR
VERSION:2.0
PRODID:-//Diversions Puzzles &amp; Games - ECPv6.14.0//NONSGML v1.0//EN
CALSCALE:GREGORIAN
METHOD:PUBLISH
X-ORIGINAL-URL:https://diversionsgames.com
X-WR-CALDESC:Events for Diversions Puzzles &amp; Games
REFRESH-INTERVAL;VALUE=DURATION:PT1H
X-Robots-Tag:noindex
X-PUBLISHED-TTL:PT1H
BEGIN:VTIMEZONE
TZID:America/New_York
BEGIN:DAYLIGHT
TZOFFSETFROM:-0500
TZOFFSETTO:-0400
TZNAME:EDT
DTSTART:20210314T070000
END:DAYLIGHT
BEGIN:STANDARD
TZOFFSETFROM:-0400
TZOFFSETTO:-0500
TZNAME:EST
DTSTART:20211107T060000
END:STANDARD
END:VTIMEZONE
BEGIN:VEVENT
DTSTART;TZID=America/New_York:20210830T170000
DTEND;TZID=America/New_York:20210830T210000
DTSTAMP:20260422T183911
CREATED:20210720T171453Z
LAST-MODIFIED:20220325T103912Z
UID:10046335-1630342800-1630357200@diversionsgames.com
SUMMARY:Dungeons & Dragons
DESCRIPTION:Come play Dungeons & Dragons with us every Thursday night! New and experienced players are welcome to join a group on the current adventure. Walk-ins are welcome for participation in this event. Grab a set of dice\, make a new character with the Dungeon Master and you are on your way!\n\nParking is available behind the store and snacks/drinks are available for purchase inside.
URL:https://diversionsgames.com/event/dungeons-dragons/2021-08-30/
CATEGORIES:Portsmouth
ATTACH;FMTTYPE=image/jpeg:https://diversionsgames.com/wp-content/uploads/2021/07/DD.jpg
END:VEVENT
BEGIN:VEVENT
DTSTART;TZID=America/New_York:20210830T170000
DTEND;TZID=America/New_York:20210830T210000
DTSTAMP:20260422T183911
CREATED:20210827T152337Z
LAST-MODIFIED:20210827T152337Z
UID:10046412-1630342800-1630357200@diversionsgames.com
SUMMARY:Intro to D&D: One Shot
DESCRIPTION:Entry: $15/person\nOnline Registration: https://diversions-puzzles-games.myshopify.com/…/intro…\nMax: 5 people per session\nIf you’re new to D&D\, this is the perfect chance to learn to play! Our Diversions team member Drew will run this session for beginners\, starting with character creation if needed\, and then running through a scenario. You will need a pencil and eraser\, a set of role-playing dice\, and your imagination! Optional: Player’s Handbook\, pre-made character\, mini figure.
URL:https://diversionsgames.com/event/intro-to-dd-one-shot/2021-08-30/
CATEGORIES:South Portland
ATTACH;FMTTYPE=image/jpeg:https://diversionsgames.com/wp-content/uploads/2021/07/DD.jpg
END:VEVENT
END:VCALENDAR