BEGIN:VCALENDAR
VERSION:2.0
PRODID:-//Diversions Puzzles &amp; Games - ECPv6.14.0//NONSGML v1.0//EN
CALSCALE:GREGORIAN
METHOD:PUBLISH
X-WR-CALNAME:Diversions Puzzles &amp; Games
X-ORIGINAL-URL:https://diversionsgames.com
X-WR-CALDESC:Events for Diversions Puzzles &amp; Games
REFRESH-INTERVAL;VALUE=DURATION:PT1H
X-Robots-Tag:noindex
X-PUBLISHED-TTL:PT1H
BEGIN:VTIMEZONE
TZID:America/New_York
BEGIN:DAYLIGHT
TZOFFSETFROM:-0500
TZOFFSETTO:-0400
TZNAME:EDT
DTSTART:20210314T070000
END:DAYLIGHT
BEGIN:STANDARD
TZOFFSETFROM:-0400
TZOFFSETTO:-0500
TZNAME:EST
DTSTART:20211107T060000
END:STANDARD
END:VTIMEZONE
BEGIN:VEVENT
DTSTART;TZID=America/New_York:20211211T170000
DTEND;TZID=America/New_York:20211212T160000
DTSTAMP:20260420T204832
CREATED:20211110T203439Z
LAST-MODIFIED:20211110T203439Z
UID:10046487-1639242000-1639324800@diversionsgames.com
SUMMARY:Chits & Bits Fundraising Game Weekend
DESCRIPTION:Our favorite charity game group\, Chits & Bits\, will be at the South Portland store on Saturday\, December 11 from 5pm to midnight and again Sunday\, December 12 from 10am to 4pm for a special holiday fundraising game weekend! Featuring games\, gear\, and other fun swag to raffle off\, with every single dollar in donations going directly to The Barbara Bush Children’s Hospital (BBCH) right here in Portland\, ME. \nPlay games and raise money #forthekids
URL:https://diversionsgames.com/event/chits-bits-fundraising-game-weekend/
CATEGORIES:South Portland
ATTACH;FMTTYPE=image/png:https://diversionsgames.com/wp-content/uploads/2021/10/4-1.png
END:VEVENT
BEGIN:VEVENT
DTSTART;TZID=America/New_York:20211212T120000
DTEND;TZID=America/New_York:20211212T170000
DTSTAMP:20260420T204832
CREATED:20210623T195606Z
LAST-MODIFIED:20230815T164347Z
UID:10045420-1639310400-1639328400@diversionsgames.com
SUMMARY:Magic: the Gathering Booster Draft
DESCRIPTION:Join us for our weekly booster draft for Magic: Gathering. This is a sanctioned event through Wizards of the Coast. All players\, beginners and seasoned are welcome to come play! Players must pay and register in the store by 11:45AM.\n\n\n\nEntry for the event is $20\, three booster packss and one entry fee. All players must have a Wizards Account with a valid email address. You can create an account here: https://myaccounts.wizards.com/register\n\n\n\n\nIn a booster draft\, players are seated around a table and each player is given three booster packs. Each player opens a pack\, selects a card from it and passes the remaining cards face down to his or her left. Each player then selects one of the remaining cards from the pack that was just passed to him or her\, and passes the remaining cards to the left again. This continues until all of the cards are selected. The process is repeated with the second and third packs\, except that the cards are passed to the right in the second pack. Players then build decks out of any cards that they selected during the drafting and add as many basic lands as they choose. Each deck built this way must have a minimum of 40 cards\, including basic lands. Basic lands are provided.\n\n\n\n\nAfter deckbuilding\, the players are randomly matched up against an opponent and play a best two out of three games match. Players are awarded points for winning and will be matched against equally skilled players in the subsequent rounds. At the end of the tournament\, booster packs or store credit are rewarded to the top three players.\n\n\n\n\nWe highly recommend downloading the Magic Companion App from the App or Play Store to follow along with the progress of the event from your phone!\n\nhttps://locator.wizards.com/store/10812
URL:https://diversionsgames.com/event/magic-the-gathering-booster-draft-4/2021-12-12/
CATEGORIES:Portsmouth
ATTACH;FMTTYPE=image/png:https://diversionsgames.com/wp-content/uploads/2021/06/FB-Event-Cover-Magic.png
END:VEVENT
END:VCALENDAR