BEGIN:VCALENDAR
VERSION:2.0
PRODID:-//Diversions Puzzles &amp; Games - ECPv6.14.0//NONSGML v1.0//EN
CALSCALE:GREGORIAN
METHOD:PUBLISH
X-WR-CALNAME:Diversions Puzzles &amp; Games
X-ORIGINAL-URL:https://diversionsgames.com
X-WR-CALDESC:Events for Diversions Puzzles &amp; Games
REFRESH-INTERVAL;VALUE=DURATION:PT1H
X-Robots-Tag:noindex
X-PUBLISHED-TTL:PT1H
BEGIN:VTIMEZONE
TZID:America/New_York
BEGIN:DAYLIGHT
TZOFFSETFROM:-0500
TZOFFSETTO:-0400
TZNAME:EDT
DTSTART:20220313T070000
END:DAYLIGHT
BEGIN:STANDARD
TZOFFSETFROM:-0400
TZOFFSETTO:-0500
TZNAME:EST
DTSTART:20221106T060000
END:STANDARD
END:VTIMEZONE
BEGIN:VEVENT
DTSTART;TZID=America/New_York:20220113T170000
DTEND;TZID=America/New_York:20220113T210000
DTSTAMP:20260422T043909
CREATED:20210809T140859Z
LAST-MODIFIED:20220107T131803Z
UID:10046410-1642093200-1642107600@diversionsgames.com
SUMMARY:Pokémon Open Play (CANCELED)
DESCRIPTION:Come join us every Thursday for casual Pokemon. This event is open to all ages and levels of play! Please bring your decks\, coins\, and counters to enjoy the fun\, or make new friends – most people are very excited to teach and play and have no problem sharing decks. \n(Note that during COVID\, Pokémon is not officially sanctioning any events)
URL:https://diversionsgames.com/event/pokemon-open-play-2021-12-09-2022-01-13/
CATEGORIES:South Portland
ATTACH;FMTTYPE=image/png:https://diversionsgames.com/wp-content/uploads/2021/06/Copy-of-FB-Event-Cover-Pokemon.png
END:VEVENT
END:VCALENDAR