BEGIN:VCALENDAR
VERSION:2.0
PRODID:-//Diversions Puzzles &amp; Games - ECPv6.14.0//NONSGML v1.0//EN
CALSCALE:GREGORIAN
METHOD:PUBLISH
X-ORIGINAL-URL:https://diversionsgames.com
X-WR-CALDESC:Events for Diversions Puzzles &amp; Games
REFRESH-INTERVAL;VALUE=DURATION:PT1H
X-Robots-Tag:noindex
X-PUBLISHED-TTL:PT1H
BEGIN:VTIMEZONE
TZID:America/New_York
BEGIN:DAYLIGHT
TZOFFSETFROM:-0500
TZOFFSETTO:-0400
TZNAME:EDT
DTSTART:20220313T070000
END:DAYLIGHT
BEGIN:STANDARD
TZOFFSETFROM:-0400
TZOFFSETTO:-0500
TZNAME:EST
DTSTART:20221106T060000
END:STANDARD
END:VTIMEZONE
BEGIN:VEVENT
DTSTART;TZID=America/New_York:20220225T120000
DTEND;TZID=America/New_York:20220227T200000
DTSTAMP:20260425T180907
CREATED:20220106T183320Z
LAST-MODIFIED:20220106T183417Z
UID:10045604-1645790400-1645992000@diversionsgames.com
SUMMARY:Online Used Game Auction
DESCRIPTION:Diversions Puzzles & Games – Portsmouth presents an Online Used Game Auction! This auction is completely online so you can participate anywhere at any time! \n  \nThe auction will be live from Friday\, February 25 at 12:00pm ET through Sunday\, February 27 at 8:00pm ET. Participation in the auction will be held on a third-party website and will be posted & shared via Facebook & e-mail on Friday\, February 25 at 12:00pm. \n  \nAll sellers must complete this submission form to sell games in the auction: https://forms.gle/2HnGF1d4wjB1Wf5j7. Once the form is complete\, sellers may drop off their games at Diversions in Portsmouth between Monday\, January 17 and Sunday\, January 30.\nSellers will receive Diversions store credit for each game of theirs which sold at the highest paid bid. Credit earned from the auction sales cannot be used on other games within the auction as we will not issue sellers’ credit until all payments have been collected. \n  \nGames in the auction will have a minimum starting bid determined by the seller. New bids must be submitted in whole dollar amounts with a minimum increase of $1.00. Each game will have one photo with corresponding details about the game including the condition of the game and any extras/add-ons. Sellers may not bid on their own games. All bids are final\, be prepared to pay for any bid you submit. \n  \nPlease bid at your own risk. While we have required all games to be complete without missing or damaged pieces\, we cannot verify any details about the contents of the game. We cannot field questions about the contents or conditions of individual games. There are too many games and too few resources to honor these requests\, unfortunately. \n  \nWinning bidders will be contacted within one week after the auction ends with an itemized list of your wins and the total amount due. Once contacted\, please call or come in to pay and pick up your new games! Games must be paid for in full by cash\, credit card\, or gift card. Discounts\, coupons\, and rewards are ineligible when purchasing your winnings. All purchased games must be picked up at Diversions in Portsmouth\, NH by Sunday\, March 20. \n  \nWe cannot ship any games bought in the Used Game Auction. All sales are final – no returns or exchanges will be accepted. Once contacted\, sellers will be responsible for picking up their unsold games by Sunday\, March 20. Games not claimed by this date will be considered abandoned and disposed/donated by Diversions.\nIf you want to sell games in the auction\, please complete this form: https://forms.gle/2HnGF1d4wjB1Wf5j7 \nIf you have any questions\, please e-mail us at portsmouth@diversionsgames.com \nHappy selling & bidding! \n 
URL:https://diversionsgames.com/event/online-used-game-auction/
CATEGORIES:Portsmouth
ATTACH;FMTTYPE=image/png:https://diversionsgames.com/wp-content/uploads/2022/01/Portsmouth-Used-Game-Sale-Facebook-Event-Cover-2.png
END:VEVENT
END:VCALENDAR