BEGIN:VCALENDAR
VERSION:2.0
PRODID:-//Diversions Puzzles &amp; Games - ECPv6.14.0//NONSGML v1.0//EN
CALSCALE:GREGORIAN
METHOD:PUBLISH
X-WR-CALNAME:Diversions Puzzles &amp; Games
X-ORIGINAL-URL:https://diversionsgames.com
X-WR-CALDESC:Events for Diversions Puzzles &amp; Games
REFRESH-INTERVAL;VALUE=DURATION:PT1H
X-Robots-Tag:noindex
X-PUBLISHED-TTL:PT1H
BEGIN:VTIMEZONE
TZID:America/New_York
BEGIN:DAYLIGHT
TZOFFSETFROM:-0500
TZOFFSETTO:-0400
TZNAME:EDT
DTSTART:20220313T070000
END:DAYLIGHT
BEGIN:STANDARD
TZOFFSETFROM:-0400
TZOFFSETTO:-0500
TZNAME:EST
DTSTART:20221106T060000
END:STANDARD
END:VTIMEZONE
BEGIN:VEVENT
DTSTART;TZID=America/New_York:20220401T170000
DTEND;TZID=America/New_York:20220401T210000
DTSTAMP:20260425T210057
CREATED:20220325T105128Z
LAST-MODIFIED:20220624T185304Z
UID:10045606-1648832400-1648846800@diversionsgames.com
SUMMARY:Friday Night Magic Open Play
DESCRIPTION:By popular demand\, come on in and join us for Friday Night Magic the Gathering Open Play. Happening simultaneously with our regularly scheduled Friday Game Night\, this event is open to all levels and styles of play.\n\n**This is not an official Wizards of the Coast event and as such results from this event will not count toward any officially sanctioned competitive play or rankings.**
URL:https://diversionsgames.com/event/friday-night-magic-open-play/2022-04-01/
CATEGORIES:South Portland
ATTACH;FMTTYPE=image/jpeg:https://diversionsgames.com/wp-content/uploads/2022/03/277172282_3443992105829542_6354419158116918408_n.jpg
END:VEVENT
END:VCALENDAR