BEGIN:VCALENDAR
VERSION:2.0
PRODID:-//Diversions Puzzles &amp; Games - ECPv6.14.0//NONSGML v1.0//EN
CALSCALE:GREGORIAN
METHOD:PUBLISH
X-WR-CALNAME:Diversions Puzzles &amp; Games
X-ORIGINAL-URL:https://diversionsgames.com
X-WR-CALDESC:Events for Diversions Puzzles &amp; Games
REFRESH-INTERVAL;VALUE=DURATION:PT1H
X-Robots-Tag:noindex
X-PUBLISHED-TTL:PT1H
BEGIN:VTIMEZONE
TZID:America/New_York
BEGIN:DAYLIGHT
TZOFFSETFROM:-0500
TZOFFSETTO:-0400
TZNAME:EDT
DTSTART:20250309T070000
END:DAYLIGHT
BEGIN:STANDARD
TZOFFSETFROM:-0400
TZOFFSETTO:-0500
TZNAME:EST
DTSTART:20251102T060000
END:STANDARD
END:VTIMEZONE
BEGIN:VEVENT
DTSTART;TZID=America/New_York:20250518T100000
DTEND;TZID=America/New_York:20250518T140000
DTSTAMP:20260425T150739
CREATED:20250106T172239Z
LAST-MODIFIED:20250106T172334Z
UID:10053578-1747562400-1747576800@diversionsgames.com
SUMMARY:Star Wars: Unlimited Weekly Play
DESCRIPTION:Join us for Star Wars Unlimited Weekly Play – a casual event to learn\, play\, and trade this new and growing TCG. Every Sunday from 10am to 2pm! Promos and prizes will be given out to attendees from the official Organized Play Weekly Kits.
URL:https://diversionsgames.com/event/star-wars-unlimited-weekly-play-2-2/2025-05-18/
CATEGORIES:South Portland
ATTACH;FMTTYPE=image/jpeg:https://diversionsgames.com/wp-content/uploads/2024/07/471613729_1154732943318978_7686291457270349196_n.jpg
END:VEVENT
BEGIN:VEVENT
DTSTART;TZID=America/New_York:20250518T100000
DTEND;TZID=America/New_York:20250518T180000
DTSTAMP:20260425T150739
CREATED:20250312T203301Z
LAST-MODIFIED:20250415T212539Z
UID:10054250-1747562400-1747591200@diversionsgames.com
SUMMARY:Disney Lorcana: Archazia's Island Set Championship
DESCRIPTION:Join Diversions Puzzles & Games on Sunday\, May 18 at 10:00am for our Disney Lorcana: Archazia’s Island Set Championship! \n  \nRegistration: $25 per person payable in person on the day of the event. League members will be given access to register beginning Thursday\, March 20. If any seats remain\, ticket reservations will become available beginning at 10:00am on Friday\, April 18. \n  \nCheck In: Please check in between 9:00am and 9:45am on the day of the event. We will begin pairings right at 10:00am. \n  \nFormat and Deck Lists: Best-of-3 \nThis tournament is in the Constructed (Core) format. Each player must bring one deck to the event which they have built ahead of time. Constructed decks must contain at least 60 cards. There is no maximum deck size\, but a player must be able to shuffle their deck in a timely manner without assistance. Constructed decks must not contain cards from more than two ink colors. For example\, if a deck contains Amber and Amethyst cards\, it must not contain any Emerald\, Ruby\, Sapphire\, or Steel cards. Constructed decks must not contain more than four of a single card as identified by its full English card name. Character cards with different subtitles are considered different cards for purposes of this rule. For example\, a deck may contain up to four copies of Ariel – On Human Legs as well as up to four copies of Ariel – Spectacular Singer. Cards from The First Chapter\, Rise of the Floodborn\, Into the Inklands\, Ursula’s Return\, Shimmering Skies\, Azurite Sea\, and Archazia’s Island are legal for play in this tournament. \nOfficially banned cards are not permitted to be used at this event. \nYou must use the same deck for the duration of the event. Decklist registration will be required. Please submit a hardcopy at the time of in-store check-in. \nThis is a Swiss-style tournament. Each round is 50-minutes in length. Each round is played in the Best-of-3 Format. The number of rounds in the tournament will be dependent on the number of attendees. Playoff rounds will be played after the Swiss rounds including players with the highest standings. The playoffs are single-elimination rounds until one undefeated player is remaining as the tournament champion. Playoff rounds will be played in a “Best-of 3” match up. Number of rounds and top cut depends on total attendance: \n\n8 players: 3 rounds\, no cut\n9-16 players: 4 rounds\, cut to top 4\n17+ players: 5 rounds\, cut to top 8\n\n  \nPrizing:\n1st place: Hiro Hamada – Armor Designer Champion playmat\, Hiro Hamada – Armor Designer Alt Art Foil Card\n2nd – 8th places: Hiro Hamada – Armor Designer Alt Art Foil Card \nAll players will receive a Hiro Hamada – Armor Designer Alt Art Non-Foil card. In addition to the official prizing\, 3 random booster packs or the store credit equivalent will be included in the prize pool for each registered player in the event and distributed amongst all players. Additional prizing and promos may be added on and announced on the day of the event. \nFor full tournament rules please go to: https://shorturl.at/u8onQ
URL:https://diversionsgames.com/event/disney-lorcana-archazias-island-set-championship/
CATEGORIES:Somersworth
ATTACH;FMTTYPE=image/png:https://diversionsgames.com/wp-content/uploads/2025/03/Somersworth-DLAI-SC.png
END:VEVENT
END:VCALENDAR