BEGIN:VCALENDAR
VERSION:2.0
PRODID:-//Diversions Puzzles &amp; Games - ECPv6.14.0//NONSGML v1.0//EN
CALSCALE:GREGORIAN
METHOD:PUBLISH
X-ORIGINAL-URL:https://diversionsgames.com
X-WR-CALDESC:Events for Diversions Puzzles &amp; Games
REFRESH-INTERVAL;VALUE=DURATION:PT1H
X-Robots-Tag:noindex
X-PUBLISHED-TTL:PT1H
BEGIN:VTIMEZONE
TZID:America/New_York
BEGIN:DAYLIGHT
TZOFFSETFROM:-0500
TZOFFSETTO:-0400
TZNAME:EDT
DTSTART:20250309T070000
END:DAYLIGHT
BEGIN:STANDARD
TZOFFSETFROM:-0400
TZOFFSETTO:-0500
TZNAME:EST
DTSTART:20251102T060000
END:STANDARD
END:VTIMEZONE
BEGIN:VEVENT
DTSTART;TZID=America/New_York:20250606T170000
DTEND;TZID=America/New_York:20250606T210000
DTSTAMP:20260423T101459
CREATED:20250106T171817Z
LAST-MODIFIED:20251205T195921Z
UID:10053471-1749229200-1749243600@diversionsgames.com
SUMMARY:Board Game Night
DESCRIPTION:Join us every Friday evening for our weekly board game night featuring light\, medium\, and heavy strategy games. Bring your favorites or try out some of our demos. (Games need to be family friendly). Stop in and play a game or two!
URL:https://diversionsgames.com/event/secret-game-night-3/2025-06-06/
CATEGORIES:South Portland
ATTACH;FMTTYPE=image/jpeg:https://diversionsgames.com/wp-content/uploads/2025/01/471434003_1154720463320226_146561356160475220_n.jpg
END:VEVENT
BEGIN:VEVENT
DTSTART;TZID=America/New_York:20250606T170000
DTEND;TZID=America/New_York:20250606T210000
DTSTAMP:20260423T101459
CREATED:20250116T152536Z
LAST-MODIFIED:20250116T152536Z
UID:10053917-1749229200-1749243600@diversionsgames.com
SUMMARY:Magic: The Gathering - Commander
DESCRIPTION:Join us for an evening of Magic: the Gathering – Commander!\n\nThis event is free and open to all players\, new & seasoned alike. Players do need to bring their own Commander deck to play with at the event. Please call to see if we have any decks available to purchase.\nPlease check in for the event inside the store upon arrival!\n\nHere are the basic rules for Commander:\nYOUR DECK:*1 commander card (legendary creature)*99 other cards*Only one copy of any card\, except basic lands*All cards must be in the color identity of the commander\nTHE GAME:*2–6 players*Free-for-all multiplayer format*Start with 40 life*All commanders start in their command zone*Take turns in clockwise order*Last player standing wins\n\nMore info about Commander:https://mtgcommander.net/ind…/the-philosophy-of-commander/\n\n\nWhere can I park?-Free parking is available at the Masonic Temple Lot at the corner of Middle St & Miller St (5-minute walk)-Parking is available at the Foundry Garage for $1/hr (6-minute walk)-Parking is available directly behind the store in the Worth Lot for $2/hr for the first three hours\, and $5/hr each hour after.
URL:https://diversionsgames.com/event/magic-the-gathering-commander-2/2025-06-06/
CATEGORIES:Portsmouth
ATTACH;FMTTYPE=image/jpeg:https://diversionsgames.com/wp-content/uploads/2025/01/473622299_1149982480465527_4491078968270362250_n.jpg
END:VEVENT
BEGIN:VEVENT
DTSTART;TZID=America/New_York:20250606T170000
DTEND;TZID=America/New_York:20250606T210000
DTSTAMP:20260423T101459
CREATED:20250516T202701Z
LAST-MODIFIED:20250516T203354Z
UID:10054366-1749229200-1749243600@diversionsgames.com
SUMMARY:Magic: the Gathering - Final Fantasy Prerelease
DESCRIPTION:Join us for the Magic the Gathering: Final Fantasy Prerelease at Diversions Puzzles & Games – Portsmouth! We will be hosting two prerelease events: \nFri\, June 6\, 5:00pm\nSun\, June 8\, 12:00pm \n  \n>>Registration & Check-In<< \nTo register\, players must submit a seat reservation on Eventbrite. Seat reservations will have first priority for participation on the day of the event. Walk-ins will be processed on first come\, first serve\, after all pre-registrations have been processed. Player cap is 22 players. \nCheck-In begins one hour before the event starts. Entry is $39.99 and will be collected when you check-in at the store. \nPlayers must have an active Wizards Account with a valid email to participate. You can register for an account here: \nhttps://myaccounts.wizards.com/register \n  \n>>Format<< \nPrereleases are Sealed Deck format events\, where you build a minimum 40-card deck using the contents of a Prerelease Pack (6 booster packs) and a Premium date-stamped promo card) plus basic lands that are provided to you by the store. \nAfter your deck is built\, you’ll be randomly paired with another player for a best-of-three match. Each round you’ll report who won and be paired up with a new player. You may use any of your remaining cards for a sideboard. \nEach person may only purchase one pre-release pack for use during the event. No outside cards are permitted. \n  \n>>Prizing<< \nPrerelease events are casual events and we distribute an equal number of booster packs to all attendees for participating. The number of packs distributed depends on the number of players at the event. \nMetered parking is available in the Worth Lot behind the store.
URL:https://diversionsgames.com/event/magic-the-gathering-final-fantasy-prerelease/2025-06-06/
CATEGORIES:Portsmouth
ATTACH;FMTTYPE=image/png:https://diversionsgames.com/wp-content/uploads/2025/05/Magic-FIN-FB.png
END:VEVENT
END:VCALENDAR