BEGIN:VCALENDAR
VERSION:2.0
PRODID:-//Diversions Puzzles &amp; Games - ECPv6.14.0//NONSGML v1.0//EN
CALSCALE:GREGORIAN
METHOD:PUBLISH
X-WR-CALNAME:Diversions Puzzles &amp; Games
X-ORIGINAL-URL:https://diversionsgames.com
X-WR-CALDESC:Events for Diversions Puzzles &amp; Games
REFRESH-INTERVAL;VALUE=DURATION:PT1H
X-Robots-Tag:noindex
X-PUBLISHED-TTL:PT1H
BEGIN:VTIMEZONE
TZID:America/New_York
BEGIN:DAYLIGHT
TZOFFSETFROM:-0500
TZOFFSETTO:-0400
TZNAME:EDT
DTSTART:20250309T070000
END:DAYLIGHT
BEGIN:STANDARD
TZOFFSETFROM:-0400
TZOFFSETTO:-0500
TZNAME:EST
DTSTART:20251102T060000
END:STANDARD
END:VTIMEZONE
BEGIN:VEVENT
DTSTART;TZID=America/New_York:20250608T100000
DTEND;TZID=America/New_York:20250608T140000
DTSTAMP:20260423T071336
CREATED:20250106T172239Z
LAST-MODIFIED:20250106T172334Z
UID:10053581-1749376800-1749391200@diversionsgames.com
SUMMARY:Star Wars: Unlimited Weekly Play
DESCRIPTION:Join us for Star Wars Unlimited Weekly Play – a casual event to learn\, play\, and trade this new and growing TCG. Every Sunday from 10am to 2pm! Promos and prizes will be given out to attendees from the official Organized Play Weekly Kits.
URL:https://diversionsgames.com/event/star-wars-unlimited-weekly-play-2-2/2025-06-08/
CATEGORIES:South Portland
ATTACH;FMTTYPE=image/jpeg:https://diversionsgames.com/wp-content/uploads/2024/07/471613729_1154732943318978_7686291457270349196_n.jpg
END:VEVENT
BEGIN:VEVENT
DTSTART;TZID=America/New_York:20250608T120000
DTEND;TZID=America/New_York:20250608T170000
DTSTAMP:20260423T071336
CREATED:20250516T202701Z
LAST-MODIFIED:20250516T203354Z
UID:10054367-1749384000-1749402000@diversionsgames.com
SUMMARY:Magic: the Gathering - Final Fantasy Prerelease
DESCRIPTION:Join us for the Magic the Gathering: Final Fantasy Prerelease at Diversions Puzzles & Games – Portsmouth! We will be hosting two prerelease events: \nFri\, June 6\, 5:00pm\nSun\, June 8\, 12:00pm \n  \n>>Registration & Check-In<< \nTo register\, players must submit a seat reservation on Eventbrite. Seat reservations will have first priority for participation on the day of the event. Walk-ins will be processed on first come\, first serve\, after all pre-registrations have been processed. Player cap is 22 players. \nCheck-In begins one hour before the event starts. Entry is $39.99 and will be collected when you check-in at the store. \nPlayers must have an active Wizards Account with a valid email to participate. You can register for an account here: \nhttps://myaccounts.wizards.com/register \n  \n>>Format<< \nPrereleases are Sealed Deck format events\, where you build a minimum 40-card deck using the contents of a Prerelease Pack (6 booster packs) and a Premium date-stamped promo card) plus basic lands that are provided to you by the store. \nAfter your deck is built\, you’ll be randomly paired with another player for a best-of-three match. Each round you’ll report who won and be paired up with a new player. You may use any of your remaining cards for a sideboard. \nEach person may only purchase one pre-release pack for use during the event. No outside cards are permitted. \n  \n>>Prizing<< \nPrerelease events are casual events and we distribute an equal number of booster packs to all attendees for participating. The number of packs distributed depends on the number of players at the event. \nMetered parking is available in the Worth Lot behind the store.
URL:https://diversionsgames.com/event/magic-the-gathering-final-fantasy-prerelease/2025-06-08/
CATEGORIES:Portsmouth
ATTACH;FMTTYPE=image/png:https://diversionsgames.com/wp-content/uploads/2025/05/Magic-FIN-FB.png
END:VEVENT
END:VCALENDAR