BEGIN:VCALENDAR
VERSION:2.0
PRODID:-//Diversions Puzzles &amp; Games - ECPv6.14.0//NONSGML v1.0//EN
CALSCALE:GREGORIAN
METHOD:PUBLISH
X-ORIGINAL-URL:https://diversionsgames.com
X-WR-CALDESC:Events for Diversions Puzzles &amp; Games
REFRESH-INTERVAL;VALUE=DURATION:PT1H
X-Robots-Tag:noindex
X-PUBLISHED-TTL:PT1H
BEGIN:VTIMEZONE
TZID:America/New_York
BEGIN:DAYLIGHT
TZOFFSETFROM:-0500
TZOFFSETTO:-0400
TZNAME:EDT
DTSTART:20250309T070000
END:DAYLIGHT
BEGIN:STANDARD
TZOFFSETFROM:-0400
TZOFFSETTO:-0500
TZNAME:EST
DTSTART:20251102T060000
END:STANDARD
END:VTIMEZONE
BEGIN:VEVENT
DTSTART;TZID=America/New_York:20250619T170000
DTEND;TZID=America/New_York:20250619T210000
DTSTAMP:20260423T055731
CREATED:20250116T152221Z
LAST-MODIFIED:20250116T152357Z
UID:10053819-1750352400-1750366800@diversionsgames.com
SUMMARY:Star Wars: Unlimited Weekly Play
DESCRIPTION:Weekly Play involves simple\, open-ended\, weekly events that stores host for Star Wars: Unlimited. Weekly Play is constant and consistently run from the release of a new set onward—the whole point is for it to be available every week\, after all! Whether a Weekly Play event is a short tournament or a simple\, casual gathering is up to each individual store; all that matters is that participating stores have a night each week where you and your friends can stop in to play some Star Wars: Unlimited. This phase is supported by a special OP kit\, from which you can earn a unique promo pack each week that you participate in your store’s Weekly Play.\n\n\nWeekly Play at Diversions Puzzles & Games allows players to choose how they want to play Star Wars: Unlimited during the evening – casual constructed 1v1s\, Twin Suns\, or draft are all available for the store to run\, with player consensus!\n\n\nWhere can I park?-Free parking is available at the Masonic Temple Lot at the corner of Middle St & Miller St (5-minute walk)-Parking is available at the Foundry Garage for $1/hr (6-minute walk)-Parking is available directly behind the store in the Worth Lot for $2/hr for the first three hours\, and $5/hr each hour after.
URL:https://diversionsgames.com/event/star-wars-unlimited-weekly-play-7/2025-06-19/
CATEGORIES:Portsmouth
ATTACH;FMTTYPE=image/jpeg:https://diversionsgames.com/wp-content/uploads/2025/01/473620297_1149979753799133_6897703479610110789_n.jpg
END:VEVENT
BEGIN:VEVENT
DTSTART;TZID=America/New_York:20250619T173000
DTEND;TZID=America/New_York:20250619T210000
DTSTAMP:20260423T055731
CREATED:20250603T161429Z
LAST-MODIFIED:20250603T161429Z
UID:10054415-1750354200-1750366800@diversionsgames.com
SUMMARY:Disney Lorcana: Reign of Jafar - Pack Rush Tiered Tournament
DESCRIPTION:Rush\, don’t walk down to our Pack Rush Tournament! This Disney Lorcana event will combine the Pack Rush and standard Sealed rules for a fun progressive tournament! \nOver the course of three rounds\, players will be matched up to compete in best-of-three style games that move from Pack Rush style in the first round to a more traditional sealed style in the last\, in the following format: \n\nRound 1 – Pack Rush: Players will receive 2 packs of Disney Lorcana: Reign of Jafar. They will open the packs without looking at the cards and set the marketing/promo cards aside as their starting ink (2 for this round). They will then shuffle the remaining 24 cards together without looking and decide who is the starting player. The first to 15 Lore wins. If you run out of cards in your deck\, you will reshuffle your discard pile into a new draw pile.\nRound 2 – Advanced Pack Rush: Players will receive 2 additional packs of Disney Lorcana: Reign of Jafar. They will open the packs without looking at the cards and set one of the marketing/promo cards aside as their starting ink (3 for this round). They will then shuffle the remaining 24 cards together without looking and decide who is the starting player. The first to 17 Lore wins. If you run out of cards in your deck\, you will reshuffle your discard pile into a new draw pile.\nRound 3 – Sealed: Players will receive two additional booster pack of Disney Lorcana: Reign of Jafar\, which they can view and add to their existing cards to build a standard 60 card deck (with no Ink or duplicate card limits). They will then be paired off with another player to play a standard best-of-three first to 20 Lore game\, as in a standard sealed event.\n\nThis event will be run on Melee and as such the first-round match ups will be decided randomly with subsequent matchings based on current results. \nCost to participate in this event is $41.93 (+tax) and includes the 6 packs of cards needed for the event and an entry fee.\nPrizes for the top three finishers will be given out in the form of booster packs\, based on event attendance.
URL:https://diversionsgames.com/event/disney-lorcana-reign-of-jafar-pack-rush-tiered-tournament/
CATEGORIES:South Portland
ATTACH;FMTTYPE=image/jpeg:https://diversionsgames.com/wp-content/uploads/2025/06/503258751_1294348426024095_2590695550198279208_n.jpg
END:VEVENT
BEGIN:VEVENT
DTSTART;TZID=America/New_York:20250619T180000
DTEND;TZID=America/New_York:20250619T210000
DTSTAMP:20260423T055731
CREATED:20250515T153932Z
LAST-MODIFIED:20250515T154127Z
UID:10054359-1750356000-1750366800@diversionsgames.com
SUMMARY:Disney Lorcana: Starter Deck League
DESCRIPTION:Reign of Jafar – League\, Play\, and Trade \nThursdays 6:00 PM – 9:00 PM\, June 12-July 10 \nJoin us for Reign of Jafar – League\, Play\, and Trade! This is the perfect opportunity to learn how to play Disney: Lorcana\, experience the new sets cards\, and improve your deck construction skills. Show up anytime before 6:00pm for constructed play\, and beginning at 6:00pm you can buy in for our Weekly Starter Deck League and begin opening packs and trading\, building\, and playing. \nCost: Initial entry cost is $29.99 and each player will receive one starter deck of their choice from Reign of Jafar\, one deck box\, and one additional booster pack\, all of which is yours to keep at the end of league. If you have a deck box from the previous league or want to bring your own\, the cost to enter will be $22.98 – one starter deck and one booster pack. \nEach week thereafter the entry fee is $11.98 and includes 2 booster packs to trade and build your deck with. \nOn the final week\, July 10th\, we will have a constructed tournament where the entry fee of $11.98 will include one pack for your deck\, and one pack for the prize pool. We will begin construction right at 6:00pm and our tournament will begin at 6:30pm\, 3-rounds\, 2-game format. \nHow it Works: Sign-ups are first come first serve until league is filled (30 players maximum) – call or sign-up in store.\nThe first week you will use your Starter Deck and pack to build a 60-card deck using all 6 colors. All other normal constructed rules apply. Each week\, you will get two additional packs to add on to your deck\, or you can trade for cards you need with other players\, and you will use one less color in your deck. \nWe will trade and build\, and then play with other league players to earn prizes. Your league deck and cards will be stored at Diversions in your deck box. At the end of league\, you will take home your decks\, cards\, deck boxes\, and some fun goodies! \nAdditional guidelines:\n-You are welcome to play constructed on league night to hone your tournament/championship decks.\n-Only cards received as part of league weekly entry boosters can be added to an Official League Deck. These can be cards you opened in your pack\, or cards you traded with another league member from their league pack.\n-Folks who wish to join late or who miss a week can catch up by back-paying weekly entry fees. \nLeague Rules:\n-No proxies are allowed in league games.\n-Cards from league packs may be traded with other players in-store. Selling or buying cards from players is prohibited for league decks.\n-Good sportsmanship is expected. This is a fun game!​\n-You must provide your email for your Melee account. If you do not have one\, you will need to create one to participate in the League and our final tournament.
URL:https://diversionsgames.com/event/disney-lorcana-starter-deck-league/2025-06-19/
CATEGORIES:Somersworth
ATTACH;FMTTYPE=image/jpeg:https://diversionsgames.com/wp-content/uploads/2025/05/Starter-Deck-League.jpg
END:VEVENT
END:VCALENDAR