BEGIN:VCALENDAR
VERSION:2.0
PRODID:-//Diversions Puzzles &amp; Games - ECPv6.14.0//NONSGML v1.0//EN
CALSCALE:GREGORIAN
METHOD:PUBLISH
X-WR-CALNAME:Diversions Puzzles &amp; Games
X-ORIGINAL-URL:https://diversionsgames.com
X-WR-CALDESC:Events for Diversions Puzzles &amp; Games
REFRESH-INTERVAL;VALUE=DURATION:PT1H
X-Robots-Tag:noindex
X-PUBLISHED-TTL:PT1H
BEGIN:VTIMEZONE
TZID:America/New_York
BEGIN:DAYLIGHT
TZOFFSETFROM:-0500
TZOFFSETTO:-0400
TZNAME:EDT
DTSTART:20250309T070000
END:DAYLIGHT
BEGIN:STANDARD
TZOFFSETFROM:-0400
TZOFFSETTO:-0500
TZNAME:EST
DTSTART:20251102T060000
END:STANDARD
END:VTIMEZONE
BEGIN:VEVENT
DTSTART;TZID=America/New_York:20250622T100000
DTEND;TZID=America/New_York:20250622T140000
DTSTAMP:20260422T212512
CREATED:20250106T172239Z
LAST-MODIFIED:20250106T172334Z
UID:10053583-1750586400-1750600800@diversionsgames.com
SUMMARY:Star Wars: Unlimited Weekly Play
DESCRIPTION:Join us for Star Wars Unlimited Weekly Play – a casual event to learn\, play\, and trade this new and growing TCG. Every Sunday from 10am to 2pm! Promos and prizes will be given out to attendees from the official Organized Play Weekly Kits.
URL:https://diversionsgames.com/event/star-wars-unlimited-weekly-play-2-2/2025-06-22/
CATEGORIES:South Portland
ATTACH;FMTTYPE=image/jpeg:https://diversionsgames.com/wp-content/uploads/2024/07/471613729_1154732943318978_7686291457270349196_n.jpg
END:VEVENT
BEGIN:VEVENT
DTSTART;TZID=America/New_York:20250622T100000
DTEND;TZID=America/New_York:20250622T180000
DTSTAMP:20260422T212512
CREATED:20250513T183353Z
LAST-MODIFIED:20250604T142020Z
UID:10054353-1750586400-1750615200@diversionsgames.com
SUMMARY:Disney Lorcana: Constructed Reign of Jafar Case Tournament
DESCRIPTION:Win your share of a case of the newest Disney Lorcana set\, Reign of Jafar! Pre-registration is highly recommended as events often reach capacity.\n>Entry Fee: $30\, paid in-store day of event>Format: Core constructed\, best-of-3>Registration/Check in begins at 9:30>Decklists Required>Max Player Count: 30>Prizing*1st: Booster Box of Return of Jafar2nd: 16 boosters3rd: 10 boosters4th: 10 boosters5th-8th: 6 boosters9th-30th: 1 booster\n\n*Requires minimum 20 people for full prizing. Prizing may be less with fewer participants*You MUST pre-register on Melee to guarantee your spot. Walk-ins are welcome only if space allows https://melee.gg/Tournament/View/307514
URL:https://diversionsgames.com/event/disney-lorcana-constructed-reign-of-jafar-case-tournament/
CATEGORIES:Somersworth
ATTACH;FMTTYPE=image/png:https://diversionsgames.com/wp-content/uploads/2025/05/Copy-of-Reign-of-Jafar-Events-Template.png
END:VEVENT
BEGIN:VEVENT
DTSTART;TZID=America/New_York:20250622T110000
DTEND;TZID=America/New_York:20250622T170000
DTSTAMP:20260422T212512
CREATED:20250522T191015Z
LAST-MODIFIED:20250609T133550Z
UID:10054368-1750590000-1750611600@diversionsgames.com
SUMMARY:Star Wars: Unlimited - Constructed Tournament (Padawan Format)
DESCRIPTION:Join us on Sunday\, June 22 for a special Star Wars: Unlimited tournament! This tournament starts at 11:00am. See “Deck Rules” for the special rules about this event.\n\n>>Registration & Check-In<<\nRegistration/check-in in person on Sunday\, June 22\, 10:00-10:45AM. Entry fee of $15.00 is due upon check-in.\n\n>>Format<<\nThis is a Swiss-style tournament\, played in Best-of-3 format. Each round is 55-minutes in length. There will be 4 Swiss rounds\, followed by a Top 4 cut. Playoff rounds will be played after the Swiss rounds including players with the highest standings. The playoffs are best-of-3\, single-elimination rounds until one undefeated player is remaining as the tournament champion.\nThis event will be run on Melee.gg – please create an account prior to the event.\n\n>>Deck rules<<\nWe are playing with the unofficial “Padawan” format in this event. All cards in your deck must be a base set release card marked with COMMON or UNCOMMON rarity only. No rare\, legendary\, or Starter (S) cards are permitted\, including your leader and base. Alternate arts cards are permitted *if* the matching original base card is common/uncommon.\nYour deck must consist of exactly one leader\, exactly one base\, and a minimum 50-card draw deck. You can also have a sideboard of up to 10 non-leader\, non-base cards. Your draw deck cannot include more than three copies of any one card. Officially suspended cards cannot be included in your deck. https://starwarsunlimited.gg/suspended-cards/\n\n>>Prizing<<\nBooster packs will be awarded to the top 4 players\, depending on total turnout. Additional prize packs may be awarded to additional players\, depending on turnout. Promos from previous OP kits may be distributed as well. Everyone will receive one booster pack for attending.
URL:https://diversionsgames.com/event/star-wars-unlimited-constructed-tournament-padawan-format/
CATEGORIES:Portsmouth
ATTACH;FMTTYPE=image/png:https://diversionsgames.com/wp-content/uploads/2025/05/SWU-Padawan.png
END:VEVENT
BEGIN:VEVENT
DTSTART;TZID=America/New_York:20250622T140000
DTEND;TZID=America/New_York:20250622T160000
DTSTAMP:20260422T212512
CREATED:20250617T153838Z
LAST-MODIFIED:20250617T153838Z
UID:10054420-1750600800-1750608000@diversionsgames.com
SUMMARY:Kendall Hale Autograph Signing
DESCRIPTION:Join us in-store for a special appearance by Disney’s Lorcana artist\, Kendall Hale. Sunday June\, 22nd. 2-4 pm* Bring your favorite card to have signed or use one of the many Diversions will have available. \nAutographs are priced as follows:\n$10 – any card signed and personalized to someone’s name\n$40 – any normal card signed\, no personalization\n$100 – Enchanted Mickey Rogue signed\, no personalization\n+$10-100 – Doodles on card\, prices vary based on request \nKendall Hale is an illustrator and cartoonist currently living in Los Angeles\, California with his wife and two children. He’s been designing cards for the Disney Lorcana Trading Card Game since their first set and is mainly recognized for his work on the Enchanted Mickey Mouse Artful Rogue\, all of the original Seven Dwarfs\, and Simba Pride Protector cards\, among many others. Kendall has also designed characters for several TV shows\, including Spongebob Squarepants and The Patrick Star Show and regularly works in TV animation. \nYou can find Kendall and his art on Instagram @Kendallhaleart \n*Signing times are approximate as travel plans allow.*
URL:https://diversionsgames.com/event/kendall-hale-autograph-signing/
CATEGORIES:Somersworth
ATTACH;FMTTYPE=image/png:https://diversionsgames.com/wp-content/uploads/2025/06/Copy-of-KENDALL-HALE-Instagram-Post-45.png
END:VEVENT
END:VCALENDAR