BEGIN:VCALENDAR
VERSION:2.0
PRODID:-//Diversions Puzzles &amp; Games - ECPv6.14.0//NONSGML v1.0//EN
CALSCALE:GREGORIAN
METHOD:PUBLISH
X-WR-CALNAME:Diversions Puzzles &amp; Games
X-ORIGINAL-URL:https://diversionsgames.com
X-WR-CALDESC:Events for Diversions Puzzles &amp; Games
REFRESH-INTERVAL;VALUE=DURATION:PT1H
X-Robots-Tag:noindex
X-PUBLISHED-TTL:PT1H
BEGIN:VTIMEZONE
TZID:America/New_York
BEGIN:DAYLIGHT
TZOFFSETFROM:-0500
TZOFFSETTO:-0400
TZNAME:EDT
DTSTART:20250309T070000
END:DAYLIGHT
BEGIN:STANDARD
TZOFFSETFROM:-0400
TZOFFSETTO:-0500
TZNAME:EST
DTSTART:20251102T060000
END:STANDARD
END:VTIMEZONE
BEGIN:VEVENT
DTSTART;TZID=America/New_York:20250802T100000
DTEND;TZID=America/New_York:20250802T180000
DTSTAMP:20260422T120204
CREATED:20240701T184600Z
LAST-MODIFIED:20240701T191429Z
UID:10049945-1754128800-1754157600@diversionsgames.com
SUMMARY:Saturday Board Games
DESCRIPTION:Saturdays are for board games! We invite you to stop in for light\, medium\, and heavy strategy games! Bring your favorites or try out some of our demos. There is plenty of free parking and quick-serve food options nearby.
URL:https://diversionsgames.com/event/saturday-board-games-2-2-2/2025-08-02/
CATEGORIES:Somersworth
ATTACH;FMTTYPE=image/png:https://diversionsgames.com/wp-content/uploads/2023/09/Wingspan.-Photo-from-Stonemaier-Games.png
END:VEVENT
BEGIN:VEVENT
DTSTART;TZID=America/New_York:20250802T110000
DTEND;TZID=America/New_York:20250802T170000
DTSTAMP:20260422T120204
CREATED:20250703T152323Z
LAST-MODIFIED:20250703T152323Z
UID:10054433-1754132400-1754154000@diversionsgames.com
SUMMARY:Disney Lorcana: Reign of Jafar Set Championship
DESCRIPTION:Join Diversions Puzzles & Games on Saturday\, August 2 for our Disney Lorcana: Reign of Jafar Set Championship! Registration is $25 per person payable in person on the day of the event. Spots can be reserved in advance via Carde.io starting on Wednesday 7/2/25 at 11:00AM.\n\nSeat Reservations: https://tcg.ravensburgerplay.com/events/161122\n\nThis tournament is in the Constructed (Core) format. Each player must bring one deck to the event which they have built ahead of time. Constructed decks must contain at least 60 cards. There is no maximum deck size\, but a player must be able to shuffle their deck in a timely manner without assistance. Constructed decks must not contain cards from more than two ink colors. For example\, if a deck contains Amber and Amethyst cards\, it must not contain any Emerald\, Ruby\, Sapphire\, or Steel cards. Constructed decks must not contain more than four of a single card as identified by its full English card name. Character cards with different subtitles are considered different cards for purposes of this rule. For example\, a deck may contain up to four copies of Ariel – On Human Legs as well as up to four copies of Ariel – Spectacular Singer. Cards from The First Chapter\, Rise of the Floodborn\, Into the Inklands\, Ursula’s Return\, Shimmering Skies\, Azurite Sea\, Archazia’s Island\, and Reign of Jafar are legal for play in this tournament. You must use the same deck for the duration of the event. Decklist registration will be required. Please submit a hardcopy at the time of in-store check-in. This is a Swiss-style tournament. Each round is 50-minutes in length. Each round is played in the 3-Game Format. The number of rounds in the tournament will be dependent on the number of attendees. Playoff rounds will be played after the Swiss rounds including players with the highest standings. The playoffs are single-elimination rounds until one undefeated player is remaining as the tournament champion. Playoff rounds will be played in a “Best-of 3” match up. 8 players: 3 rounds\, no cut 9-16 players: 4 rounds\, cut to top 4 17-32 players: 5 rounds\, cut to top 8\n\nPrizing of this tournament is:\n1st place: Reign of Jafar Set Champion playmat\, Jafar – High Sultan of Lorcana Alt Art Foil Card\, + RoJ packs\n2nd – 8th places: Jafar – High Sultan of Lorcana Alt Art Foil Card + RoJ packs\nAll players will receive a Jafar – High Sultan of Lorcana Alt Art Non-Foil card\n\nIn addition to the official prizing\, two booster packs will be included in the prize pool for each registered player in the event and distributed amongst the top 8 players. Additional prizing and promos may be added on and announced on the day of the event.
URL:https://diversionsgames.com/event/disney-lorcana-reign-of-jafar-set-championship/
CATEGORIES:South Portland
ATTACH;FMTTYPE=image/png:https://diversionsgames.com/wp-content/uploads/2025/07/SC-Generic.png
END:VEVENT
BEGIN:VEVENT
DTSTART;TZID=America/New_York:20250802T160000
DTEND;TZID=America/New_York:20250802T233000
DTSTAMP:20260422T120204
CREATED:20250203T155943Z
LAST-MODIFIED:20260101T032654Z
UID:10054033-1754150400-1754177400@diversionsgames.com
SUMMARY:Late Night Gaming
DESCRIPTION:The first Saturday of each month is late night gaming at Diversions Puzzles & Games! Show up for an evening of open board gaming. Bring your own games or choose games from our library of strategy and family games. Everyone is welcome! Outside food is okay but please be respectful of other people’s games and belongings.\n\nWhere can I park?-Free parking is available at the Masonic Temple Lot at the corner of Middle St & Miller St (5-minute walk)-Parking is available at the Foundry Garage for $1/hr (6-minute walk)-Parking is available directly behind the store in the Worth Lot for $2/hr for the first three hours\, and $5/hr each hour after
URL:https://diversionsgames.com/event/late-night-gaming-17/2025-08-02/
CATEGORIES:Portsmouth
ATTACH;FMTTYPE=image/jpeg:https://diversionsgames.com/wp-content/uploads/2025/02/475429960_1163575849106190_6299712794172342002_n.jpg
END:VEVENT
END:VCALENDAR