BEGIN:VCALENDAR
VERSION:2.0
PRODID:-//Diversions Puzzles &amp; Games - ECPv6.14.0//NONSGML v1.0//EN
CALSCALE:GREGORIAN
METHOD:PUBLISH
X-WR-CALNAME:Diversions Puzzles &amp; Games
X-ORIGINAL-URL:https://diversionsgames.com
X-WR-CALDESC:Events for Diversions Puzzles &amp; Games
REFRESH-INTERVAL;VALUE=DURATION:PT1H
X-Robots-Tag:noindex
X-PUBLISHED-TTL:PT1H
BEGIN:VTIMEZONE
TZID:America/New_York
BEGIN:DAYLIGHT
TZOFFSETFROM:-0500
TZOFFSETTO:-0400
TZNAME:EDT
DTSTART:20250309T070000
END:DAYLIGHT
BEGIN:STANDARD
TZOFFSETFROM:-0400
TZOFFSETTO:-0500
TZNAME:EST
DTSTART:20251102T060000
END:STANDARD
END:VTIMEZONE
BEGIN:VEVENT
DTSTART;TZID=America/New_York:20250816T100000
DTEND;TZID=America/New_York:20250816T180000
DTSTAMP:20260419T195201
CREATED:20240701T184600Z
LAST-MODIFIED:20240701T191429Z
UID:10049946-1755338400-1755367200@diversionsgames.com
SUMMARY:Saturday Board Games
DESCRIPTION:Saturdays are for board games! We invite you to stop in for light\, medium\, and heavy strategy games! Bring your favorites or try out some of our demos. There is plenty of free parking and quick-serve food options nearby.
URL:https://diversionsgames.com/event/saturday-board-games-2-2-2/2025-08-16/
CATEGORIES:Somersworth
ATTACH;FMTTYPE=image/png:https://diversionsgames.com/wp-content/uploads/2023/09/Wingspan.-Photo-from-Stonemaier-Games.png
END:VEVENT
BEGIN:VEVENT
DTSTART;TZID=America/New_York:20250816T110000
DTEND;TZID=America/New_York:20250816T170000
DTSTAMP:20260419T195201
CREATED:20250707T181235Z
LAST-MODIFIED:20250707T181235Z
UID:10054437-1755342000-1755363600@diversionsgames.com
SUMMARY:Star Wars: Unlimited 1K Constructed Tournament
DESCRIPTION:Join us on Saturday\, August 16 for a Star Wars: Unlimited 1K Tournament! This tournament starts at 11:00am. With 20 players\, $1\,000 in prizing will be awarded.\n\n>>Registration & Check-In<<\nRegistration/check-in in-person on Saturday\, August 16\, 9:00-10:45AM – $50.00 entry & decklist hard copy is due at check-in.\nPlayers may register themselves on Melee.gg: https://melee.gg/Tournament/View/337472\n\n\n>>Format<<\nThis is a Swiss-style tournament\, played in Best-of-3 format. Each round is 55-minutes in length. The number of rounds in the tournament will be dependent on the number of attendees. Playoff rounds will be played after the Swiss rounds including players with the highest standings. The playoffs are best-of-3\, single-elimination rounds until one undefeated player is remaining as the tournament champion.\n8 players: 3 rounds\, cut to top 4\n9-16 players: 4 rounds\, cut to top 8\n17-32 players: 5 rounds\, cut to top 8\n\n\n>>Prizing<<\nThe following prize structure is based on a minimum of 20 players. The prizing will scale with fewer or more players.\n[All players] Legends of the Force (LOF) Booster Pack (x2)\n[1st] LOF Carbonite Box + LOF Booster Pack (x5)\n[2nd] LOF Booster Box + LOF Carbonite Pack (x2)\n[3rd-4th] LOF Booster Pack (x12) + LOF Carbonite Pack (x2)\n[5th-8th] LOF Booster Pack (x10)\n\n\n>>Deck rules<<\nYour deck must consist of exactly one leader\, exactly one base\, and a minimum 50-card draw deck. You can also have a sideboard of up to 10 non-leader\, non-base cards. Your draw deck cannot include more than three copies of any one card. Officially suspended cards cannot be included in your deck – https://starwarsunlimited.gg/suspended-cards/
URL:https://diversionsgames.com/event/star-wars-unlimited-1k-constructed-tournament/
CATEGORIES:Portsmouth
ATTACH;FMTTYPE=image/jpeg:https://diversionsgames.com/wp-content/uploads/2025/07/517206303_1303664068430700_5834098358752323313_n.jpg
END:VEVENT
BEGIN:VEVENT
DTSTART;TZID=America/New_York:20250816T133000
DTEND;TZID=America/New_York:20250816T170000
DTSTAMP:20260419T195201
CREATED:20240325T153543Z
LAST-MODIFIED:20251030T184406Z
UID:10049868-1755351000-1755363600@diversionsgames.com
SUMMARY:D&D Open Play One Shots
DESCRIPTION:Join us on the first and third Saturday of each month for a D&D One Shot. These sessions are perfect for beginning players looking to try out D&D for the first time\, or veterans of the Forgotten Realms seeking new friends and adventuring parties to join. Sessions are $5 per person and include pre-made characters and an experienced DM to lead you on your journey. Space is limited to 7 players per session to facilitate the best experience possible\, pre-registration is available via the Eventbrite link here\, all payments will be taken the day of the event at Diversions Puzzles & Games South Portland.
URL:https://diversionsgames.com/event/dd-open-play-one-shots-2/2025-08-16/
CATEGORIES:South Portland
ATTACH;FMTTYPE=image/jpeg:https://diversionsgames.com/wp-content/uploads/2024/03/434127862_940437488081859_4930225772855893868_n.jpg
END:VEVENT
END:VCALENDAR