BEGIN:VCALENDAR
VERSION:2.0
PRODID:-//Diversions Puzzles &amp; Games - ECPv6.14.0//NONSGML v1.0//EN
CALSCALE:GREGORIAN
METHOD:PUBLISH
X-WR-CALNAME:Diversions Puzzles &amp; Games
X-ORIGINAL-URL:https://diversionsgames.com
X-WR-CALDESC:Events for Diversions Puzzles &amp; Games
REFRESH-INTERVAL;VALUE=DURATION:PT1H
X-Robots-Tag:noindex
X-PUBLISHED-TTL:PT1H
BEGIN:VTIMEZONE
TZID:America/New_York
BEGIN:DAYLIGHT
TZOFFSETFROM:-0500
TZOFFSETTO:-0400
TZNAME:EDT
DTSTART:20250309T070000
END:DAYLIGHT
BEGIN:STANDARD
TZOFFSETFROM:-0400
TZOFFSETTO:-0500
TZNAME:EST
DTSTART:20251102T060000
END:STANDARD
END:VTIMEZONE
BEGIN:VEVENT
DTSTART;TZID=America/New_York:20250830T100000
DTEND;TZID=America/New_York:20250830T180000
DTSTAMP:20260420T190759
CREATED:20240701T184600Z
LAST-MODIFIED:20240701T191429Z
UID:10049948-1756548000-1756576800@diversionsgames.com
SUMMARY:Saturday Board Games
DESCRIPTION:Saturdays are for board games! We invite you to stop in for light\, medium\, and heavy strategy games! Bring your favorites or try out some of our demos. There is plenty of free parking and quick-serve food options nearby.
URL:https://diversionsgames.com/event/saturday-board-games-2-2-2/2025-08-30/
CATEGORIES:Somersworth
ATTACH;FMTTYPE=image/png:https://diversionsgames.com/wp-content/uploads/2023/09/Wingspan.-Photo-from-Stonemaier-Games.png
END:VEVENT
BEGIN:VEVENT
DTSTART;TZID=America/New_York:20250830T120000
DTEND;TZID=America/New_York:20250830T160000
DTSTAMP:20260420T190759
CREATED:20250813T175532Z
LAST-MODIFIED:20250813T175533Z
UID:10054467-1756555200-1756569600@diversionsgames.com
SUMMARY:Disney Lorcana: Fabled Sealed Tournament
DESCRIPTION:Join us for Disney: Lorcana – Fabled release weekend! We are hosting a Sealed Tournament to celebrate! This sealed tournament will run from 12:00-4:00PM\n\n\n>>Registration & Check-In<<\nEntry is $42.00 per player (6 packs + entry fee)\, due upon check-in before the event. Check-in to register between 9:00-11:45AM.\n\n\n>>Format<<\nPlayers will be provided with six booster packs each to use as their individual card pool\, from which they will build a 40-card deck using any number of different inks (rather than only two inks). More than four copies of a card with the same full name can be played.\n\nPlayers use this deck to play in a Swiss-style tournament for 3-4 rounds (dependent on # of players). Each round consists of best-of-three games.\n\n\n>>Prizing<<\nThe prizing for the event will be Fabled booster packs distributed to the top standing players at the end of the final round. Promos from the League Kit may also be distributed. All promotional material is from the Disney Lorcana: Fabled Organized Play Kit.
URL:https://diversionsgames.com/event/disney-lorcana-fabled-sealed-tournament-2/
CATEGORIES:Portsmouth
ATTACH;FMTTYPE=image/jpeg:https://diversionsgames.com/wp-content/uploads/2025/08/528330485_1331284789001961_4970369767787195403_n.jpg
END:VEVENT
BEGIN:VEVENT
DTSTART;TZID=America/New_York:20250830T140000
DTEND;TZID=America/New_York:20250830T180000
DTSTAMP:20260420T190759
CREATED:20250801T202104Z
LAST-MODIFIED:20250801T203007Z
UID:10054450-1756562400-1756576800@diversionsgames.com
SUMMARY:Disney Lorcana: Fabled Sealed Tournament
DESCRIPTION:Join us on Release Weekend as the Fables come to life with a Disney Lorcana: Fabled Sealed Tournament! Entry is $41.93 (+tax) per player\, which includes 6 Fabled booster packs and a tournament entry fee\, payable in person day of.\n\nPlayers will receive six (6) booster packs from Disney Lorcana: Fabled\, and will have 30 minutes to build a 40-card deck. Participants will then play a Swiss-style tournament (best-of-3 matches for 3 rounds) with their decks. The primary prizing for the event will be Fabled booster packs to the top 3 players (prizing is based on event attendance). Promos from the League Kit may also be distributed. All promotional material are from the Disney Lorcana: Organized Play Kits.\nSealed Tournament Deck Construction Rules:Players will be provided with six booster packs each to use as their individual card pool\, from which they will build a 40-card deck using any number of different inks (rather than only two inks). More than four copies of a card with the same full name can be played.
URL:https://diversionsgames.com/event/disney-lorcana-fabled-sealed-tournament/
CATEGORIES:South Portland
ATTACH;FMTTYPE=image/jpeg:https://diversionsgames.com/wp-content/uploads/2025/08/524981069_1345823857543218_6581495363770249707_n.jpg
END:VEVENT
BEGIN:VEVENT
DTSTART;TZID=America/New_York:20250830T160000
DTEND;TZID=America/New_York:20250830T233000
DTSTAMP:20260420T190759
CREATED:20250701T164418Z
LAST-MODIFIED:20250701T164418Z
UID:10054425-1756569600-1756596600@diversionsgames.com
SUMMARY:Late Night Gaming
DESCRIPTION:Break out your games and bring a pillow as we stay up late playing our favorite board games from 4:00pm-midnight
URL:https://diversionsgames.com/event/late-night-gaming-19/
CATEGORIES:Somersworth
ATTACH;FMTTYPE=image/jpeg:https://diversionsgames.com/wp-content/uploads/2025/07/515439814_744745068080026_8223304255431857824_n.jpg
END:VEVENT
END:VCALENDAR