BEGIN:VCALENDAR
VERSION:2.0
PRODID:-//Diversions Puzzles &amp; Games - ECPv6.14.0//NONSGML v1.0//EN
CALSCALE:GREGORIAN
METHOD:PUBLISH
X-ORIGINAL-URL:https://diversionsgames.com
X-WR-CALDESC:Events for Diversions Puzzles &amp; Games
REFRESH-INTERVAL;VALUE=DURATION:PT1H
X-Robots-Tag:noindex
X-PUBLISHED-TTL:PT1H
BEGIN:VTIMEZONE
TZID:America/New_York
BEGIN:DAYLIGHT
TZOFFSETFROM:-0500
TZOFFSETTO:-0400
TZNAME:EDT
DTSTART:20250309T070000
END:DAYLIGHT
BEGIN:STANDARD
TZOFFSETFROM:-0400
TZOFFSETTO:-0500
TZNAME:EST
DTSTART:20251102T060000
END:STANDARD
END:VTIMEZONE
BEGIN:VEVENT
DTSTART;TZID=America/New_York:20250907T100000
DTEND;TZID=America/New_York:20250907T140000
DTSTAMP:20260422T141522
CREATED:20250106T172239Z
LAST-MODIFIED:20250106T172334Z
UID:10053594-1757239200-1757253600@diversionsgames.com
SUMMARY:Star Wars: Unlimited Weekly Play
DESCRIPTION:Join us for Star Wars Unlimited Weekly Play – a casual event to learn\, play\, and trade this new and growing TCG. Every Sunday from 10am to 2pm! Promos and prizes will be given out to attendees from the official Organized Play Weekly Kits.
URL:https://diversionsgames.com/event/star-wars-unlimited-weekly-play-2-2/2025-09-07/
CATEGORIES:South Portland
ATTACH;FMTTYPE=image/jpeg:https://diversionsgames.com/wp-content/uploads/2024/07/471613729_1154732943318978_7686291457270349196_n.jpg
END:VEVENT
BEGIN:VEVENT
DTSTART;TZID=America/New_York:20250907T100000
DTEND;TZID=America/New_York:20250907T170000
DTSTAMP:20260422T141522
CREATED:20250811T151317Z
LAST-MODIFIED:20250811T151317Z
UID:10054457-1757239200-1757264400@diversionsgames.com
SUMMARY:Disney Lorcana: Fabled Constructed Case Tournament
DESCRIPTION:Win your share of a case of the newest Disney Lorcana set\, Fabled. Pre-registration is highly recommended as events often reach capacity.\n>Entry Fee: $30\, paid in-store day of event>Format: Core constructed\, best-of-3>Registration/Check in begins at 9:30>Decklists Required>Max Player Count: 30>Prizing*1st: Fabled2nd: 16 boosters3rd: 10 boosters4th: 10 boosters5th-8th: 6 boosters9th-30th: 1 booster\n\n*Requires minimum 20 people for full prizing. Prizing may be less with fewer participants*You MUST pre-register on Carde.io to guarantee your spot.https://tcg.ravensburgerplay.com/events/175002Walk-ins are welcome only if space allows
URL:https://diversionsgames.com/event/disney-lorcana-fabled-constructed-case-tournament/
CATEGORIES:Somersworth
ATTACH;FMTTYPE=image/jpeg:https://diversionsgames.com/wp-content/uploads/2025/08/Case-Tournament-97.jpg
END:VEVENT
END:VCALENDAR