BEGIN:VCALENDAR
VERSION:2.0
PRODID:-//Diversions Puzzles &amp; Games - ECPv6.14.0//NONSGML v1.0//EN
CALSCALE:GREGORIAN
METHOD:PUBLISH
X-ORIGINAL-URL:https://diversionsgames.com
X-WR-CALDESC:Events for Diversions Puzzles &amp; Games
REFRESH-INTERVAL;VALUE=DURATION:PT1H
X-Robots-Tag:noindex
X-PUBLISHED-TTL:PT1H
BEGIN:VTIMEZONE
TZID:America/New_York
BEGIN:DAYLIGHT
TZOFFSETFROM:-0500
TZOFFSETTO:-0400
TZNAME:EDT
DTSTART:20260308T070000
END:DAYLIGHT
BEGIN:STANDARD
TZOFFSETFROM:-0400
TZOFFSETTO:-0500
TZNAME:EST
DTSTART:20261101T060000
END:STANDARD
END:VTIMEZONE
BEGIN:VEVENT
DTSTART;TZID=America/New_York:20260301T120000
DTEND;TZID=America/New_York:20260301T160000
DTSTAMP:20260424T165807
CREATED:20260129T162727Z
LAST-MODIFIED:20260206T152021Z
UID:10055461-1772366400-1772380800@diversionsgames.com
SUMMARY:Magic the Gathering: Teenage Mutant Ninja Turtles Prerelease
DESCRIPTION:Join us for the Magic the Gathering: Teenage Mutant Ninja Turtles Prerelease at Diversions Puzzles & Games – Portsmouth! Registration is open two hours before the event\, walk-in only. $39.99 per person.\n\nWe are hosting two prerelease events:Fri Feb 27\, 5pmSun Mar 1\, 12pm\n\nRegistration begins in-store two hours before the event. First come\, first serve – 30 players max. All players will receive 2 additional booster packs at the end of the event.\n\nPlayers must have an active Wizards Account with a valid email to participate. You can register for an account here:https://myaccounts.wizards.com/register\n\nPrereleases are Sealed Deck format events\, where you build a minimum 40-card deck using the contents of a Prerelease Pack (6 booster packs) and a Premium date-stamped promo card) plus basic lands that are provided to you by the store.\n\nAfter your deck is built\, you’ll be randomly paired with another player for a best two-of-three match. Each round you’ll report who won and be paired up with a new player. If you do well\, you might win additional booster packs as prizes!\n\nEach person may only purchase one pre-release pack for use during the event only. All event participants will receive at least one free booster pack for prizing.\n\nMetered parking is available in the Worth Lot behind the store\, Bridge Street Lot\, Foundry Garage\, or Hanover Garage.
URL:https://diversionsgames.com/event/magic-the-gathering-teenage-mutant-ninja-turtles-prerelease/2026-03-01/
CATEGORIES:Portsmouth
ATTACH;FMTTYPE=image/jpeg:https://diversionsgames.com/wp-content/uploads/2026/01/623541747_1491569042973534_3530683644532130093_n.jpg
END:VEVENT
END:VCALENDAR