BEGIN:VCALENDAR
VERSION:2.0
PRODID:-//Diversions Puzzles &amp; Games - ECPv6.14.0//NONSGML v1.0//EN
CALSCALE:GREGORIAN
METHOD:PUBLISH
X-WR-CALNAME:Diversions Puzzles &amp; Games
X-ORIGINAL-URL:https://diversionsgames.com
X-WR-CALDESC:Events for Diversions Puzzles &amp; Games
REFRESH-INTERVAL;VALUE=DURATION:PT1H
X-Robots-Tag:noindex
X-PUBLISHED-TTL:PT1H
BEGIN:VTIMEZONE
TZID:America/New_York
BEGIN:DAYLIGHT
TZOFFSETFROM:-0500
TZOFFSETTO:-0400
TZNAME:EDT
DTSTART:20260308T070000
END:DAYLIGHT
BEGIN:STANDARD
TZOFFSETFROM:-0400
TZOFFSETTO:-0500
TZNAME:EST
DTSTART:20261101T060000
END:STANDARD
END:VTIMEZONE
BEGIN:VEVENT
DTSTART;TZID=America/New_York:20260321T120000
DTEND;TZID=America/New_York:20260321T150000
DTSTAMP:20260424T111201
CREATED:20260304T192011Z
LAST-MODIFIED:20260304T192225Z
UID:10055556-1774094400-1774105200@diversionsgames.com
SUMMARY:Jigsaw Puzzle Competition (with NH Outright)
DESCRIPTION:Join us for a fun-filled and speedy puzzle race! Teams of 4 will compete to assemble a 500-piece puzzle. Are you up for the challenge?\n\nThis jigsaw puzzle competition will consist of up to 20 teams who will be racing against each other to complete a 500-piece jigsaw puzzle in the fastest times! All teams will have the same puzzle & box image to use for the event. Each team is permitted up to four puzzlers on the team!\n\nThis event is being held on Saturday\, March 21 @ 12:00pm at 100 Campus Drive\, Portsmouth NH. This event is not at Diversions.\n\nTickets go on sale on Thursday\, March 4 @ 3:00pm ET. Entry is $20 per team (plus Eventbrite fees) here: https://tinyurl.com/5uz2x8ec\n\nSpace is limited to 20 teams & online registration is required. Only one person from the team needs to register. Do not sign-up separately! Prizes will be awarded to the first\, second\, and third place teams based on the fastest times (Prizes TBA) – other goodies will be handed out to all teams and every team may keep the event puzzle.\n\nA waitlist will open on Eventbrite when all spots are filled. You may sign-up for the waitlist to be notified when spots become available.\n\nPlease arrive by 11:45am to check-in and claim seating.
URL:https://diversionsgames.com/event/jigsaw-puzzle-competition-with-nh-outright-2/
CATEGORIES:Portsmouth
ATTACH;FMTTYPE=image/webp:https://diversionsgames.com/wp-content/uploads/2026/03/image.webp
END:VEVENT
END:VCALENDAR