BEGIN:VCALENDAR
VERSION:2.0
PRODID:-//Diversions Puzzles &amp; Games - ECPv6.14.0//NONSGML v1.0//EN
CALSCALE:GREGORIAN
METHOD:PUBLISH
X-ORIGINAL-URL:https://diversionsgames.com
X-WR-CALDESC:Events for Diversions Puzzles &amp; Games
REFRESH-INTERVAL;VALUE=DURATION:PT1H
X-Robots-Tag:noindex
X-PUBLISHED-TTL:PT1H
BEGIN:VTIMEZONE
TZID:America/New_York
BEGIN:DAYLIGHT
TZOFFSETFROM:-0500
TZOFFSETTO:-0400
TZNAME:EDT
DTSTART:20260308T070000
END:DAYLIGHT
BEGIN:STANDARD
TZOFFSETFROM:-0400
TZOFFSETTO:-0500
TZNAME:EST
DTSTART:20261101T060000
END:STANDARD
END:VTIMEZONE
BEGIN:VEVENT
DTSTART;TZID=America/New_York:20260419T120000
DTEND;TZID=America/New_York:20260419T160000
DTSTAMP:20260421T194657
CREATED:20260327T203840Z
LAST-MODIFIED:20260415T140452Z
UID:10055570-1776600000-1776614400@diversionsgames.com
SUMMARY:Magic the Gathering: Secrets of Strixhaven Prerelease
DESCRIPTION:Join us for the Magic the Gathering: Secrets of Strixhaven Prerelease at Diversions Puzzles & Games – Portsmouth!\nWe are hosting two prerelease events:\nFri April 17\, 5pmSun April 19\, 12pm\n\n\n\n>>Registration & Check-In<<\nRegistration & check-in begins in-store two hours before the event. First come\, first serve – 30 players max. Registration is $34.99 per person.\nPlayers must have an active Wizards Account with a valid email to participate. You can register for an account here:\nhttps://myaccounts.wizards.com/register\n\n\n\n>>Format<<\nPrereleases are Sealed Deck format events\, where you build a minimum 40-card deck using the contents of a Prerelease Pack (6 booster packs) and a Premium date-stamped promo card) plus basic lands that are provided to you by the store.\n\nAfter your deck is built\, you’ll be randomly paired with another player for a best two-of-three match. Each round you’ll report who won and be paired up with a new player. If you do well\, you might win additional booster packs as prizes!\n\nEach person may only purchase one pre-release pack for use during the event only.\n\n\n\n\n>>Prizing<<\nPrereleases are casual events\, so prizing is distributed evenly to all players. All event participants will receive at least one free booster pack for prizing.\n\nMetered parking is available in the Worth Lot behind the store\, Bridge Street Lot\, Foundry Garage\, or Hanover Garage
URL:https://diversionsgames.com/event/magic-the-gathering-secrets-of-strixhaven-prerelease/2026-04-19/
CATEGORIES:Portsmouth
ATTACH;FMTTYPE=image/jpeg:https://diversionsgames.com/wp-content/uploads/2026/03/659210146_1542628074534297_2224437410672650713_n.jpg
END:VEVENT
END:VCALENDAR