BEGIN:VCALENDAR
VERSION:2.0
PRODID:-//Diversions Puzzles &amp; Games - ECPv6.14.0//NONSGML v1.0//EN
CALSCALE:GREGORIAN
METHOD:PUBLISH
X-WR-CALNAME:Diversions Puzzles &amp; Games
X-ORIGINAL-URL:https://diversionsgames.com
X-WR-CALDESC:Events for Diversions Puzzles &amp; Games
REFRESH-INTERVAL;VALUE=DURATION:PT1H
X-Robots-Tag:noindex
X-PUBLISHED-TTL:PT1H
BEGIN:VTIMEZONE
TZID:America/New_York
BEGIN:DAYLIGHT
TZOFFSETFROM:-0500
TZOFFSETTO:-0400
TZNAME:EDT
DTSTART:20250309T070000
END:DAYLIGHT
BEGIN:STANDARD
TZOFFSETFROM:-0400
TZOFFSETTO:-0500
TZNAME:EST
DTSTART:20251102T060000
END:STANDARD
END:VTIMEZONE
BEGIN:VEVENT
DTSTART;TZID=America/New_York:20251101T100000
DTEND;TZID=America/New_York:20251101T180000
DTSTAMP:20260424T051804
CREATED:20240701T184600Z
LAST-MODIFIED:20240701T191429Z
UID:10049955-1761991200-1762020000@diversionsgames.com
SUMMARY:Saturday Board Games
DESCRIPTION:Saturdays are for board games! We invite you to stop in for light\, medium\, and heavy strategy games! Bring your favorites or try out some of our demos. There is plenty of free parking and quick-serve food options nearby.
URL:https://diversionsgames.com/event/saturday-board-games-2-2-2/2025-11-01/
CATEGORIES:Somersworth
ATTACH;FMTTYPE=image/png:https://diversionsgames.com/wp-content/uploads/2023/09/Wingspan.-Photo-from-Stonemaier-Games.png
END:VEVENT
BEGIN:VEVENT
DTSTART;TZID=America/New_York:20251105T180000
DTEND;TZID=America/New_York:20251105T210000
DTSTAMP:20260424T051804
CREATED:20251002T174515Z
LAST-MODIFIED:20251002T174515Z
UID:10054519-1762365600-1762376400@diversionsgames.com
SUMMARY:Star Wars: Unlimited: Secrets of Power Prerelease
DESCRIPTION:Join us for our Star Wars: Unlimited Prerelease event for the new set\, Secrets of Power! This event will be held on November 5 @ 6:00PM \n>>Registration & Check-In<<Space is limited to 16 playersPre registration at https://melee.gg/Tournament/View/369323Walk-in day of the event as space allows. Arrive before the start-time to check-in. The cost of entry is $29.99. You will receive your Prerelease Kit (includes six booster packs) upon check-in for the event. \n>>Format<<This is a Sealed Play event. There will be one round of deckbuilding with your prerelease kit and three rounds of Swiss-tournament play. \nWhat is Sealed Play?The format of Prerelease events\, sealed play combines the limited card pool aspect of draft play with the more open-ended deckbuilding approach of constructed play. Like draft play\, everyone starts the event off on equal footing\, and like constructed play\, this format gives you the opportunity to let your deckbuilding skills shine.At the beginning of a sealed play event\, you open six booster packs. You must use the cards within those packs to build a deck. Just like in draft play\, your minimum draw deck size is 30 cards\, and you can include any number of copies of a card as you want (so long as they were all acquired within those six booster packs). Also like with draft\, you can use any common base you want\, regardless of what was in your packs. However\, if you want to use a rare base\, it must have been one of the cards from those six packs.For leader cards\, you typically will only be able to use the ones from your packs\, just like with everything else. However\, for prerelease events in which you utilize a Prerelease Box\, the promo leader cards that come in that box are also available as options for your sealed deck.Like with draft\, you can change up the contents of your sealed play deck in between rounds as much as you like\, so long as you only utilize the cards that were in your six booster packs.There you have it. Sealed play is fantastic for testing your deckbuilding skills while also growing your collection. And since prerelease events for each set feature this format\, you’ll have plenty of opportunities to try out sealed play for yourself each time a new set comes along! \n>>Prizing<<Booster packs and promo cards will be distributed to all players at the end of the event.Please contact the store if you have any questions!
URL:https://diversionsgames.com/event/star-wars-unlimited-secrets-of-power-prerelease-2/
CATEGORIES:Somersworth
ATTACH;FMTTYPE=image/jpeg:https://diversionsgames.com/wp-content/uploads/2025/10/556838938_819606537260545_1164596163435271741_n.jpg
END:VEVENT
BEGIN:VEVENT
DTSTART;TZID=America/New_York:20251107T100000
DTEND;TZID=America/New_York:20251107T170000
DTSTAMP:20260424T051804
CREATED:20251016T151335Z
LAST-MODIFIED:20251016T151335Z
UID:10054633-1762509600-1762534800@diversionsgames.com
SUMMARY:Disney Lorcana: Whispers in the Well Release Celebration
DESCRIPTION:Come celebrate the newest Disney Lorcana set\, Whispers in the Well. Join our growing community for all day fun. Open your packs and trade for that elusive glimmer\, complete your set\, our get that key piece for your new deck. Snacks\, laughter\, and fun are sure to be had!
URL:https://diversionsgames.com/event/disney-lorcana-whispers-in-the-well-release-celebration/
CATEGORIES:Somersworth
ATTACH;FMTTYPE=image/jpeg:https://diversionsgames.com/wp-content/uploads/2025/10/561777961_831025219452010_4591367207971470893_n.jpg
END:VEVENT
BEGIN:VEVENT
DTSTART;TZID=America/New_York:20251107T180000
DTEND;TZID=America/New_York:20251107T220000
DTSTAMP:20260424T051804
CREATED:20251017T182301Z
LAST-MODIFIED:20251017T182301Z
UID:10054654-1762538400-1762552800@diversionsgames.com
SUMMARY:Disney Lorcana: Whispers in the Well Sealed Tournament
DESCRIPTION:Join us on Release Day for a Disney Lorcana: Whispers in the Well Sealed Tournament! Entry is $45.00 per player.\nPlayers will receive six (6) booster packs from Disney Lorcana: Whispers in the Well\, and will have 30 minutes to build a 40-card deck. Participants will then play a 3-round Swiss-style tournament\, 3-game format\, with the decks.\nPrizing consists of packs to the top 4 players.\n\n\nSealed Tournament Deck Construction Rules:Players will be provided with six booster packs each to use as their individual card pool\, from which they will build a 40-card deck using any number of different inks (rather than only two inks). More than four copies of a card with the same full name can be played.\n\n\nSign up here: https://tcg.ravensburgerplay.com/events/224206
URL:https://diversionsgames.com/event/disney-lorcana-whispers-in-the-well-sealed-tournament-3/
CATEGORIES:Somersworth
ATTACH;FMTTYPE=image/jpeg:https://diversionsgames.com/wp-content/uploads/2025/10/565691124_830837482804117_4086537539457247399_n.jpg
END:VEVENT
BEGIN:VEVENT
DTSTART;TZID=America/New_York:20251108T110000
DTEND;TZID=America/New_York:20251108T140000
DTSTAMP:20260424T051804
CREATED:20240806T204301Z
LAST-MODIFIED:20250923T181352Z
UID:10049569-1762599600-1762610400@diversionsgames.com
SUMMARY:Dungeons & Dragons Monthly Session
DESCRIPTION:Join us for a monthly D&D session! This is a 3-hour session for all experience levels. Please bring your own dice and pencil; the DM will have pre-generated characters\, or you can bring your own character (level can be adjusted based on the session). \nThe session fee is $5.00 per person. There is plenty of free parking and quick-service food options nearby. ***Sign ups are encouraged due to space limitations and interest. Please call\, email\, or chat the store on Facebook Messenger to reserve your spot***
URL:https://diversionsgames.com/event/dungeons-dragons-one-shot-session-2022-10-08-3-2-2/2025-11-08/
CATEGORIES:Somersworth
ATTACH;FMTTYPE=image/png:https://diversionsgames.com/wp-content/uploads/2023/10/DD-1.png
END:VEVENT
BEGIN:VEVENT
DTSTART;TZID=America/New_York:20251108T150000
DTEND;TZID=America/New_York:20251108T190000
DTSTAMP:20260424T051804
CREATED:20251016T151011Z
LAST-MODIFIED:20251016T151011Z
UID:10054631-1762614000-1762628400@diversionsgames.com
SUMMARY:Riftbound: League of Legends TCG Release Tournament
DESCRIPTION:Each participant will receive one Champion Deck and two booster packs\, which they will use to forge their deck for play. Cost TBDSign up: https://locator.riftbound.uvsgames.com/events/197533
URL:https://diversionsgames.com/event/riftbound-league-of-legends-tcg-release-tournament/
CATEGORIES:Somersworth
ATTACH;FMTTYPE=image/jpeg:https://diversionsgames.com/wp-content/uploads/2025/10/RIFTBOUND.jpg
END:VEVENT
BEGIN:VEVENT
DTSTART;TZID=America/New_York:20251109T120000
DTEND;TZID=America/New_York:20251109T170000
DTSTAMP:20260424T051804
CREATED:20251016T151441Z
LAST-MODIFIED:20251017T175156Z
UID:10054634-1762689600-1762707600@diversionsgames.com
SUMMARY:Disney Lorcana: Whispers in the Well Booster Draft
DESCRIPTION:Celebrate the release of Whispers in the Well with us!\nWhen: Sunday\, November 9th at 12:00amCost: $29.95Prizing: Packs to top 4 (prizing based on attendance)Max Player Count: 26\nRegistration: https://tcg.ravensburgerplay.com/events/230044\n\nHow to Draft:Each player receives 4 booster packs of Whispers in the Well.To draft\, open 1 pack and pick 1 card\, pass the rest to the left/right\, pick a second card\, and so on until all 4 packs have been opened and each player has 48 cards.Then\, you build your deck from the 48 cards you drafted (which are yours to keep) according to the following rules:-Minimum deck size 40 cards-You can use any number of ink colors-You can have more than 4 copies of a single cardFinally\, we will play 4 rounds of Best of 3 games (50 min)\n\nSignup: https://tcg.ravensburgerplay.com/events/224232
URL:https://diversionsgames.com/event/disney-lorcana-whispers-in-the-well-booster-draft-2/
CATEGORIES:Somersworth
ATTACH;FMTTYPE=image/jpeg:https://diversionsgames.com/wp-content/uploads/2025/10/564152306_830843706136828_2861335273154583755_n.jpg
END:VEVENT
BEGIN:VEVENT
DTSTART;TZID=America/New_York:20251112T180000
DTEND;TZID=America/New_York:20251112T210000
DTSTAMP:20260424T051804
CREATED:20251020T203931Z
LAST-MODIFIED:20260414T143250Z
UID:10054696-1762970400-1762981200@diversionsgames.com
SUMMARY:Magic: The Gathering Commander Open Play
DESCRIPTION:Come battle against others in this open format Commander series. As the event gets going we may add events and fun challenges to this twice a month event.
URL:https://diversionsgames.com/event/magic-the-gathering-commander-open-play-2/2025-11-12/
CATEGORIES:Somersworth
ATTACH;FMTTYPE=image/jpeg:https://diversionsgames.com/wp-content/uploads/2025/10/567508677_835258519028680_3310415009717897692_n.jpg
END:VEVENT
BEGIN:VEVENT
DTSTART;TZID=America/New_York:20251113T180000
DTEND;TZID=America/New_York:20251113T220000
DTSTAMP:20260424T051804
CREATED:20251016T151230Z
LAST-MODIFIED:20251016T151230Z
UID:10054632-1763056800-1763071200@diversionsgames.com
SUMMARY:Disney Lorcana: Whispers in the Well Booster Draft
DESCRIPTION:Celebrate the release of Whispers in the Well with us!\nWhen: Sunday\, November 13th at 6:00pmCost: $29.95Prizing: Packs to top 4 (prizing based on attendance)Max Player Count: 26\n\nHow to Draft:Each player receives 4 booster packs of Whispers in the Well.To draft\, open 1 pack and pick 1 card\, pass the rest to the left/right\, pick a second card\, and so on until all 4 packs have been opened and each player has 48 cards.Then\, you build your deck from the 48 cards you drafted (which are yours to keep) according to the following rules:-Minimum deck size 40 cards-You can use any number of ink colors-You can have more than 4 copies of a single cardFinally\, we will play 3 rounds of Best of 3 games (50 min)\n\nSignup: https://tcg.ravensburgerplay.com/events/224288
URL:https://diversionsgames.com/event/disney-lorcana-whispers-in-the-well-booster-draft/
CATEGORIES:Somersworth
ATTACH;FMTTYPE=image/jpeg:https://diversionsgames.com/wp-content/uploads/2025/10/560557757_830869326134266_6063928924958409938_n.jpg
END:VEVENT
BEGIN:VEVENT
DTSTART;TZID=America/New_York:20251114T180000
DTEND;TZID=America/New_York:20251114T210000
DTSTAMP:20260424T051804
CREATED:20251020T203553Z
LAST-MODIFIED:20251020T203617Z
UID:10054686-1763143200-1763154000@diversionsgames.com
SUMMARY:Altered TCG
DESCRIPTION:Come battle against others in this open format Altered series. As the event gets going we may add drafts and sealed events.
URL:https://diversionsgames.com/event/altered-tcg/2025-11-14/
CATEGORIES:Somersworth
ATTACH;FMTTYPE=image/jpeg:https://diversionsgames.com/wp-content/uploads/2025/10/565815517_835272222360643_3088215077137092476_n.jpg
END:VEVENT
BEGIN:VEVENT
DTSTART;TZID=America/New_York:20251115T100000
DTEND;TZID=America/New_York:20251115T180000
DTSTAMP:20260424T051804
CREATED:20240701T184600Z
LAST-MODIFIED:20240701T191429Z
UID:10049956-1763200800-1763229600@diversionsgames.com
SUMMARY:Saturday Board Games
DESCRIPTION:Saturdays are for board games! We invite you to stop in for light\, medium\, and heavy strategy games! Bring your favorites or try out some of our demos. There is plenty of free parking and quick-serve food options nearby.
URL:https://diversionsgames.com/event/saturday-board-games-2-2-2/2025-11-15/
CATEGORIES:Somersworth
ATTACH;FMTTYPE=image/png:https://diversionsgames.com/wp-content/uploads/2023/09/Wingspan.-Photo-from-Stonemaier-Games.png
END:VEVENT
BEGIN:VEVENT
DTSTART;TZID=America/New_York:20251119T180000
DTEND;TZID=America/New_York:20251119T210000
DTSTAMP:20260424T051804
CREATED:20251020T203337Z
LAST-MODIFIED:20251020T203351Z
UID:10054671-1763575200-1763586000@diversionsgames.com
SUMMARY:Board Game Night
DESCRIPTION:Bring your favorite games or try some from our library. Help us get this twice a month event up and rolling\, invite your friends and family!
URL:https://diversionsgames.com/event/board-game-night-3/2025-11-19/
CATEGORIES:Somersworth
ATTACH;FMTTYPE=image/jpeg:https://diversionsgames.com/wp-content/uploads/2025/10/566253280_835261522361713_668231470537107243_n.jpg
END:VEVENT
BEGIN:VEVENT
DTSTART;TZID=America/New_York:20251121T180000
DTEND;TZID=America/New_York:20251121T210000
DTSTAMP:20260424T051804
CREATED:20251020T203142Z
LAST-MODIFIED:20260414T145902Z
UID:10054661-1763748000-1763758800@diversionsgames.com
SUMMARY:Star Wars: Unlimited Open Play
DESCRIPTION:Come battle against others in this open format Star Wars Unlimited series. As the event gets going we may add drafts and sealed events as well as constructed tournaments.
URL:https://diversionsgames.com/event/star-wars-unlimited-open-play/2025-11-21/
CATEGORIES:Somersworth
ATTACH;FMTTYPE=image/png:https://diversionsgames.com/wp-content/uploads/2026/04/Copy-of-Star-Wars.png
END:VEVENT
BEGIN:VEVENT
DTSTART;TZID=America/New_York:20251122T100000
DTEND;TZID=America/New_York:20251122T180000
DTSTAMP:20260424T051804
CREATED:20240701T184600Z
LAST-MODIFIED:20240701T191429Z
UID:10049957-1763805600-1763834400@diversionsgames.com
SUMMARY:Saturday Board Games
DESCRIPTION:Saturdays are for board games! We invite you to stop in for light\, medium\, and heavy strategy games! Bring your favorites or try out some of our demos. There is plenty of free parking and quick-serve food options nearby.
URL:https://diversionsgames.com/event/saturday-board-games-2-2-2/2025-11-22/
CATEGORIES:Somersworth
ATTACH;FMTTYPE=image/png:https://diversionsgames.com/wp-content/uploads/2023/09/Wingspan.-Photo-from-Stonemaier-Games.png
END:VEVENT
BEGIN:VEVENT
DTSTART;TZID=America/New_York:20251122T100000
DTEND;TZID=America/New_York:20251122T180000
DTSTAMP:20260424T051804
CREATED:20251104T174859Z
LAST-MODIFIED:20251104T174859Z
UID:10054747-1763805600-1763834400@diversionsgames.com
SUMMARY:Diversions Holiday Social
DESCRIPTION:Join us as we kick off the holiday season! We will have demos of some of our favorite games\, snacks and of course in-store specials. We will be on hand to help you find the perfect gift.
URL:https://diversionsgames.com/event/diversions-holiday-social/
CATEGORIES:Somersworth
ATTACH;FMTTYPE=image/jpeg:https://diversionsgames.com/wp-content/uploads/2025/11/572199693_844396374781561_7000040790214229476_n.jpg
END:VEVENT
BEGIN:VEVENT
DTSTART;TZID=America/New_York:20251123T110000
DTEND;TZID=America/New_York:20251123T180000
DTSTAMP:20260424T051804
CREATED:20251104T175142Z
LAST-MODIFIED:20251104T175143Z
UID:10054748-1763895600-1763920800@diversionsgames.com
SUMMARY:Disney Lorcana: Whispers in the Well Constructed Case Tournament
DESCRIPTION:Win your share of a case of the newest Disney Lorcana set\, Whispers in the Well. Pre-registration is highly recommended as events often reach capacity. \n>Entry Fee: $30\, paid in-store day of event\n>Format: Core constructed\, 5 rounds\, best-of-3\, Swiss with top cut\n>Registration/Check in begins at 10:00\n>Decklists Required\n>Max Player Count: 30\n>Prizing*\n1st: Box of Whispers in the Well\n2nd: 16 boosters of Whispers in the Well\n3rd: 10 boosters of Whispers in the Well\n4th: 10 boosters of Whispers in the Well\n5th-8th: 6 boosters of Whispers in the Well\n9th-30th: 1 booster of Whispers in the Well \n*Requires minimum 20 people for full prizing. Prizing may be less with fewer participants \n*You MUST pre-register on Carde.io to guarantee your spot.\nhttps://tcg.ravensburgerplay.com/events/246246 \nWalk-ins are welcome only if space allows
URL:https://diversionsgames.com/event/disney-lorcana-whispers-in-the-well-constructed-case-tournament/
CATEGORIES:Somersworth
ATTACH;FMTTYPE=image/jpeg:https://diversionsgames.com/wp-content/uploads/2025/11/574868858_844481954773003_2059719607650126751_n.jpg
END:VEVENT
BEGIN:VEVENT
DTSTART;TZID=America/New_York:20251126T180000
DTEND;TZID=America/New_York:20251126T210000
DTSTAMP:20260424T051804
CREATED:20251020T203955Z
LAST-MODIFIED:20251020T204111Z
UID:10054716-1764180000-1764190800@diversionsgames.com
SUMMARY:Magic: The Gathering Commander Open Play
DESCRIPTION:Come battle against others in this open format Commander series. As the event gets going we may add events and fun challenges to this twice a month event.
URL:https://diversionsgames.com/event/magic-the-gathering-commander-open-play-3/2025-11-26/
CATEGORIES:Somersworth
ATTACH;FMTTYPE=image/jpeg:https://diversionsgames.com/wp-content/uploads/2025/10/567508677_835258519028680_3310415009717897692_n.jpg
END:VEVENT
BEGIN:VEVENT
DTSTART;TZID=America/New_York:20251128T180000
DTEND;TZID=America/New_York:20251128T210000
DTSTAMP:20260424T051804
CREATED:20251020T204220Z
LAST-MODIFIED:20251020T204220Z
UID:10054726-1764352800-1764363600@diversionsgames.com
SUMMARY:Daggerheart RPG
DESCRIPTION:Join us as we explore Daggerheart\, a new epic TTRPG from Darrington Press. Powered by an innovative card and Duality Dice design\, Daggerheart blends tactical depth with narrative freedom\, empowering each group to make the game their own.\n\nSign up in-store. Space is limited.
URL:https://diversionsgames.com/event/daggerheart-rpg/2025-11-28/
CATEGORIES:Somersworth
ATTACH;FMTTYPE=image/jpeg:https://diversionsgames.com/wp-content/uploads/2025/10/568630264_835284445692754_869650272663676147_n.jpg
END:VEVENT
BEGIN:VEVENT
DTSTART;TZID=America/New_York:20251129T100000
DTEND;TZID=America/New_York:20251129T180000
DTSTAMP:20260424T051804
CREATED:20240701T184600Z
LAST-MODIFIED:20240701T191429Z
UID:10049958-1764410400-1764439200@diversionsgames.com
SUMMARY:Saturday Board Games
DESCRIPTION:Saturdays are for board games! We invite you to stop in for light\, medium\, and heavy strategy games! Bring your favorites or try out some of our demos. There is plenty of free parking and quick-serve food options nearby.
URL:https://diversionsgames.com/event/saturday-board-games-2-2-2/2025-11-29/
CATEGORIES:Somersworth
ATTACH;FMTTYPE=image/png:https://diversionsgames.com/wp-content/uploads/2023/09/Wingspan.-Photo-from-Stonemaier-Games.png
END:VEVENT
BEGIN:VEVENT
DTSTART;TZID=America/New_York:20251129T160000
DTEND;TZID=America/New_York:20251129T233000
DTSTAMP:20260424T051804
CREATED:20251024T174351Z
LAST-MODIFIED:20251024T174726Z
UID:10054737-1764432000-1764459000@diversionsgames.com
SUMMARY:Late Night Gaming
DESCRIPTION:Join us for Late Night Board Gaming! Bring your favorites\, join in on a new game\, or try some something from our library. Gather up your friends and family\, we’ll see you there!
URL:https://diversionsgames.com/event/late-night-gaming-22/
CATEGORIES:Somersworth
ATTACH;FMTTYPE=image/jpeg:https://diversionsgames.com/wp-content/uploads/2025/10/569388447_835293992358466_4194676993035386830_n.jpg
END:VEVENT
END:VCALENDAR