BEGIN:VCALENDAR
VERSION:2.0
PRODID:-//Diversions Puzzles &amp; Games - ECPv6.14.0//NONSGML v1.0//EN
CALSCALE:GREGORIAN
METHOD:PUBLISH
X-WR-CALNAME:Diversions Puzzles &amp; Games
X-ORIGINAL-URL:https://diversionsgames.com
X-WR-CALDESC:Events for Diversions Puzzles &amp; Games
REFRESH-INTERVAL;VALUE=DURATION:PT1H
X-Robots-Tag:noindex
X-PUBLISHED-TTL:PT1H
BEGIN:VTIMEZONE
TZID:America/New_York
BEGIN:DAYLIGHT
TZOFFSETFROM:-0500
TZOFFSETTO:-0400
TZNAME:EDT
DTSTART:20260308T070000
END:DAYLIGHT
BEGIN:STANDARD
TZOFFSETFROM:-0400
TZOFFSETTO:-0500
TZNAME:EST
DTSTART:20261101T060000
END:STANDARD
END:VTIMEZONE
BEGIN:VEVENT
DTSTART;TZID=America/New_York:20260102T180000
DTEND;TZID=America/New_York:20260102T210000
DTSTAMP:20260424T003213
CREATED:20251020T202916Z
LAST-MODIFIED:20260414T145941Z
UID:10054656-1767376800-1767387600@diversionsgames.com
SUMMARY:Riftbound: League of Legends TCG Organized Play
DESCRIPTION:Come battle against others in this open format Riftbound: League of Legends TCG series. As the event gets going and the community builds\, we may add drafts and sealed events as well as constructed tournaments.
URL:https://diversionsgames.com/event/riftbound-league-of-legends-tcg-organized-play/2026-01-02/
CATEGORIES:Somersworth
ATTACH;FMTTYPE=image/png:https://diversionsgames.com/wp-content/uploads/2026/04/Copy-of-Riftbound.png
END:VEVENT
BEGIN:VEVENT
DTSTART;TZID=America/New_York:20260103T100000
DTEND;TZID=America/New_York:20260103T180000
DTSTAMP:20260424T003213
CREATED:20240701T184600Z
LAST-MODIFIED:20240701T191429Z
UID:10049962-1767434400-1767463200@diversionsgames.com
SUMMARY:Saturday Board Games
DESCRIPTION:Saturdays are for board games! We invite you to stop in for light\, medium\, and heavy strategy games! Bring your favorites or try out some of our demos. There is plenty of free parking and quick-serve food options nearby.
URL:https://diversionsgames.com/event/saturday-board-games-2-2-2/2026-01-03/
CATEGORIES:Somersworth
ATTACH;FMTTYPE=image/png:https://diversionsgames.com/wp-content/uploads/2023/09/Wingspan.-Photo-from-Stonemaier-Games.png
END:VEVENT
BEGIN:VEVENT
DTSTART;TZID=America/New_York:20260107T180000
DTEND;TZID=America/New_York:20260107T210000
DTSTAMP:20260424T003213
CREATED:20251020T203422Z
LAST-MODIFIED:20251020T203422Z
UID:10054682-1767808800-1767819600@diversionsgames.com
SUMMARY:Board Game Night
DESCRIPTION:Bring your favorite games or try some from our library. Help us get this twice a month event up and rolling\, invite your friends and family!
URL:https://diversionsgames.com/event/board-game-night-4/2026-01-07/
CATEGORIES:Somersworth
ATTACH;FMTTYPE=image/jpeg:https://diversionsgames.com/wp-content/uploads/2025/10/566253280_835261522361713_668231470537107243_n.jpg
END:VEVENT
BEGIN:VEVENT
DTSTART;TZID=America/New_York:20260109T180000
DTEND;TZID=America/New_York:20260109T210000
DTSTAMP:20260424T003213
CREATED:20251020T203553Z
LAST-MODIFIED:20251020T203617Z
UID:10054688-1767981600-1767992400@diversionsgames.com
SUMMARY:Altered TCG
DESCRIPTION:Come battle against others in this open format Altered series. As the event gets going we may add drafts and sealed events.
URL:https://diversionsgames.com/event/altered-tcg/2026-01-09/
CATEGORIES:Somersworth
ATTACH;FMTTYPE=image/jpeg:https://diversionsgames.com/wp-content/uploads/2025/10/565815517_835272222360643_3088215077137092476_n.jpg
END:VEVENT
BEGIN:VEVENT
DTSTART;TZID=America/New_York:20260110T110000
DTEND;TZID=America/New_York:20260110T140000
DTSTAMP:20260424T003213
CREATED:20240806T204301Z
LAST-MODIFIED:20250923T181352Z
UID:10049571-1768042800-1768053600@diversionsgames.com
SUMMARY:Dungeons & Dragons Monthly Session
DESCRIPTION:Join us for a monthly D&D session! This is a 3-hour session for all experience levels. Please bring your own dice and pencil; the DM will have pre-generated characters\, or you can bring your own character (level can be adjusted based on the session). \nThe session fee is $5.00 per person. There is plenty of free parking and quick-service food options nearby. ***Sign ups are encouraged due to space limitations and interest. Please call\, email\, or chat the store on Facebook Messenger to reserve your spot***
URL:https://diversionsgames.com/event/dungeons-dragons-one-shot-session-2022-10-08-3-2-2/2026-01-10/
CATEGORIES:Somersworth
ATTACH;FMTTYPE=image/png:https://diversionsgames.com/wp-content/uploads/2023/10/DD-1.png
END:VEVENT
BEGIN:VEVENT
DTSTART;TZID=America/New_York:20260110T110000
DTEND;TZID=America/New_York:20260110T150000
DTSTAMP:20260424T003213
CREATED:20260107T175711Z
LAST-MODIFIED:20260107T175711Z
UID:10055455-1768042800-1768057200@diversionsgames.com
SUMMARY:ONE PIECE TCG OP-14 Release Event
DESCRIPTION:Sealed Event $29.94\n-6 Packs per person-You may bring your own leader (including those from previous sets) to use in the event.-Please bring 10x DON!! Cards to participate in the event.\n\n\nRules for Sealed: https://en.onepiece-cardgame.com/…/tournament_rules…
URL:https://diversionsgames.com/event/one-piece-tcg-op-14-release-event/
CATEGORIES:Somersworth
ATTACH;FMTTYPE=image/jpeg:https://diversionsgames.com/wp-content/uploads/2026/01/611635048_895637496324115_848048691045153201_n.jpg
END:VEVENT
BEGIN:VEVENT
DTSTART;TZID=America/New_York:20260114T180000
DTEND;TZID=America/New_York:20260114T210000
DTSTAMP:20260424T003213
CREATED:20251020T203931Z
LAST-MODIFIED:20260414T143250Z
UID:10054698-1768413600-1768424400@diversionsgames.com
SUMMARY:Magic: The Gathering Commander Open Play
DESCRIPTION:Come battle against others in this open format Commander series. As the event gets going we may add events and fun challenges to this twice a month event.
URL:https://diversionsgames.com/event/magic-the-gathering-commander-open-play-2/2026-01-14/
CATEGORIES:Somersworth
ATTACH;FMTTYPE=image/jpeg:https://diversionsgames.com/wp-content/uploads/2025/10/567508677_835258519028680_3310415009717897692_n.jpg
END:VEVENT
BEGIN:VEVENT
DTSTART;TZID=America/New_York:20260116T180000
DTEND;TZID=America/New_York:20260116T210000
DTSTAMP:20260424T003213
CREATED:20251020T203142Z
LAST-MODIFIED:20260414T145902Z
UID:10054663-1768586400-1768597200@diversionsgames.com
SUMMARY:Star Wars: Unlimited Open Play
DESCRIPTION:Come battle against others in this open format Star Wars Unlimited series. As the event gets going we may add drafts and sealed events as well as constructed tournaments.
URL:https://diversionsgames.com/event/star-wars-unlimited-open-play/2026-01-16/
CATEGORIES:Somersworth
ATTACH;FMTTYPE=image/png:https://diversionsgames.com/wp-content/uploads/2026/04/Copy-of-Star-Wars.png
END:VEVENT
BEGIN:VEVENT
DTSTART;TZID=America/New_York:20260117T100000
DTEND;TZID=America/New_York:20260117T180000
DTSTAMP:20260424T003213
CREATED:20240701T184600Z
LAST-MODIFIED:20240701T191429Z
UID:10049963-1768644000-1768672800@diversionsgames.com
SUMMARY:Saturday Board Games
DESCRIPTION:Saturdays are for board games! We invite you to stop in for light\, medium\, and heavy strategy games! Bring your favorites or try out some of our demos. There is plenty of free parking and quick-serve food options nearby.
URL:https://diversionsgames.com/event/saturday-board-games-2-2-2/2026-01-17/
CATEGORIES:Somersworth
ATTACH;FMTTYPE=image/png:https://diversionsgames.com/wp-content/uploads/2023/09/Wingspan.-Photo-from-Stonemaier-Games.png
END:VEVENT
BEGIN:VEVENT
DTSTART;TZID=America/New_York:20260121T180000
DTEND;TZID=America/New_York:20260121T210000
DTSTAMP:20260424T003213
CREATED:20251020T203337Z
LAST-MODIFIED:20251020T203351Z
UID:10054673-1769018400-1769029200@diversionsgames.com
SUMMARY:Board Game Night
DESCRIPTION:Bring your favorite games or try some from our library. Help us get this twice a month event up and rolling\, invite your friends and family!
URL:https://diversionsgames.com/event/board-game-night-3/2026-01-21/
CATEGORIES:Somersworth
ATTACH;FMTTYPE=image/jpeg:https://diversionsgames.com/wp-content/uploads/2025/10/566253280_835261522361713_668231470537107243_n.jpg
END:VEVENT
BEGIN:VEVENT
DTSTART;TZID=America/New_York:20260123T180000
DTEND;TZID=America/New_York:20260123T210000
DTSTAMP:20260424T003213
CREATED:20251020T204220Z
LAST-MODIFIED:20251020T204220Z
UID:10054728-1769191200-1769202000@diversionsgames.com
SUMMARY:Daggerheart RPG
DESCRIPTION:Join us as we explore Daggerheart\, a new epic TTRPG from Darrington Press. Powered by an innovative card and Duality Dice design\, Daggerheart blends tactical depth with narrative freedom\, empowering each group to make the game their own.\n\nSign up in-store. Space is limited.
URL:https://diversionsgames.com/event/daggerheart-rpg/2026-01-23/
CATEGORIES:Somersworth
ATTACH;FMTTYPE=image/jpeg:https://diversionsgames.com/wp-content/uploads/2025/10/568630264_835284445692754_869650272663676147_n.jpg
END:VEVENT
BEGIN:VEVENT
DTSTART;TZID=America/New_York:20260124T100000
DTEND;TZID=America/New_York:20260124T180000
DTSTAMP:20260424T003213
CREATED:20240701T184600Z
LAST-MODIFIED:20240701T191429Z
UID:10049964-1769248800-1769277600@diversionsgames.com
SUMMARY:Saturday Board Games
DESCRIPTION:Saturdays are for board games! We invite you to stop in for light\, medium\, and heavy strategy games! Bring your favorites or try out some of our demos. There is plenty of free parking and quick-serve food options nearby.
URL:https://diversionsgames.com/event/saturday-board-games-2-2-2/2026-01-24/
CATEGORIES:Somersworth
ATTACH;FMTTYPE=image/png:https://diversionsgames.com/wp-content/uploads/2023/09/Wingspan.-Photo-from-Stonemaier-Games.png
END:VEVENT
BEGIN:VEVENT
DTSTART;TZID=America/New_York:20260125T103000
DTEND;TZID=America/New_York:20260125T170000
DTSTAMP:20260424T003213
CREATED:20260114T175827Z
LAST-MODIFIED:20260114T175908Z
UID:10055457-1769337000-1769360400@diversionsgames.com
SUMMARY:Disney Lorcana: Whispers in the Well Set Championship
DESCRIPTION:Join Diversions Puzzles & Games on Sunday\, January 25th at 10:30am for our Disney Lorcana: Whispers in the Well Championship!\n\n\n>>>Registration<<<$25 per person payable in person on the day of the event.Signup Here>> https://tcg.ravensburgerplay.com/events/285567\n\n>>>Check In<<<Please check in between 9:30am and 10:15am on the day of the event. We will begin pairings right at 10:30am.\n\n>>>Format and Deck Lists<<<This tournament is in the Constructed (Core) format. Each player must bring one deck to the event which they have built ahead of time. Constructed decks must contain at least 60 cards. There is no maximum deck size\, but a player must be able to shuffle their deck in a timely manner without assistance. Constructed decks must not contain cards from more than two ink colors. For example\, if a deck contains Amber and Amethyst cards\, it must not contain any Emerald\, Ruby\, Sapphire\, or Steel cards. Constructed decks must not contain more than four of a single card as identified by its full English card name. Character cards with different subtitles are considered different cards for purposes of this rule. For example\, a deck may contain up to four copies of Ariel – On Human Legs as well as up to four copies of Ariel – Spectacular Singer. Cards from\, Shimmering Skies\, Azurite Sea\, Archazia’s Island\, Reign of Jafar\, Fabled and Whispers in the Well\n\nYou must use the same deck for the duration of the event. Decklist registration will be required. Please submit a hardcopy at the time of in-store check-in.\n\nOfficially banned cards are not permitted at this event.\n\nThis is a Swiss-style tournament. Each round is 50-minutes in length. Each round is played in the Best-of-3 Format. The number of rounds in the tournament will be dependent on the number of attendees. Playoff rounds will be played after the Swiss rounds including players with the highest standings. The playoffs are single-elimination rounds until one undefeated player is remaining as the tournament champion. Playoff rounds will be played in a “Best-of 3” match up. Number of rounds and top cut depends on total attendance:\n8 players: 3 rounds\, no cut9-16 players: 4 rounds\, cut to top 417+ players: 5 rounds\, cut to top 8\n\n\n>>>Prizing<<<1st place: Whispers Champion playmat\, Alt Art Foil Card2nd – 8th places: Alt Art Foil Card\n\nAll players will receive an Alt Art Non-Foil card. In addition to the official prizing\, booster packs or product equivalent to entry fees will be included in the prize pool for each registered player in the event and distributed amongst all players. Additional prizing and promos may be added on and announced on the day of the event
URL:https://diversionsgames.com/event/disney-lorcana-whispers-in-the-well-set-championship-3/
CATEGORIES:Somersworth
ATTACH;FMTTYPE=image/jpeg:https://diversionsgames.com/wp-content/uploads/2026/01/591416122_866785715875960_5678683455960674199_n.jpg
END:VEVENT
BEGIN:VEVENT
DTSTART;TZID=America/New_York:20260128T180000
DTEND;TZID=America/New_York:20260128T210000
DTSTAMP:20260424T003213
CREATED:20251020T203955Z
LAST-MODIFIED:20251020T204111Z
UID:10054718-1769623200-1769634000@diversionsgames.com
SUMMARY:Magic: The Gathering Commander Open Play
DESCRIPTION:Come battle against others in this open format Commander series. As the event gets going we may add events and fun challenges to this twice a month event.
URL:https://diversionsgames.com/event/magic-the-gathering-commander-open-play-3/2026-01-28/
CATEGORIES:Somersworth
ATTACH;FMTTYPE=image/jpeg:https://diversionsgames.com/wp-content/uploads/2025/10/567508677_835258519028680_3310415009717897692_n.jpg
END:VEVENT
BEGIN:VEVENT
DTSTART;TZID=America/New_York:20260131T100000
DTEND;TZID=America/New_York:20260131T180000
DTSTAMP:20260424T003213
CREATED:20240701T184600Z
LAST-MODIFIED:20240701T191429Z
UID:10049965-1769853600-1769882400@diversionsgames.com
SUMMARY:Saturday Board Games
DESCRIPTION:Saturdays are for board games! We invite you to stop in for light\, medium\, and heavy strategy games! Bring your favorites or try out some of our demos. There is plenty of free parking and quick-serve food options nearby.
URL:https://diversionsgames.com/event/saturday-board-games-2-2-2/2026-01-31/
CATEGORIES:Somersworth
ATTACH;FMTTYPE=image/png:https://diversionsgames.com/wp-content/uploads/2023/09/Wingspan.-Photo-from-Stonemaier-Games.png
END:VEVENT
END:VCALENDAR