BEGIN:VCALENDAR
VERSION:2.0
PRODID:-//Diversions Puzzles &amp; Games - ECPv6.14.0//NONSGML v1.0//EN
CALSCALE:GREGORIAN
METHOD:PUBLISH
X-WR-CALNAME:Diversions Puzzles &amp; Games
X-ORIGINAL-URL:https://diversionsgames.com
X-WR-CALDESC:Events for Diversions Puzzles &amp; Games
REFRESH-INTERVAL;VALUE=DURATION:PT1H
X-Robots-Tag:noindex
X-PUBLISHED-TTL:PT1H
BEGIN:VTIMEZONE
TZID:America/New_York
BEGIN:DAYLIGHT
TZOFFSETFROM:-0500
TZOFFSETTO:-0400
TZNAME:EDT
DTSTART:20260308T070000
END:DAYLIGHT
BEGIN:STANDARD
TZOFFSETFROM:-0400
TZOFFSETTO:-0500
TZNAME:EST
DTSTART:20261101T060000
END:STANDARD
END:VTIMEZONE
BEGIN:VEVENT
DTSTART;TZID=America/New_York:20260301T103000
DTEND;TZID=America/New_York:20260301T170000
DTSTAMP:20260422T063358
CREATED:20260107T174923Z
LAST-MODIFIED:20260107T174923Z
UID:10055450-1772361000-1772384400@diversionsgames.com
SUMMARY:Disney Lorcana: Winterspell Constructed Case Tournament
DESCRIPTION:Win your share of a case of the newest Disney Lorcana set\, Winterspell. Pre-registration is highly recommended as events often reach capacity.\n\n>Entry Fee: $30\, paid in-store day of event>Format: Core constructed\, 5 rounds\, best-of-3\, Swiss with top cut>Registration/Check in begins at 10:00>Decklists Required>Max Player Count: 24>Prizing*1st: Box of Whispers in the Well2nd: 16 boosters of Whispers in the Well3rd: 10 boosters of Whispers in the Well4th: 10 boosters of Whispers in the Well5th-8th: 6 boosters of Whispers in the Well9th-24th: 1 booster of Whispers in the Well\n\n*Requires minimum 20 people for full prizing. Prizing may be less with fewer participants\n*You MUST pre-register on Carde.io to guarantee your spot.https://tcg.ravensburgerplay.com/events/328792\n\nWalk-ins are welcome only if space allows
URL:https://diversionsgames.com/event/disney-lorcana-winterspell-constructed-case-tournament/
CATEGORIES:Somersworth
ATTACH;FMTTYPE=image/jpeg:https://diversionsgames.com/wp-content/uploads/2026/01/611162679_895684839652714_3439598153294968024_n.jpg
END:VEVENT
BEGIN:VEVENT
DTSTART;TZID=America/New_York:20260304T180000
DTEND;TZID=America/New_York:20260304T210000
DTSTAMP:20260422T063358
CREATED:20251020T203422Z
LAST-MODIFIED:20251020T203422Z
UID:10054684-1772647200-1772658000@diversionsgames.com
SUMMARY:Board Game Night
DESCRIPTION:Bring your favorite games or try some from our library. Help us get this twice a month event up and rolling\, invite your friends and family!
URL:https://diversionsgames.com/event/board-game-night-4/2026-03-04/
CATEGORIES:Somersworth
ATTACH;FMTTYPE=image/jpeg:https://diversionsgames.com/wp-content/uploads/2025/10/566253280_835261522361713_668231470537107243_n.jpg
END:VEVENT
BEGIN:VEVENT
DTSTART;TZID=America/New_York:20260305T180000
DTEND;TZID=America/New_York:20260305T210000
DTSTAMP:20260422T063358
CREATED:20260203T165411Z
LAST-MODIFIED:20260203T165444Z
UID:10055464-1772733600-1772744400@diversionsgames.com
SUMMARY:Disney Lorcana: Winterspell League - Weeks 2-4: Sealed & Draft Combo
DESCRIPTION:Winterspell League is upon us and we have a flurry of events lined up. Six weeks of league\, every Thursday starting at 6pm.\nWeek Two: Sealed*Week Three: Draft*Week Four: Combine your sealed and draft decks into one deck.*All cards remain in store till end of week four*\nSign up : https://tcg.ravensburgerplay.com/events/373588\n\nWeek One: SealedCost: $41.93Build a 40 card deck from 6 packs of Winterspell.Pack prizing to top finishers\n\nWeek Two: DraftCost: $29.95Draft a 35 card deck for 4 packs of WinterspellPack prizing to top finishers\n\nWeek Four: Sealed/Draft ConstructedCost: $5.99Combine your sealed and draft decks from weeks 2 & 3 to create a 40 card constructed masterpiece.Pack prizing to top finishers
URL:https://diversionsgames.com/event/disney-lorcana-winterspell-league-weeks-2-4-sealed-draft-combo/2026-03-05/
CATEGORIES:Somersworth
ATTACH;FMTTYPE=image/jpeg:https://diversionsgames.com/wp-content/uploads/2026/02/627041001_916831214204743_2510572508462957158_n.jpg
END:VEVENT
BEGIN:VEVENT
DTSTART;TZID=America/New_York:20260306T180000
DTEND;TZID=America/New_York:20260306T210000
DTSTAMP:20260422T063358
CREATED:20251020T202916Z
LAST-MODIFIED:20260414T145941Z
UID:10054658-1772820000-1772830800@diversionsgames.com
SUMMARY:Riftbound: League of Legends TCG Organized Play
DESCRIPTION:Come battle against others in this open format Riftbound: League of Legends TCG series. As the event gets going and the community builds\, we may add drafts and sealed events as well as constructed tournaments.
URL:https://diversionsgames.com/event/riftbound-league-of-legends-tcg-organized-play/2026-03-06/
CATEGORIES:Somersworth
ATTACH;FMTTYPE=image/png:https://diversionsgames.com/wp-content/uploads/2026/04/Copy-of-Riftbound.png
END:VEVENT
BEGIN:VEVENT
DTSTART;TZID=America/New_York:20260306T180000
DTEND;TZID=America/New_York:20260306T210000
DTSTAMP:20260422T063358
CREATED:20260223T172317Z
LAST-MODIFIED:20260223T172343Z
UID:10055549-1772820000-1772830800@diversionsgames.com
SUMMARY:Riftbound TCG Summoner Skirmish
DESCRIPTION:Friday March 6th 6pm\nCost $15\n*All players must have a Carde.io account liked to a Riot account to participate*\nFormat: 1v1 Constructed\, Best of 3 Matches. 3 rounds\nSign up https://locator.riftbound.uvsgames.com/events/275439 \nPrize Support:\n\nParticipation Promo\nTop Cut Promo\nChampion Promo\nChampion Playmat\nAdditionally\, the winner of the event will receive a Round 1 Bye at a Regional Qualifier. Please note: Players can accumulate multiple byes across Summoner Skirmish events\, but they are only able to utilize one bye per Regional Qualifier event. Bye rewards are automatically applied to the recorded winner’s account
URL:https://diversionsgames.com/event/riftbound-summoner-skirmish/
CATEGORIES:Somersworth
ATTACH;FMTTYPE=image/jpeg:https://diversionsgames.com/wp-content/uploads/2026/02/628522848_934406379113893_5483043146080816156_n.jpg
END:VEVENT
BEGIN:VEVENT
DTSTART;TZID=America/New_York:20260307T100000
DTEND;TZID=America/New_York:20260307T180000
DTSTAMP:20260422T063358
CREATED:20240701T184600Z
LAST-MODIFIED:20240701T191429Z
UID:10049969-1772877600-1772906400@diversionsgames.com
SUMMARY:Saturday Board Games
DESCRIPTION:Saturdays are for board games! We invite you to stop in for light\, medium\, and heavy strategy games! Bring your favorites or try out some of our demos. There is plenty of free parking and quick-serve food options nearby.
URL:https://diversionsgames.com/event/saturday-board-games-2-2-2/2026-03-07/
CATEGORIES:Somersworth
ATTACH;FMTTYPE=image/png:https://diversionsgames.com/wp-content/uploads/2023/09/Wingspan.-Photo-from-Stonemaier-Games.png
END:VEVENT
BEGIN:VEVENT
DTSTART;TZID=America/New_York:20260311T180000
DTEND;TZID=America/New_York:20260311T210000
DTSTAMP:20260422T063358
CREATED:20251020T203931Z
LAST-MODIFIED:20260414T143250Z
UID:10054700-1773252000-1773262800@diversionsgames.com
SUMMARY:Magic: The Gathering Commander Open Play
DESCRIPTION:Come battle against others in this open format Commander series. As the event gets going we may add events and fun challenges to this twice a month event.
URL:https://diversionsgames.com/event/magic-the-gathering-commander-open-play-2/2026-03-11/
CATEGORIES:Somersworth
ATTACH;FMTTYPE=image/jpeg:https://diversionsgames.com/wp-content/uploads/2025/10/567508677_835258519028680_3310415009717897692_n.jpg
END:VEVENT
BEGIN:VEVENT
DTSTART;TZID=America/New_York:20260312T180000
DTEND;TZID=America/New_York:20260312T210000
DTSTAMP:20260422T063358
CREATED:20260203T165411Z
LAST-MODIFIED:20260203T165444Z
UID:10055465-1773338400-1773349200@diversionsgames.com
SUMMARY:Disney Lorcana: Winterspell League - Weeks 2-4: Sealed & Draft Combo
DESCRIPTION:Winterspell League is upon us and we have a flurry of events lined up. Six weeks of league\, every Thursday starting at 6pm.\nWeek Two: Sealed*Week Three: Draft*Week Four: Combine your sealed and draft decks into one deck.*All cards remain in store till end of week four*\nSign up : https://tcg.ravensburgerplay.com/events/373588\n\nWeek One: SealedCost: $41.93Build a 40 card deck from 6 packs of Winterspell.Pack prizing to top finishers\n\nWeek Two: DraftCost: $29.95Draft a 35 card deck for 4 packs of WinterspellPack prizing to top finishers\n\nWeek Four: Sealed/Draft ConstructedCost: $5.99Combine your sealed and draft decks from weeks 2 & 3 to create a 40 card constructed masterpiece.Pack prizing to top finishers
URL:https://diversionsgames.com/event/disney-lorcana-winterspell-league-weeks-2-4-sealed-draft-combo/2026-03-12/
CATEGORIES:Somersworth
ATTACH;FMTTYPE=image/jpeg:https://diversionsgames.com/wp-content/uploads/2026/02/627041001_916831214204743_2510572508462957158_n.jpg
END:VEVENT
BEGIN:VEVENT
DTSTART;TZID=America/New_York:20260313T180000
DTEND;TZID=America/New_York:20260313T210000
DTSTAMP:20260422T063358
CREATED:20251020T203553Z
LAST-MODIFIED:20251020T203617Z
UID:10054690-1773424800-1773435600@diversionsgames.com
SUMMARY:Altered TCG
DESCRIPTION:Come battle against others in this open format Altered series. As the event gets going we may add drafts and sealed events.
URL:https://diversionsgames.com/event/altered-tcg/2026-03-13/
CATEGORIES:Somersworth
ATTACH;FMTTYPE=image/jpeg:https://diversionsgames.com/wp-content/uploads/2025/10/565815517_835272222360643_3088215077137092476_n.jpg
END:VEVENT
BEGIN:VEVENT
DTSTART;TZID=America/New_York:20260313T180000
DTEND;TZID=America/New_York:20260313T210000
DTSTAMP:20260422T063358
CREATED:20260220T173015Z
LAST-MODIFIED:20260220T173015Z
UID:10055479-1773424800-1773435600@diversionsgames.com
SUMMARY:Star Wars: Unlimited: A Lawless Time Prerelease
DESCRIPTION:Join us for our Star Wars: Prerelease event for the new set\, A Lawless Time!\n\nFriday March 13th @ 6:00pm (Please arrive early for check in)Cost $29.99\nSign Up: https://melee.gg/Tournament/View/406593\n\nEach player will receive one Prerelease Box (containing 6 booster packs + promo) for the event. This is a Sealed Play event. There will be one round of deckbuilding with your prerelease box and three rounds of Swiss-tournament play\, 55-minutes per round\, best-of-3.
URL:https://diversionsgames.com/event/star-wars-unlimited-a-lawless-time-prerelease-2/
CATEGORIES:Somersworth
ATTACH;FMTTYPE=image/jpeg:https://diversionsgames.com/wp-content/uploads/2026/02/639038731_931669619387569_6023298114189950480_n.jpg
END:VEVENT
BEGIN:VEVENT
DTSTART;TZID=America/New_York:20260314T101500
DTEND;TZID=America/New_York:20260314T131500
DTSTAMP:20260422T063358
CREATED:20260223T164155Z
LAST-MODIFIED:20260223T164235Z
UID:10049573-1773483300-1773494100@diversionsgames.com
SUMMARY:Dungeons & Dragons Monthly Session (Campaign)
DESCRIPTION:*PLEASE NOTE NEW TIMES*\nJoin us for a monthly D&D session! This is a 3-hour session for all experience levels. Please bring your own dice and pencil; the DM will have pre-generated characters\, or you can bring your own character (level can be adjusted based on the session).\nThe session fee is $5.00 per person.\n\n10:15 Session is full going forward until the end of the current campaign\n2:00 Slots are open for players new to D&D.\n\n***Sign ups are encouraged due to space limitations and interest. Please call\, email\, or chat the store on Facebook Messenger to reserve your spot***
URL:https://diversionsgames.com/event/dungeons-dragons-one-shot-session-2022-10-08-3-2-2-2/2026-03-14/
CATEGORIES:Somersworth
ATTACH;FMTTYPE=image/png:https://diversionsgames.com/wp-content/uploads/2023/10/DD-1.png
END:VEVENT
BEGIN:VEVENT
DTSTART;TZID=America/New_York:20260314T140000
DTEND;TZID=America/New_York:20260314T170000
DTSTAMP:20260422T063358
CREATED:20260223T164403Z
LAST-MODIFIED:20260223T164403Z
UID:10055539-1773496800-1773507600@diversionsgames.com
SUMMARY:Dungeons & Dragons Monthly Session (New Players)
DESCRIPTION:*PLEASE NOTE NEW TIMES*\nJoin us for a monthly D&D session! This is a 3-hour session for all experience levels. Please bring your own dice and pencil; the DM will have pre-generated characters\, or you can bring your own character (level can be adjusted based on the session).\nThe session fee is $5.00 per person.\n\n10:15 Session is full going forward until the end of the current campaign\n2:00 Slots are open for players new to D&D.\n\n***Sign ups are encouraged due to space limitations and interest. Please call\, email\, or chat the store on Facebook Messenger to reserve your spot***
URL:https://diversionsgames.com/event/dungeons-dragons-monthly-session-new-players/2026-03-14/
CATEGORIES:Somersworth
ATTACH;FMTTYPE=image/png:https://diversionsgames.com/wp-content/uploads/2026/02/DD-1-1536x804-1.png
END:VEVENT
BEGIN:VEVENT
DTSTART;TZID=America/New_York:20260318T180000
DTEND;TZID=America/New_York:20260318T210000
DTSTAMP:20260422T063358
CREATED:20251020T203337Z
LAST-MODIFIED:20251020T203351Z
UID:10054675-1773856800-1773867600@diversionsgames.com
SUMMARY:Board Game Night
DESCRIPTION:Bring your favorite games or try some from our library. Help us get this twice a month event up and rolling\, invite your friends and family!
URL:https://diversionsgames.com/event/board-game-night-3/2026-03-18/
CATEGORIES:Somersworth
ATTACH;FMTTYPE=image/jpeg:https://diversionsgames.com/wp-content/uploads/2025/10/566253280_835261522361713_668231470537107243_n.jpg
END:VEVENT
BEGIN:VEVENT
DTSTART;TZID=America/New_York:20260319T180000
DTEND;TZID=America/New_York:20260319T210000
DTSTAMP:20260422T063358
CREATED:20260203T165411Z
LAST-MODIFIED:20260203T165444Z
UID:10055466-1773943200-1773954000@diversionsgames.com
SUMMARY:Disney Lorcana: Winterspell League - Weeks 2-4: Sealed & Draft Combo
DESCRIPTION:Winterspell League is upon us and we have a flurry of events lined up. Six weeks of league\, every Thursday starting at 6pm.\nWeek Two: Sealed*Week Three: Draft*Week Four: Combine your sealed and draft decks into one deck.*All cards remain in store till end of week four*\nSign up : https://tcg.ravensburgerplay.com/events/373588\n\nWeek One: SealedCost: $41.93Build a 40 card deck from 6 packs of Winterspell.Pack prizing to top finishers\n\nWeek Two: DraftCost: $29.95Draft a 35 card deck for 4 packs of WinterspellPack prizing to top finishers\n\nWeek Four: Sealed/Draft ConstructedCost: $5.99Combine your sealed and draft decks from weeks 2 & 3 to create a 40 card constructed masterpiece.Pack prizing to top finishers
URL:https://diversionsgames.com/event/disney-lorcana-winterspell-league-weeks-2-4-sealed-draft-combo/2026-03-19/
CATEGORIES:Somersworth
ATTACH;FMTTYPE=image/jpeg:https://diversionsgames.com/wp-content/uploads/2026/02/627041001_916831214204743_2510572508462957158_n.jpg
END:VEVENT
BEGIN:VEVENT
DTSTART;TZID=America/New_York:20260320T180000
DTEND;TZID=America/New_York:20260320T210000
DTSTAMP:20260422T063358
CREATED:20251020T203142Z
LAST-MODIFIED:20260414T145902Z
UID:10054665-1774029600-1774040400@diversionsgames.com
SUMMARY:Star Wars: Unlimited Open Play
DESCRIPTION:Come battle against others in this open format Star Wars Unlimited series. As the event gets going we may add drafts and sealed events as well as constructed tournaments.
URL:https://diversionsgames.com/event/star-wars-unlimited-open-play/2026-03-20/
CATEGORIES:Somersworth
ATTACH;FMTTYPE=image/png:https://diversionsgames.com/wp-content/uploads/2026/04/Copy-of-Star-Wars.png
END:VEVENT
BEGIN:VEVENT
DTSTART;TZID=America/New_York:20260321T100000
DTEND;TZID=America/New_York:20260321T180000
DTSTAMP:20260422T063358
CREATED:20240701T184600Z
LAST-MODIFIED:20240701T191429Z
UID:10049970-1774087200-1774116000@diversionsgames.com
SUMMARY:Saturday Board Games
DESCRIPTION:Saturdays are for board games! We invite you to stop in for light\, medium\, and heavy strategy games! Bring your favorites or try out some of our demos. There is plenty of free parking and quick-serve food options nearby.
URL:https://diversionsgames.com/event/saturday-board-games-2-2-2/2026-03-21/
CATEGORIES:Somersworth
ATTACH;FMTTYPE=image/png:https://diversionsgames.com/wp-content/uploads/2023/09/Wingspan.-Photo-from-Stonemaier-Games.png
END:VEVENT
BEGIN:VEVENT
DTSTART;TZID=America/New_York:20260326T180000
DTEND;TZID=America/New_York:20260326T210000
DTSTAMP:20260422T063358
CREATED:20260203T165601Z
LAST-MODIFIED:20260203T165601Z
UID:10055467-1774548000-1774558800@diversionsgames.com
SUMMARY:Disney Lorcana: Winterspell League - Week 5: Infinity Constructed
DESCRIPTION:Winterspell League is upon us and we have a flurry of events lined up. Six weeks of league\, every Thursday starting at 6pm.\n\nWeek five: InfinityCost: 5.99Sign up: https://tcg.ravensburgerplay.com/events/373605\n\nBreak out your mittens and your old cards for Infinity format!Cards from sets 1-11 are legal in your 60 card deck.
URL:https://diversionsgames.com/event/disney-lorcana-winterspell-league-week-5-infinity-constructed/
CATEGORIES:Somersworth
ATTACH;FMTTYPE=image/jpeg:https://diversionsgames.com/wp-content/uploads/2026/02/627041001_916831214204743_2510572508462957158_n.jpg
END:VEVENT
BEGIN:VEVENT
DTSTART;TZID=America/New_York:20260327T180000
DTEND;TZID=America/New_York:20260327T210000
DTSTAMP:20260422T063358
CREATED:20251020T204220Z
LAST-MODIFIED:20251020T204220Z
UID:10054730-1774634400-1774645200@diversionsgames.com
SUMMARY:Daggerheart RPG
DESCRIPTION:Join us as we explore Daggerheart\, a new epic TTRPG from Darrington Press. Powered by an innovative card and Duality Dice design\, Daggerheart blends tactical depth with narrative freedom\, empowering each group to make the game their own.\n\nSign up in-store. Space is limited.
URL:https://diversionsgames.com/event/daggerheart-rpg/2026-03-27/
CATEGORIES:Somersworth
ATTACH;FMTTYPE=image/jpeg:https://diversionsgames.com/wp-content/uploads/2025/10/568630264_835284445692754_869650272663676147_n.jpg
END:VEVENT
BEGIN:VEVENT
DTSTART;TZID=America/New_York:20260328T100000
DTEND;TZID=America/New_York:20260328T180000
DTSTAMP:20260422T063358
CREATED:20240701T184600Z
LAST-MODIFIED:20240701T191429Z
UID:10049971-1774692000-1774720800@diversionsgames.com
SUMMARY:Saturday Board Games
DESCRIPTION:Saturdays are for board games! We invite you to stop in for light\, medium\, and heavy strategy games! Bring your favorites or try out some of our demos. There is plenty of free parking and quick-serve food options nearby.
URL:https://diversionsgames.com/event/saturday-board-games-2-2-2/2026-03-28/
CATEGORIES:Somersworth
ATTACH;FMTTYPE=image/png:https://diversionsgames.com/wp-content/uploads/2023/09/Wingspan.-Photo-from-Stonemaier-Games.png
END:VEVENT
END:VCALENDAR