BEGIN:VCALENDAR
VERSION:2.0
PRODID:-//Diversions Puzzles &amp; Games - ECPv6.14.0//NONSGML v1.0//EN
CALSCALE:GREGORIAN
METHOD:PUBLISH
X-ORIGINAL-URL:https://diversionsgames.com
X-WR-CALDESC:Events for Diversions Puzzles &amp; Games
REFRESH-INTERVAL;VALUE=DURATION:PT1H
X-Robots-Tag:noindex
X-PUBLISHED-TTL:PT1H
BEGIN:VTIMEZONE
TZID:America/New_York
BEGIN:DAYLIGHT
TZOFFSETFROM:-0500
TZOFFSETTO:-0400
TZNAME:EDT
DTSTART:20250309T070000
END:DAYLIGHT
BEGIN:STANDARD
TZOFFSETFROM:-0400
TZOFFSETTO:-0500
TZNAME:EST
DTSTART:20251102T060000
END:STANDARD
END:VTIMEZONE
BEGIN:VEVENT
DTSTART;TZID=America/New_York:20251205T180000
DTEND;TZID=America/New_York:20251205T210000
DTSTAMP:20260425T111900
CREATED:20251020T202916Z
LAST-MODIFIED:20260414T145941Z
UID:10054655-1764957600-1764968400@diversionsgames.com
SUMMARY:Riftbound: League of Legends TCG Organized Play
DESCRIPTION:Come battle against others in this open format Riftbound: League of Legends TCG series. As the event gets going and the community builds\, we may add drafts and sealed events as well as constructed tournaments.
URL:https://diversionsgames.com/event/riftbound-league-of-legends-tcg-organized-play/2025-12-05/
CATEGORIES:Somersworth
ATTACH;FMTTYPE=image/png:https://diversionsgames.com/wp-content/uploads/2026/04/Copy-of-Riftbound.png
END:VEVENT
END:VCALENDAR