BEGIN:VCALENDAR
VERSION:2.0
PRODID:-//Diversions Puzzles &amp; Games - ECPv6.14.0//NONSGML v1.0//EN
CALSCALE:GREGORIAN
METHOD:PUBLISH
X-WR-CALNAME:Diversions Puzzles &amp; Games
X-ORIGINAL-URL:https://diversionsgames.com
X-WR-CALDESC:Events for Diversions Puzzles &amp; Games
REFRESH-INTERVAL;VALUE=DURATION:PT1H
X-Robots-Tag:noindex
X-PUBLISHED-TTL:PT1H
BEGIN:VTIMEZONE
TZID:America/New_York
BEGIN:DAYLIGHT
TZOFFSETFROM:-0500
TZOFFSETTO:-0400
TZNAME:EDT
DTSTART:20260308T070000
END:DAYLIGHT
BEGIN:STANDARD
TZOFFSETFROM:-0400
TZOFFSETTO:-0500
TZNAME:EST
DTSTART:20261101T060000
END:STANDARD
END:VTIMEZONE
BEGIN:VEVENT
DTSTART;TZID=America/New_York:20260226T180000
DTEND;TZID=America/New_York:20260226T210000
DTSTAMP:20260424T024020
CREATED:20260107T174739Z
LAST-MODIFIED:20260107T174740Z
UID:10055449-1772128800-1772139600@diversionsgames.com
SUMMARY:Disney: Lorcana Pack-Per-Win Tournament
DESCRIPTION:Core Constructed Pack-Per-Win Tournament. 3 rounds Bo3 starting at 6:00pm \n\nCost: $11.98\nRegister here: https://tcg.ravensburgerplay.com/events/328795
URL:https://diversionsgames.com/event/disney-lorcana-pack-per-win-tournament-4/
CATEGORIES:Somersworth
ATTACH;FMTTYPE=image/jpeg:https://diversionsgames.com/wp-content/uploads/2026/01/612020931_895694419651756_6846239578874759749_n.jpg
END:VEVENT
BEGIN:VEVENT
DTSTART;TZID=America/New_York:20260226T180000
DTEND;TZID=America/New_York:20260226T210000
DTSTAMP:20260424T024020
CREATED:20260203T165238Z
LAST-MODIFIED:20260203T165238Z
UID:10055462-1772128800-1772139600@diversionsgames.com
SUMMARY:Disney Lorcana: Winterspell League - Week 1: Pack Per Win
DESCRIPTION:Winterspell League is upon us and we have a flurry of events lined up. Six weeks of league\, every Thursday starting at 6pm. Bring your newest core constructed deck and test them out!\n\nWeek one: Pack Per WinCost: $11.98Sign Up: https://tcg.ravensburgerplay.com/events/328795
URL:https://diversionsgames.com/event/disney-lorcana-winterspell-league-week-1-pack-per-win/
CATEGORIES:Somersworth
ATTACH;FMTTYPE=image/jpeg:https://diversionsgames.com/wp-content/uploads/2026/02/627041001_916831214204743_2510572508462957158_n.jpg
END:VEVENT
END:VCALENDAR