BEGIN:VCALENDAR
VERSION:2.0
PRODID:-//Diversions Puzzles &amp; Games - ECPv6.14.0//NONSGML v1.0//EN
CALSCALE:GREGORIAN
METHOD:PUBLISH
X-ORIGINAL-URL:https://diversionsgames.com
X-WR-CALDESC:Events for Diversions Puzzles &amp; Games
REFRESH-INTERVAL;VALUE=DURATION:PT1H
X-Robots-Tag:noindex
X-PUBLISHED-TTL:PT1H
BEGIN:VTIMEZONE
TZID:America/New_York
BEGIN:DAYLIGHT
TZOFFSETFROM:-0500
TZOFFSETTO:-0400
TZNAME:EDT
DTSTART:20260308T070000
END:DAYLIGHT
BEGIN:STANDARD
TZOFFSETFROM:-0400
TZOFFSETTO:-0500
TZNAME:EST
DTSTART:20261101T060000
END:STANDARD
END:VTIMEZONE
BEGIN:VEVENT
DTSTART;TZID=America/New_York:20260313T180000
DTEND;TZID=America/New_York:20260313T210000
DTSTAMP:20260424T081116
CREATED:20251020T203553Z
LAST-MODIFIED:20251020T203617Z
UID:10054690-1773424800-1773435600@diversionsgames.com
SUMMARY:Altered TCG
DESCRIPTION:Come battle against others in this open format Altered series. As the event gets going we may add drafts and sealed events.
URL:https://diversionsgames.com/event/altered-tcg/2026-03-13/
CATEGORIES:Somersworth
ATTACH;FMTTYPE=image/jpeg:https://diversionsgames.com/wp-content/uploads/2025/10/565815517_835272222360643_3088215077137092476_n.jpg
END:VEVENT
BEGIN:VEVENT
DTSTART;TZID=America/New_York:20260313T180000
DTEND;TZID=America/New_York:20260313T210000
DTSTAMP:20260424T081116
CREATED:20260220T173015Z
LAST-MODIFIED:20260220T173015Z
UID:10055479-1773424800-1773435600@diversionsgames.com
SUMMARY:Star Wars: Unlimited: A Lawless Time Prerelease
DESCRIPTION:Join us for our Star Wars: Prerelease event for the new set\, A Lawless Time!\n\nFriday March 13th @ 6:00pm (Please arrive early for check in)Cost $29.99\nSign Up: https://melee.gg/Tournament/View/406593\n\nEach player will receive one Prerelease Box (containing 6 booster packs + promo) for the event. This is a Sealed Play event. There will be one round of deckbuilding with your prerelease box and three rounds of Swiss-tournament play\, 55-minutes per round\, best-of-3.
URL:https://diversionsgames.com/event/star-wars-unlimited-a-lawless-time-prerelease-2/
CATEGORIES:Somersworth
ATTACH;FMTTYPE=image/jpeg:https://diversionsgames.com/wp-content/uploads/2026/02/639038731_931669619387569_6023298114189950480_n.jpg
END:VEVENT
END:VCALENDAR