BEGIN:VCALENDAR
VERSION:2.0
PRODID:-//Diversions Puzzles &amp; Games - ECPv6.14.0//NONSGML v1.0//EN
CALSCALE:GREGORIAN
METHOD:PUBLISH
X-ORIGINAL-URL:https://diversionsgames.com
X-WR-CALDESC:Events for Diversions Puzzles &amp; Games
REFRESH-INTERVAL;VALUE=DURATION:PT1H
X-Robots-Tag:noindex
X-PUBLISHED-TTL:PT1H
BEGIN:VTIMEZONE
TZID:America/New_York
BEGIN:DAYLIGHT
TZOFFSETFROM:-0500
TZOFFSETTO:-0400
TZNAME:EDT
DTSTART:20260308T070000
END:DAYLIGHT
BEGIN:STANDARD
TZOFFSETFROM:-0400
TZOFFSETTO:-0500
TZNAME:EST
DTSTART:20261101T060000
END:STANDARD
END:VTIMEZONE
BEGIN:VEVENT
DTSTART;TZID=America/New_York:20260403T180000
DTEND;TZID=America/New_York:20260403T210000
DTSTAMP:20260422T142208
CREATED:20251020T202916Z
LAST-MODIFIED:20260414T145941Z
UID:10054659-1775239200-1775250000@diversionsgames.com
SUMMARY:Riftbound: League of Legends TCG Organized Play
DESCRIPTION:Come battle against others in this open format Riftbound: League of Legends TCG series. As the event gets going and the community builds\, we may add drafts and sealed events as well as constructed tournaments.
URL:https://diversionsgames.com/event/riftbound-league-of-legends-tcg-organized-play/2026-04-03/
CATEGORIES:Somersworth
ATTACH;FMTTYPE=image/png:https://diversionsgames.com/wp-content/uploads/2026/04/Copy-of-Riftbound.png
END:VEVENT
BEGIN:VEVENT
DTSTART;TZID=America/New_York:20260403T180000
DTEND;TZID=America/New_York:20260403T210000
DTSTAMP:20260422T142208
CREATED:20260223T173758Z
LAST-MODIFIED:20260223T173758Z
UID:10055550-1775239200-1775250000@diversionsgames.com
SUMMARY:Riftbound TCG Summoner Skirmish
DESCRIPTION:Friday April 3rd 6pm\nCost $15\n*All players must have a Carde.io account liked to a Riot account to participate*\nFormat: 1v1 Constructed\, Best of 3 Matches. 3 rounds\nSign up https://locator.riftbound.uvsgames.com/events/275446\nPrize Support:\n\nParticipation Promo\nTop Cut Promo\nChampion Promo\nChampion Playmat\nAdditionally\, the winner of the event will receive a Round 1 Bye at a Regional Qualifier. Please note: Players can accumulate multiple byes across Summoner Skirmish events\, but they are only able to utilize one bye per Regional Qualifier event. Bye rewards are automatically applied to the recorded winner’s account.
URL:https://diversionsgames.com/event/riftbound-tcg-summoner-skirmish/
CATEGORIES:Somersworth
ATTACH;FMTTYPE=image/jpeg:https://diversionsgames.com/wp-content/uploads/2026/02/639948027_934408049113726_1563015470470181196_n.jpg
END:VEVENT
END:VCALENDAR