BEGIN:VCALENDAR
VERSION:2.0
PRODID:-//Diversions Puzzles &amp; Games - ECPv6.14.0//NONSGML v1.0//EN
CALSCALE:GREGORIAN
METHOD:PUBLISH
X-ORIGINAL-URL:https://diversionsgames.com
X-WR-CALDESC:Events for Diversions Puzzles &amp; Games
REFRESH-INTERVAL;VALUE=DURATION:PT1H
X-Robots-Tag:noindex
X-PUBLISHED-TTL:PT1H
BEGIN:VTIMEZONE
TZID:America/New_York
BEGIN:DAYLIGHT
TZOFFSETFROM:-0500
TZOFFSETTO:-0400
TZNAME:EDT
DTSTART:20260308T070000
END:DAYLIGHT
BEGIN:STANDARD
TZOFFSETFROM:-0400
TZOFFSETTO:-0500
TZNAME:EST
DTSTART:20261101T060000
END:STANDARD
END:VTIMEZONE
BEGIN:VEVENT
DTSTART;TZID=America/New_York:20260531T100000
DTEND;TZID=America/New_York:20260531T170000
DTSTAMP:20260425T142902
CREATED:20260414T140033Z
LAST-MODIFIED:20260414T140033Z
UID:10055574-1780221600-1780246800@diversionsgames.com
SUMMARY:Disney Lorcana: Wilds Unknown Case Tournament
DESCRIPTION:Win your share of a case of the newest Disney Lorcana set\, Wilds Unknown. Pre-registration is highly recommended as events often reach capacity.\n\n\n>Entry Fee: $30\, paid in-store day of event>Format: Core constructed\, 5 rounds\, best-of-3\, Swiss with top cut>Registration/Check in begins at 9:00>Max Player Count: 24>Prizing*1st: Box of Wilds Unknown2nd: 16 boosters of Wilds Unknown3rd: 10 boosters of Wilds Unknown4th: 10 boosters of Wilds Unknown5th-8th: 6 boosters of Wilds Unknown9th-24th: 1 booster of Wilds Unknown\n\n*Requires minimum 20 people for full prizing. Prizing may be less with fewer participants\n\n\n*You MUST pre-register on Carde.io to guarantee your spot: https://tcg.ravensburgerplay.com/events/498007
URL:https://diversionsgames.com/event/disney-lorcana-wilds-unknown-case-tournament/
CATEGORIES:Somersworth
ATTACH;FMTTYPE=image/jpeg:https://diversionsgames.com/wp-content/uploads/2026/04/670309745_974137021807495_750378138082678845_n.jpg
END:VEVENT
END:VCALENDAR