BEGIN:VCALENDAR
VERSION:2.0
PRODID:-//Diversions Puzzles &amp; Games - ECPv6.14.0//NONSGML v1.0//EN
CALSCALE:GREGORIAN
METHOD:PUBLISH
X-ORIGINAL-URL:https://diversionsgames.com
X-WR-CALDESC:Events for Diversions Puzzles &amp; Games
REFRESH-INTERVAL;VALUE=DURATION:PT1H
X-Robots-Tag:noindex
X-PUBLISHED-TTL:PT1H
BEGIN:VTIMEZONE
TZID:America/New_York
BEGIN:DAYLIGHT
TZOFFSETFROM:-0500
TZOFFSETTO:-0400
TZNAME:EDT
DTSTART:20260308T070000
END:DAYLIGHT
BEGIN:STANDARD
TZOFFSETFROM:-0400
TZOFFSETTO:-0500
TZNAME:EST
DTSTART:20261101T060000
END:STANDARD
END:VTIMEZONE
BEGIN:VEVENT
DTSTART;TZID=America/New_York:20260610T180000
DTEND;TZID=America/New_York:20260610T210000
DTSTAMP:20260424T132149
CREATED:20260414T141853Z
LAST-MODIFIED:20260414T141907Z
UID:10055594-1781114400-1781125200@diversionsgames.com
SUMMARY:One Piece Weekly Play
DESCRIPTION:One Piece Weekly event. Come join us and help grow this expanding community!!
URL:https://diversionsgames.com/event/one-piece-weekly-play/2026-06-10/
CATEGORIES:Somersworth
ATTACH;FMTTYPE=image/jpeg:https://diversionsgames.com/wp-content/uploads/2026/04/668877908_971640002057197_8429903579795491276_n.jpg
END:VEVENT
BEGIN:VEVENT
DTSTART;TZID=America/New_York:20260610T180000
DTEND;TZID=America/New_York:20260610T210000
DTSTAMP:20260424T132149
CREATED:20260414T143445Z
LAST-MODIFIED:20260414T145821Z
UID:10055641-1781114400-1781125200@diversionsgames.com
SUMMARY:Magic: The Gathering Commander Open Play
DESCRIPTION:Come battle against others in this open format Commander series.
URL:https://diversionsgames.com/event/magic-the-gathering-commander-open-play-4/2026-06-10/
CATEGORIES:Somersworth
ATTACH;FMTTYPE=image/png:https://diversionsgames.com/wp-content/uploads/2026/04/Copy-of-MtG-1.png
END:VEVENT
BEGIN:VEVENT
DTSTART;TZID=America/New_York:20260610T180000
DTEND;TZID=America/New_York:20260610T210000
DTSTAMP:20260424T132149
CREATED:20260415T140703Z
LAST-MODIFIED:20260415T140703Z
UID:10055674-1781114400-1781125200@diversionsgames.com
SUMMARY:One Piece TCG OP-16 Release Event
DESCRIPTION:ONE PIECE CARD GAME OP-16 Release Event\nCOST : $34.936 packs to build and one pack to the prize poolSign up: https://melee.gg/Tournament/View/418088One Piece Card Game Sealed Format Rules\n\n■Experience the fun of sealed format!In sealed format\, players each open a set number of booster packs from specified sets\, andbuild their decks using only the cards they open.Unlike standard play\, you can ignore the normal deck building colour restrictions based on yourleader and can include cards of any colour in your deck\, and there are additional special rules fordeckbuilding.\n\n■Suggested Packs to Use-6 Packs (each participant should use the same number of packs.)-You may bring your own leader (including those from previous sets) to use in the event.-Please bring 10x DON!! Cards to participate in the event.\n\n■Deck Construction RulesAfter opening 6 packs\, players build a 40-card deck\, and a 10 DON!! card deck. There areno banned or restricted cards\, and players can include as many copies of cards with the samecard number as they like. (There is no 4-card limit and 5 or more copies of a card with thesame card number can be included in decks.) Any cards left over from deck construction aretreated as sideboard cards.\n\n■SideboardsCards not used in decks are treated as sideboard cards. In-between games\, players canexchange cards in their deck with cards in their sideboard. Players can exchange as manycards between deck and sideboard as they like\, so long as they have a legal number of cardsin their deck.\n\n■Keeping CardsPlayers can keep any cards they open in packs.\n\n■Special Game RulesIn sealed format games\, players can ignore deck colour requirements based on their leader.Example: Ordinarily with the red starter deck ST01-001 Monkey D.Luffy as your leader\, you would berestricted to only having red cards in your deck\, however in sealed format you can use cards of anycolour in your deck\, even though your leader is only red.All other card text restrictions still apply as normal\, including effects listed on leaders whenspecifying names or colours of cards.Example 1: With your leader as OP01-060 “Donquixote Doflamingo”\, you may only search for [TheSeven Warlords of the Sea] type Character cards when triggering his abilityExample 2: When using the ability of OP01-067 “Crocodile” “Blue Event cards in your hand cost 1less to play” would only apply to Blue Event cards – This would not apply to Event cards of othercolours.
URL:https://diversionsgames.com/event/one-piece-tcg-op-16-release-event/
CATEGORIES:Somersworth
ATTACH;FMTTYPE=image/jpeg:https://diversionsgames.com/wp-content/uploads/2026/04/671243758_974658518422012_1764592626052812222_n.jpg
END:VEVENT
END:VCALENDAR