BEGIN:VCALENDAR
VERSION:2.0
PRODID:-//Diversions Puzzles &amp; Games - ECPv6.14.0//NONSGML v1.0//EN
CALSCALE:GREGORIAN
METHOD:PUBLISH
X-ORIGINAL-URL:https://diversionsgames.com
X-WR-CALDESC:Events for Diversions Puzzles &amp; Games
REFRESH-INTERVAL;VALUE=DURATION:PT1H
X-Robots-Tag:noindex
X-PUBLISHED-TTL:PT1H
BEGIN:VTIMEZONE
TZID:America/New_York
BEGIN:DAYLIGHT
TZOFFSETFROM:-0500
TZOFFSETTO:-0400
TZNAME:EDT
DTSTART:20260308T070000
END:DAYLIGHT
BEGIN:STANDARD
TZOFFSETFROM:-0400
TZOFFSETTO:-0500
TZNAME:EST
DTSTART:20261101T060000
END:STANDARD
END:VTIMEZONE
BEGIN:VEVENT
DTSTART;TZID=America/New_York:20260422T180000
DTEND;TZID=America/New_York:20260422T210000
DTSTAMP:20260422T035634
CREATED:20260414T140702Z
LAST-MODIFIED:20260414T140702Z
UID:10055580-1776880800-1776891600@diversionsgames.com
SUMMARY:One Piece Store Tournament
DESCRIPTION:$10 entry\nBest-of-one games with 35 minute matches and 5 minutes of extra time.Sign up here: https://melee.gg/Tournament/View/418090
URL:https://diversionsgames.com/event/one-piece-store-tournament/
CATEGORIES:Somersworth
ATTACH;FMTTYPE=image/jpeg:https://diversionsgames.com/wp-content/uploads/2026/04/668467316_971517912069406_1890626193012639174_n.jpg
END:VEVENT
BEGIN:VEVENT
DTSTART;TZID=America/New_York:20260422T180000
DTEND;TZID=America/New_York:20260422T210000
DTSTAMP:20260422T035634
CREATED:20260414T141853Z
LAST-MODIFIED:20260414T141907Z
UID:10055587-1776880800-1776891600@diversionsgames.com
SUMMARY:One Piece Weekly Play
DESCRIPTION:One Piece Weekly event. Come join us and help grow this expanding community!!
URL:https://diversionsgames.com/event/one-piece-weekly-play/2026-04-22/
CATEGORIES:Somersworth
ATTACH;FMTTYPE=image/jpeg:https://diversionsgames.com/wp-content/uploads/2026/04/668877908_971640002057197_8429903579795491276_n.jpg
END:VEVENT
BEGIN:VEVENT
DTSTART;TZID=America/New_York:20260422T180000
DTEND;TZID=America/New_York:20260422T210000
DTSTAMP:20260422T035634
CREATED:20260414T143445Z
LAST-MODIFIED:20260414T145821Z
UID:10055634-1776880800-1776891600@diversionsgames.com
SUMMARY:Magic: The Gathering Commander Open Play
DESCRIPTION:Come battle against others in this open format Commander series.
URL:https://diversionsgames.com/event/magic-the-gathering-commander-open-play-4/2026-04-22/
CATEGORIES:Somersworth
ATTACH;FMTTYPE=image/png:https://diversionsgames.com/wp-content/uploads/2026/04/Copy-of-MtG-1.png
END:VEVENT
BEGIN:VEVENT
DTSTART;TZID=America/New_York:20260423T180000
DTEND;TZID=America/New_York:20260423T210000
DTSTAMP:20260422T035634
CREATED:20260414T141700Z
LAST-MODIFIED:20260414T141700Z
UID:10055584-1776967200-1776978000@diversionsgames.com
SUMMARY:Disney Lorcana: Pack Per Win Tournament
DESCRIPTION:Bring your best\, silliest or most fun core constructed deck and play 3 rounds of pack per win Lorcana\n\nCost $11.98
URL:https://diversionsgames.com/event/disney-lorcana-pack-per-win-tournament-6/2026-04-23/
CATEGORIES:Somersworth
ATTACH;FMTTYPE=image/jpeg:https://diversionsgames.com/wp-content/uploads/2026/04/669572360_971545988733265_6637872949292902144_n.jpg
END:VEVENT
BEGIN:VEVENT
DTSTART;TZID=America/New_York:20260424T180000
DTEND;TZID=America/New_York:20260424T210000
DTSTAMP:20260422T035634
CREATED:20260414T142159Z
LAST-MODIFIED:20260414T145722Z
UID:10054731-1777053600-1777064400@diversionsgames.com
SUMMARY:Daggerheart RPG
DESCRIPTION:Join us as we explore Daggerheart\, a new epic TTRPG from Darrington Press. Powered by an innovative card and Duality Dice design\, Daggerheart blends tactical depth with narrative freedom\, empowering each group to make the game their own.\n\nSign up in-store. Space is limited.
URL:https://diversionsgames.com/event/daggerheart-rpg-2/2026-04-24/
CATEGORIES:Somersworth
ATTACH;FMTTYPE=image/png:https://diversionsgames.com/wp-content/uploads/2026/04/Copy-of-Copy-of-Star-Wars.png
END:VEVENT
BEGIN:VEVENT
DTSTART;TZID=America/New_York:20260425T100000
DTEND;TZID=America/New_York:20260425T180000
DTSTAMP:20260422T035634
CREATED:20240701T184600Z
LAST-MODIFIED:20240701T191429Z
UID:10049974-1777111200-1777140000@diversionsgames.com
SUMMARY:Saturday Board Games
DESCRIPTION:Saturdays are for board games! We invite you to stop in for light\, medium\, and heavy strategy games! Bring your favorites or try out some of our demos. There is plenty of free parking and quick-serve food options nearby.
URL:https://diversionsgames.com/event/saturday-board-games-2-2-2/2026-04-25/
CATEGORIES:Somersworth
ATTACH;FMTTYPE=image/png:https://diversionsgames.com/wp-content/uploads/2023/09/Wingspan.-Photo-from-Stonemaier-Games.png
END:VEVENT
BEGIN:VEVENT
DTSTART;TZID=America/New_York:20260429T180000
DTEND;TZID=America/New_York:20260429T210000
DTSTAMP:20260422T035634
CREATED:20260414T141853Z
LAST-MODIFIED:20260414T141907Z
UID:10055588-1777485600-1777496400@diversionsgames.com
SUMMARY:One Piece Weekly Play
DESCRIPTION:One Piece Weekly event. Come join us and help grow this expanding community!!
URL:https://diversionsgames.com/event/one-piece-weekly-play/2026-04-29/
CATEGORIES:Somersworth
ATTACH;FMTTYPE=image/jpeg:https://diversionsgames.com/wp-content/uploads/2026/04/668877908_971640002057197_8429903579795491276_n.jpg
END:VEVENT
BEGIN:VEVENT
DTSTART;TZID=America/New_York:20260429T180000
DTEND;TZID=America/New_York:20260429T210000
DTSTAMP:20260422T035634
CREATED:20260414T143445Z
LAST-MODIFIED:20260414T145821Z
UID:10055635-1777485600-1777496400@diversionsgames.com
SUMMARY:Magic: The Gathering Commander Open Play
DESCRIPTION:Come battle against others in this open format Commander series.
URL:https://diversionsgames.com/event/magic-the-gathering-commander-open-play-4/2026-04-29/
CATEGORIES:Somersworth
ATTACH;FMTTYPE=image/png:https://diversionsgames.com/wp-content/uploads/2026/04/Copy-of-MtG-1.png
END:VEVENT
BEGIN:VEVENT
DTSTART;TZID=America/New_York:20260430T180000
DTEND;TZID=America/New_York:20260430T210000
DTSTAMP:20260422T035634
CREATED:20260414T141700Z
LAST-MODIFIED:20260414T141700Z
UID:10055585-1777572000-1777582800@diversionsgames.com
SUMMARY:Disney Lorcana: Pack Per Win Tournament
DESCRIPTION:Bring your best\, silliest or most fun core constructed deck and play 3 rounds of pack per win Lorcana\n\nCost $11.98
URL:https://diversionsgames.com/event/disney-lorcana-pack-per-win-tournament-6/2026-04-30/
CATEGORIES:Somersworth
ATTACH;FMTTYPE=image/jpeg:https://diversionsgames.com/wp-content/uploads/2026/04/669572360_971545988733265_6637872949292902144_n.jpg
END:VEVENT
END:VCALENDAR