BEGIN:VCALENDAR
VERSION:2.0
PRODID:-//Diversions Puzzles &amp; Games - ECPv6.14.0//NONSGML v1.0//EN
CALSCALE:GREGORIAN
METHOD:PUBLISH
X-ORIGINAL-URL:https://diversionsgames.com
X-WR-CALDESC:Events for Diversions Puzzles &amp; Games
REFRESH-INTERVAL;VALUE=DURATION:PT1H
X-Robots-Tag:noindex
X-PUBLISHED-TTL:PT1H
BEGIN:VTIMEZONE
TZID:America/New_York
BEGIN:DAYLIGHT
TZOFFSETFROM:-0500
TZOFFSETTO:-0400
TZNAME:EDT
DTSTART:20260308T070000
END:DAYLIGHT
BEGIN:STANDARD
TZOFFSETFROM:-0400
TZOFFSETTO:-0500
TZNAME:EST
DTSTART:20261101T060000
END:STANDARD
END:VTIMEZONE
BEGIN:VEVENT
DTSTART;TZID=America/New_York:20260703T180000
DTEND;TZID=America/New_York:20260703T210000
DTSTAMP:20260425T080802
CREATED:20260223T174615Z
LAST-MODIFIED:20260223T174615Z
UID:10055554-1783101600-1783112400@diversionsgames.com
SUMMARY:Riftbound TCG Summoner Skirmish
DESCRIPTION:Friday July 3rd 6pm\nCost $15\n*All players must have a Carde.io account liked to a Riot account to participate*\nFormat: 1v1 Constructed\, Best of 3 Matches. 3 rounds\nSign up https://locator.riftbound.uvsgames.com/events/379383\nPrize Support:\n\nParticipation Promo\nTop Cut Promo\nChampion Promo\nChampion Playmat\nAdditionally\, the winner of the event will receive a Round 1 Bye at a Regional Qualifier. Please note: Players can accumulate multiple byes across Summoner Skirmish events\, but they are only able to utilize one bye per Regional Qualifier event. Bye rewards are automatically applied to the recorded winner’s account.
URL:https://diversionsgames.com/event/riftbound-tcg-summoner-skirmish-3/
CATEGORIES:Somersworth
ATTACH;FMTTYPE=image/jpeg:https://diversionsgames.com/wp-content/uploads/2026/02/639224292_934409632446901_6441575111690446137_n.jpg
END:VEVENT
BEGIN:VEVENT
DTSTART;TZID=America/New_York:20260704T100000
DTEND;TZID=America/New_York:20260704T180000
DTSTAMP:20260425T080802
CREATED:20240701T184600Z
LAST-MODIFIED:20240701T191429Z
UID:10049982-1783159200-1783188000@diversionsgames.com
SUMMARY:Saturday Board Games
DESCRIPTION:Saturdays are for board games! We invite you to stop in for light\, medium\, and heavy strategy games! Bring your favorites or try out some of our demos. There is plenty of free parking and quick-serve food options nearby.
URL:https://diversionsgames.com/event/saturday-board-games-2-2-2/2026-07-04/
CATEGORIES:Somersworth
ATTACH;FMTTYPE=image/png:https://diversionsgames.com/wp-content/uploads/2023/09/Wingspan.-Photo-from-Stonemaier-Games.png
END:VEVENT
BEGIN:VEVENT
DTSTART;TZID=America/New_York:20260708T180000
DTEND;TZID=America/New_York:20260708T210000
DTSTAMP:20260425T080802
CREATED:20260414T141853Z
LAST-MODIFIED:20260414T141907Z
UID:10055598-1783533600-1783544400@diversionsgames.com
SUMMARY:One Piece Weekly Play
DESCRIPTION:One Piece Weekly event. Come join us and help grow this expanding community!!
URL:https://diversionsgames.com/event/one-piece-weekly-play/2026-07-08/
CATEGORIES:Somersworth
ATTACH;FMTTYPE=image/jpeg:https://diversionsgames.com/wp-content/uploads/2026/04/668877908_971640002057197_8429903579795491276_n.jpg
END:VEVENT
BEGIN:VEVENT
DTSTART;TZID=America/New_York:20260708T180000
DTEND;TZID=America/New_York:20260708T210000
DTSTAMP:20260425T080802
CREATED:20260414T143445Z
LAST-MODIFIED:20260414T145821Z
UID:10055645-1783533600-1783544400@diversionsgames.com
SUMMARY:Magic: The Gathering Commander Open Play
DESCRIPTION:Come battle against others in this open format Commander series.
URL:https://diversionsgames.com/event/magic-the-gathering-commander-open-play-4/2026-07-08/
CATEGORIES:Somersworth
ATTACH;FMTTYPE=image/png:https://diversionsgames.com/wp-content/uploads/2026/04/Copy-of-MtG-1.png
END:VEVENT
BEGIN:VEVENT
DTSTART;TZID=America/New_York:20260711T101500
DTEND;TZID=America/New_York:20260711T131500
DTSTAMP:20260425T080802
CREATED:20260223T164155Z
LAST-MODIFIED:20260223T164235Z
UID:10055483-1783764900-1783775700@diversionsgames.com
SUMMARY:Dungeons & Dragons Monthly Session (Campaign)
DESCRIPTION:*PLEASE NOTE NEW TIMES*\nJoin us for a monthly D&D session! This is a 3-hour session for all experience levels. Please bring your own dice and pencil; the DM will have pre-generated characters\, or you can bring your own character (level can be adjusted based on the session).\nThe session fee is $5.00 per person.\n\n10:15 Session is full going forward until the end of the current campaign\n2:00 Slots are open for players new to D&D.\n\n***Sign ups are encouraged due to space limitations and interest. Please call\, email\, or chat the store on Facebook Messenger to reserve your spot***
URL:https://diversionsgames.com/event/dungeons-dragons-one-shot-session-2022-10-08-3-2-2-2/2026-07-11/
CATEGORIES:Somersworth
ATTACH;FMTTYPE=image/png:https://diversionsgames.com/wp-content/uploads/2023/10/DD-1.png
END:VEVENT
BEGIN:VEVENT
DTSTART;TZID=America/New_York:20260711T140000
DTEND;TZID=America/New_York:20260711T170000
DTSTAMP:20260425T080802
CREATED:20260223T164403Z
LAST-MODIFIED:20260223T164403Z
UID:10055543-1783778400-1783789200@diversionsgames.com
SUMMARY:Dungeons & Dragons Monthly Session (New Players)
DESCRIPTION:*PLEASE NOTE NEW TIMES*\nJoin us for a monthly D&D session! This is a 3-hour session for all experience levels. Please bring your own dice and pencil; the DM will have pre-generated characters\, or you can bring your own character (level can be adjusted based on the session).\nThe session fee is $5.00 per person.\n\n10:15 Session is full going forward until the end of the current campaign\n2:00 Slots are open for players new to D&D.\n\n***Sign ups are encouraged due to space limitations and interest. Please call\, email\, or chat the store on Facebook Messenger to reserve your spot***
URL:https://diversionsgames.com/event/dungeons-dragons-monthly-session-new-players/2026-07-11/
CATEGORIES:Somersworth
ATTACH;FMTTYPE=image/png:https://diversionsgames.com/wp-content/uploads/2026/02/DD-1-1536x804-1.png
END:VEVENT
BEGIN:VEVENT
DTSTART;TZID=America/New_York:20260715T180000
DTEND;TZID=America/New_York:20260715T210000
DTSTAMP:20260425T080802
CREATED:20260414T141853Z
LAST-MODIFIED:20260414T141907Z
UID:10055599-1784138400-1784149200@diversionsgames.com
SUMMARY:One Piece Weekly Play
DESCRIPTION:One Piece Weekly event. Come join us and help grow this expanding community!!
URL:https://diversionsgames.com/event/one-piece-weekly-play/2026-07-15/
CATEGORIES:Somersworth
ATTACH;FMTTYPE=image/jpeg:https://diversionsgames.com/wp-content/uploads/2026/04/668877908_971640002057197_8429903579795491276_n.jpg
END:VEVENT
BEGIN:VEVENT
DTSTART;TZID=America/New_York:20260715T180000
DTEND;TZID=America/New_York:20260715T210000
DTSTAMP:20260425T080802
CREATED:20260414T143445Z
LAST-MODIFIED:20260414T145821Z
UID:10055646-1784138400-1784149200@diversionsgames.com
SUMMARY:Magic: The Gathering Commander Open Play
DESCRIPTION:Come battle against others in this open format Commander series.
URL:https://diversionsgames.com/event/magic-the-gathering-commander-open-play-4/2026-07-15/
CATEGORIES:Somersworth
ATTACH;FMTTYPE=image/png:https://diversionsgames.com/wp-content/uploads/2026/04/Copy-of-MtG-1.png
END:VEVENT
BEGIN:VEVENT
DTSTART;TZID=America/New_York:20260717T180000
DTEND;TZID=America/New_York:20260717T210000
DTSTAMP:20260425T080802
CREATED:20251020T203142Z
LAST-MODIFIED:20260414T145902Z
UID:10054669-1784311200-1784322000@diversionsgames.com
SUMMARY:Star Wars: Unlimited Open Play
DESCRIPTION:Come battle against others in this open format Star Wars Unlimited series. As the event gets going we may add drafts and sealed events as well as constructed tournaments.
URL:https://diversionsgames.com/event/star-wars-unlimited-open-play/2026-07-17/
CATEGORIES:Somersworth
ATTACH;FMTTYPE=image/png:https://diversionsgames.com/wp-content/uploads/2026/04/Copy-of-Star-Wars.png
END:VEVENT
BEGIN:VEVENT
DTSTART;TZID=America/New_York:20260718T100000
DTEND;TZID=America/New_York:20260718T180000
DTSTAMP:20260425T080802
CREATED:20240701T184600Z
LAST-MODIFIED:20240701T191429Z
UID:10049983-1784368800-1784397600@diversionsgames.com
SUMMARY:Saturday Board Games
DESCRIPTION:Saturdays are for board games! We invite you to stop in for light\, medium\, and heavy strategy games! Bring your favorites or try out some of our demos. There is plenty of free parking and quick-serve food options nearby.
URL:https://diversionsgames.com/event/saturday-board-games-2-2-2/2026-07-18/
CATEGORIES:Somersworth
ATTACH;FMTTYPE=image/png:https://diversionsgames.com/wp-content/uploads/2023/09/Wingspan.-Photo-from-Stonemaier-Games.png
END:VEVENT
BEGIN:VEVENT
DTSTART;TZID=America/New_York:20260722T180000
DTEND;TZID=America/New_York:20260722T210000
DTSTAMP:20260425T080802
CREATED:20260414T141853Z
LAST-MODIFIED:20260414T141907Z
UID:10055600-1784743200-1784754000@diversionsgames.com
SUMMARY:One Piece Weekly Play
DESCRIPTION:One Piece Weekly event. Come join us and help grow this expanding community!!
URL:https://diversionsgames.com/event/one-piece-weekly-play/2026-07-22/
CATEGORIES:Somersworth
ATTACH;FMTTYPE=image/jpeg:https://diversionsgames.com/wp-content/uploads/2026/04/668877908_971640002057197_8429903579795491276_n.jpg
END:VEVENT
BEGIN:VEVENT
DTSTART;TZID=America/New_York:20260722T180000
DTEND;TZID=America/New_York:20260722T210000
DTSTAMP:20260425T080802
CREATED:20260414T143445Z
LAST-MODIFIED:20260414T145821Z
UID:10055647-1784743200-1784754000@diversionsgames.com
SUMMARY:Magic: The Gathering Commander Open Play
DESCRIPTION:Come battle against others in this open format Commander series.
URL:https://diversionsgames.com/event/magic-the-gathering-commander-open-play-4/2026-07-22/
CATEGORIES:Somersworth
ATTACH;FMTTYPE=image/png:https://diversionsgames.com/wp-content/uploads/2026/04/Copy-of-MtG-1.png
END:VEVENT
BEGIN:VEVENT
DTSTART;TZID=America/New_York:20260724T180000
DTEND;TZID=America/New_York:20260724T210000
DTSTAMP:20260425T080802
CREATED:20260414T142159Z
LAST-MODIFIED:20260414T145722Z
UID:10054734-1784916000-1784926800@diversionsgames.com
SUMMARY:Daggerheart RPG
DESCRIPTION:Join us as we explore Daggerheart\, a new epic TTRPG from Darrington Press. Powered by an innovative card and Duality Dice design\, Daggerheart blends tactical depth with narrative freedom\, empowering each group to make the game their own.\n\nSign up in-store. Space is limited.
URL:https://diversionsgames.com/event/daggerheart-rpg-2/2026-07-24/
CATEGORIES:Somersworth
ATTACH;FMTTYPE=image/png:https://diversionsgames.com/wp-content/uploads/2026/04/Copy-of-Copy-of-Star-Wars.png
END:VEVENT
BEGIN:VEVENT
DTSTART;TZID=America/New_York:20260725T100000
DTEND;TZID=America/New_York:20260725T180000
DTSTAMP:20260425T080802
CREATED:20240701T184600Z
LAST-MODIFIED:20240701T191429Z
UID:10049984-1784973600-1785002400@diversionsgames.com
SUMMARY:Saturday Board Games
DESCRIPTION:Saturdays are for board games! We invite you to stop in for light\, medium\, and heavy strategy games! Bring your favorites or try out some of our demos. There is plenty of free parking and quick-serve food options nearby.
URL:https://diversionsgames.com/event/saturday-board-games-2-2-2/2026-07-25/
CATEGORIES:Somersworth
ATTACH;FMTTYPE=image/png:https://diversionsgames.com/wp-content/uploads/2023/09/Wingspan.-Photo-from-Stonemaier-Games.png
END:VEVENT
BEGIN:VEVENT
DTSTART;TZID=America/New_York:20260729T180000
DTEND;TZID=America/New_York:20260729T210000
DTSTAMP:20260425T080802
CREATED:20260414T141853Z
LAST-MODIFIED:20260414T141907Z
UID:10055601-1785348000-1785358800@diversionsgames.com
SUMMARY:One Piece Weekly Play
DESCRIPTION:One Piece Weekly event. Come join us and help grow this expanding community!!
URL:https://diversionsgames.com/event/one-piece-weekly-play/2026-07-29/
CATEGORIES:Somersworth
ATTACH;FMTTYPE=image/jpeg:https://diversionsgames.com/wp-content/uploads/2026/04/668877908_971640002057197_8429903579795491276_n.jpg
END:VEVENT
BEGIN:VEVENT
DTSTART;TZID=America/New_York:20260729T180000
DTEND;TZID=America/New_York:20260729T210000
DTSTAMP:20260425T080802
CREATED:20260414T143445Z
LAST-MODIFIED:20260414T145821Z
UID:10055648-1785348000-1785358800@diversionsgames.com
SUMMARY:Magic: The Gathering Commander Open Play
DESCRIPTION:Come battle against others in this open format Commander series.
URL:https://diversionsgames.com/event/magic-the-gathering-commander-open-play-4/2026-07-29/
CATEGORIES:Somersworth
ATTACH;FMTTYPE=image/png:https://diversionsgames.com/wp-content/uploads/2026/04/Copy-of-MtG-1.png
END:VEVENT
BEGIN:VEVENT
DTSTART;TZID=America/New_York:20260801T100000
DTEND;TZID=America/New_York:20260801T180000
DTSTAMP:20260425T080803
CREATED:20240701T184600Z
LAST-MODIFIED:20240701T191429Z
UID:10049985-1785578400-1785607200@diversionsgames.com
SUMMARY:Saturday Board Games
DESCRIPTION:Saturdays are for board games! We invite you to stop in for light\, medium\, and heavy strategy games! Bring your favorites or try out some of our demos. There is plenty of free parking and quick-serve food options nearby.
URL:https://diversionsgames.com/event/saturday-board-games-2-2-2/2026-08-01/
CATEGORIES:Somersworth
ATTACH;FMTTYPE=image/png:https://diversionsgames.com/wp-content/uploads/2023/09/Wingspan.-Photo-from-Stonemaier-Games.png
END:VEVENT
BEGIN:VEVENT
DTSTART;TZID=America/New_York:20260805T180000
DTEND;TZID=America/New_York:20260805T210000
DTSTAMP:20260425T080803
CREATED:20260414T141853Z
LAST-MODIFIED:20260414T141907Z
UID:10055602-1785952800-1785963600@diversionsgames.com
SUMMARY:One Piece Weekly Play
DESCRIPTION:One Piece Weekly event. Come join us and help grow this expanding community!!
URL:https://diversionsgames.com/event/one-piece-weekly-play/2026-08-05/
CATEGORIES:Somersworth
ATTACH;FMTTYPE=image/jpeg:https://diversionsgames.com/wp-content/uploads/2026/04/668877908_971640002057197_8429903579795491276_n.jpg
END:VEVENT
BEGIN:VEVENT
DTSTART;TZID=America/New_York:20260805T180000
DTEND;TZID=America/New_York:20260805T210000
DTSTAMP:20260425T080803
CREATED:20260414T143445Z
LAST-MODIFIED:20260414T145821Z
UID:10055649-1785952800-1785963600@diversionsgames.com
SUMMARY:Magic: The Gathering Commander Open Play
DESCRIPTION:Come battle against others in this open format Commander series.
URL:https://diversionsgames.com/event/magic-the-gathering-commander-open-play-4/2026-08-05/
CATEGORIES:Somersworth
ATTACH;FMTTYPE=image/png:https://diversionsgames.com/wp-content/uploads/2026/04/Copy-of-MtG-1.png
END:VEVENT
BEGIN:VEVENT
DTSTART;TZID=America/New_York:20260808T101500
DTEND;TZID=America/New_York:20260808T131500
DTSTAMP:20260425T080803
CREATED:20260223T164155Z
LAST-MODIFIED:20260223T164235Z
UID:10055484-1786184100-1786194900@diversionsgames.com
SUMMARY:Dungeons & Dragons Monthly Session (Campaign)
DESCRIPTION:*PLEASE NOTE NEW TIMES*\nJoin us for a monthly D&D session! This is a 3-hour session for all experience levels. Please bring your own dice and pencil; the DM will have pre-generated characters\, or you can bring your own character (level can be adjusted based on the session).\nThe session fee is $5.00 per person.\n\n10:15 Session is full going forward until the end of the current campaign\n2:00 Slots are open for players new to D&D.\n\n***Sign ups are encouraged due to space limitations and interest. Please call\, email\, or chat the store on Facebook Messenger to reserve your spot***
URL:https://diversionsgames.com/event/dungeons-dragons-one-shot-session-2022-10-08-3-2-2-2/2026-08-08/
CATEGORIES:Somersworth
ATTACH;FMTTYPE=image/png:https://diversionsgames.com/wp-content/uploads/2023/10/DD-1.png
END:VEVENT
BEGIN:VEVENT
DTSTART;TZID=America/New_York:20260808T140000
DTEND;TZID=America/New_York:20260808T170000
DTSTAMP:20260425T080803
CREATED:20260223T164403Z
LAST-MODIFIED:20260223T164403Z
UID:10055544-1786197600-1786208400@diversionsgames.com
SUMMARY:Dungeons & Dragons Monthly Session (New Players)
DESCRIPTION:*PLEASE NOTE NEW TIMES*\nJoin us for a monthly D&D session! This is a 3-hour session for all experience levels. Please bring your own dice and pencil; the DM will have pre-generated characters\, or you can bring your own character (level can be adjusted based on the session).\nThe session fee is $5.00 per person.\n\n10:15 Session is full going forward until the end of the current campaign\n2:00 Slots are open for players new to D&D.\n\n***Sign ups are encouraged due to space limitations and interest. Please call\, email\, or chat the store on Facebook Messenger to reserve your spot***
URL:https://diversionsgames.com/event/dungeons-dragons-monthly-session-new-players/2026-08-08/
CATEGORIES:Somersworth
ATTACH;FMTTYPE=image/png:https://diversionsgames.com/wp-content/uploads/2026/02/DD-1-1536x804-1.png
END:VEVENT
BEGIN:VEVENT
DTSTART;TZID=America/New_York:20260812T180000
DTEND;TZID=America/New_York:20260812T210000
DTSTAMP:20260425T080803
CREATED:20260414T141853Z
LAST-MODIFIED:20260414T141907Z
UID:10055603-1786557600-1786568400@diversionsgames.com
SUMMARY:One Piece Weekly Play
DESCRIPTION:One Piece Weekly event. Come join us and help grow this expanding community!!
URL:https://diversionsgames.com/event/one-piece-weekly-play/2026-08-12/
CATEGORIES:Somersworth
ATTACH;FMTTYPE=image/jpeg:https://diversionsgames.com/wp-content/uploads/2026/04/668877908_971640002057197_8429903579795491276_n.jpg
END:VEVENT
BEGIN:VEVENT
DTSTART;TZID=America/New_York:20260812T180000
DTEND;TZID=America/New_York:20260812T210000
DTSTAMP:20260425T080803
CREATED:20260414T143445Z
LAST-MODIFIED:20260414T145821Z
UID:10055650-1786557600-1786568400@diversionsgames.com
SUMMARY:Magic: The Gathering Commander Open Play
DESCRIPTION:Come battle against others in this open format Commander series.
URL:https://diversionsgames.com/event/magic-the-gathering-commander-open-play-4/2026-08-12/
CATEGORIES:Somersworth
ATTACH;FMTTYPE=image/png:https://diversionsgames.com/wp-content/uploads/2026/04/Copy-of-MtG-1.png
END:VEVENT
BEGIN:VEVENT
DTSTART;TZID=America/New_York:20260815T100000
DTEND;TZID=America/New_York:20260815T180000
DTSTAMP:20260425T080803
CREATED:20240701T184600Z
LAST-MODIFIED:20240701T191429Z
UID:10049986-1786788000-1786816800@diversionsgames.com
SUMMARY:Saturday Board Games
DESCRIPTION:Saturdays are for board games! We invite you to stop in for light\, medium\, and heavy strategy games! Bring your favorites or try out some of our demos. There is plenty of free parking and quick-serve food options nearby.
URL:https://diversionsgames.com/event/saturday-board-games-2-2-2/2026-08-15/
CATEGORIES:Somersworth
ATTACH;FMTTYPE=image/png:https://diversionsgames.com/wp-content/uploads/2023/09/Wingspan.-Photo-from-Stonemaier-Games.png
END:VEVENT
BEGIN:VEVENT
DTSTART;TZID=America/New_York:20260819T180000
DTEND;TZID=America/New_York:20260819T210000
DTSTAMP:20260425T080803
CREATED:20260414T141853Z
LAST-MODIFIED:20260414T141907Z
UID:10055604-1787162400-1787173200@diversionsgames.com
SUMMARY:One Piece Weekly Play
DESCRIPTION:One Piece Weekly event. Come join us and help grow this expanding community!!
URL:https://diversionsgames.com/event/one-piece-weekly-play/2026-08-19/
CATEGORIES:Somersworth
ATTACH;FMTTYPE=image/jpeg:https://diversionsgames.com/wp-content/uploads/2026/04/668877908_971640002057197_8429903579795491276_n.jpg
END:VEVENT
BEGIN:VEVENT
DTSTART;TZID=America/New_York:20260819T180000
DTEND;TZID=America/New_York:20260819T210000
DTSTAMP:20260425T080803
CREATED:20260414T143445Z
LAST-MODIFIED:20260414T145821Z
UID:10055651-1787162400-1787173200@diversionsgames.com
SUMMARY:Magic: The Gathering Commander Open Play
DESCRIPTION:Come battle against others in this open format Commander series.
URL:https://diversionsgames.com/event/magic-the-gathering-commander-open-play-4/2026-08-19/
CATEGORIES:Somersworth
ATTACH;FMTTYPE=image/png:https://diversionsgames.com/wp-content/uploads/2026/04/Copy-of-MtG-1.png
END:VEVENT
BEGIN:VEVENT
DTSTART;TZID=America/New_York:20260821T180000
DTEND;TZID=America/New_York:20260821T210000
DTSTAMP:20260425T080803
CREATED:20251020T203142Z
LAST-MODIFIED:20260414T145902Z
UID:10054670-1787335200-1787346000@diversionsgames.com
SUMMARY:Star Wars: Unlimited Open Play
DESCRIPTION:Come battle against others in this open format Star Wars Unlimited series. As the event gets going we may add drafts and sealed events as well as constructed tournaments.
URL:https://diversionsgames.com/event/star-wars-unlimited-open-play/2026-08-21/
CATEGORIES:Somersworth
ATTACH;FMTTYPE=image/png:https://diversionsgames.com/wp-content/uploads/2026/04/Copy-of-Star-Wars.png
END:VEVENT
BEGIN:VEVENT
DTSTART;TZID=America/New_York:20260822T100000
DTEND;TZID=America/New_York:20260822T180000
DTSTAMP:20260425T080803
CREATED:20240701T184600Z
LAST-MODIFIED:20240701T191429Z
UID:10049987-1787392800-1787421600@diversionsgames.com
SUMMARY:Saturday Board Games
DESCRIPTION:Saturdays are for board games! We invite you to stop in for light\, medium\, and heavy strategy games! Bring your favorites or try out some of our demos. There is plenty of free parking and quick-serve food options nearby.
URL:https://diversionsgames.com/event/saturday-board-games-2-2-2/2026-08-22/
CATEGORIES:Somersworth
ATTACH;FMTTYPE=image/png:https://diversionsgames.com/wp-content/uploads/2023/09/Wingspan.-Photo-from-Stonemaier-Games.png
END:VEVENT
BEGIN:VEVENT
DTSTART;TZID=America/New_York:20260826T180000
DTEND;TZID=America/New_York:20260826T210000
DTSTAMP:20260425T080803
CREATED:20260414T141853Z
LAST-MODIFIED:20260414T141907Z
UID:10055605-1787767200-1787778000@diversionsgames.com
SUMMARY:One Piece Weekly Play
DESCRIPTION:One Piece Weekly event. Come join us and help grow this expanding community!!
URL:https://diversionsgames.com/event/one-piece-weekly-play/2026-08-26/
CATEGORIES:Somersworth
ATTACH;FMTTYPE=image/jpeg:https://diversionsgames.com/wp-content/uploads/2026/04/668877908_971640002057197_8429903579795491276_n.jpg
END:VEVENT
BEGIN:VEVENT
DTSTART;TZID=America/New_York:20260826T180000
DTEND;TZID=America/New_York:20260826T210000
DTSTAMP:20260425T080803
CREATED:20260414T143445Z
LAST-MODIFIED:20260414T145821Z
UID:10055652-1787767200-1787778000@diversionsgames.com
SUMMARY:Magic: The Gathering Commander Open Play
DESCRIPTION:Come battle against others in this open format Commander series.
URL:https://diversionsgames.com/event/magic-the-gathering-commander-open-play-4/2026-08-26/
CATEGORIES:Somersworth
ATTACH;FMTTYPE=image/png:https://diversionsgames.com/wp-content/uploads/2026/04/Copy-of-MtG-1.png
END:VEVENT
END:VCALENDAR