BEGIN:VCALENDAR
VERSION:2.0
PRODID:-//Diversions Puzzles &amp; Games - ECPv6.14.0//NONSGML v1.0//EN
CALSCALE:GREGORIAN
METHOD:PUBLISH
X-WR-CALNAME:Diversions Puzzles &amp; Games
X-ORIGINAL-URL:https://diversionsgames.com
X-WR-CALDESC:Events for Diversions Puzzles &amp; Games
REFRESH-INTERVAL;VALUE=DURATION:PT1H
X-Robots-Tag:noindex
X-PUBLISHED-TTL:PT1H
BEGIN:VTIMEZONE
TZID:America/New_York
BEGIN:DAYLIGHT
TZOFFSETFROM:-0500
TZOFFSETTO:-0400
TZNAME:EDT
DTSTART:20250309T070000
END:DAYLIGHT
BEGIN:STANDARD
TZOFFSETFROM:-0400
TZOFFSETTO:-0500
TZNAME:EST
DTSTART:20251102T060000
END:STANDARD
END:VTIMEZONE
BEGIN:VEVENT
DTSTART;TZID=America/New_York:20251203T180000
DTEND;TZID=America/New_York:20251203T210000
DTSTAMP:20260425T185128
CREATED:20251020T203422Z
LAST-MODIFIED:20251020T203422Z
UID:10054681-1764784800-1764795600@diversionsgames.com
SUMMARY:Board Game Night
DESCRIPTION:Bring your favorite games or try some from our library. Help us get this twice a month event up and rolling\, invite your friends and family!
URL:https://diversionsgames.com/event/board-game-night-4/2025-12-03/
CATEGORIES:Somersworth
ATTACH;FMTTYPE=image/jpeg:https://diversionsgames.com/wp-content/uploads/2025/10/566253280_835261522361713_668231470537107243_n.jpg
END:VEVENT
BEGIN:VEVENT
DTSTART;TZID=America/New_York:20251204T180000
DTEND;TZID=America/New_York:20251204T210000
DTSTAMP:20260425T185128
CREATED:20251016T140620Z
LAST-MODIFIED:20251016T142626Z
UID:10054540-1764871200-1764882000@diversionsgames.com
SUMMARY:Disney Lorcana: Whispers in the Well Starter Deck League
DESCRIPTION:Join us as we dive in the newest Lorcana set\, Whispers in the Well. This is a three week event. Week one $35\, Weeks two and three $18.\nThe first week you will use your Starter Deck and two packs to build a 60-card deck using 6 colors. All other normal constructed rules apply. Each week\, you will get two additional packs to add on to your deck\, or you can trade for cards you need with other players. You will also remove 2 colors. We will trade and build\, and then play a Swiss tournament each week. Your league deck and cards will be stored at Diversions in your deck box. At the end of league\, you will take home your decks\, cards\, deck boxes\, and some fun goodies!\n\nAdditional guidelines:-You are welcome to play constructed on league night to hone your tournament/championship decks.-Only cards received as part of league weekly entry boosters can be added to an Official League Deck. These can be cards you opened in your pack\, or cards you traded with another league member from their league pack.-Folks who wish to join late or who miss a week can catch up by back-paying weekly entry fees.\n\nLeague Rules:No proxies are allowed in league games.Cards from league packs may be traded with other players in-store. Selling or buying cards from players is prohibited for league decks.Good sportsmanship is expected. This is a fun game!​\n\n\nSignup in store!!
URL:https://diversionsgames.com/event/disney-lorcana-whispers-in-the-well-starter-deck-league/2025-12-04/
CATEGORIES:Somersworth
ATTACH;FMTTYPE=image/jpeg:https://diversionsgames.com/wp-content/uploads/2025/10/564050140_831004119454120_6675526636760334742_n.jpg
END:VEVENT
BEGIN:VEVENT
DTSTART;TZID=America/New_York:20251205T180000
DTEND;TZID=America/New_York:20251205T210000
DTSTAMP:20260425T185128
CREATED:20251020T202916Z
LAST-MODIFIED:20260414T145941Z
UID:10054655-1764957600-1764968400@diversionsgames.com
SUMMARY:Riftbound: League of Legends TCG Organized Play
DESCRIPTION:Come battle against others in this open format Riftbound: League of Legends TCG series. As the event gets going and the community builds\, we may add drafts and sealed events as well as constructed tournaments.
URL:https://diversionsgames.com/event/riftbound-league-of-legends-tcg-organized-play/2025-12-05/
CATEGORIES:Somersworth
ATTACH;FMTTYPE=image/png:https://diversionsgames.com/wp-content/uploads/2026/04/Copy-of-Riftbound.png
END:VEVENT
BEGIN:VEVENT
DTSTART;TZID=America/New_York:20251206T100000
DTEND;TZID=America/New_York:20251206T180000
DTSTAMP:20260425T185128
CREATED:20240701T184600Z
LAST-MODIFIED:20240701T191429Z
UID:10049959-1765015200-1765044000@diversionsgames.com
SUMMARY:Saturday Board Games
DESCRIPTION:Saturdays are for board games! We invite you to stop in for light\, medium\, and heavy strategy games! Bring your favorites or try out some of our demos. There is plenty of free parking and quick-serve food options nearby.
URL:https://diversionsgames.com/event/saturday-board-games-2-2-2/2025-12-06/
CATEGORIES:Somersworth
ATTACH;FMTTYPE=image/png:https://diversionsgames.com/wp-content/uploads/2023/09/Wingspan.-Photo-from-Stonemaier-Games.png
END:VEVENT
BEGIN:VEVENT
DTSTART;TZID=America/New_York:20251206T110000
DTEND;TZID=America/New_York:20251206T140000
DTSTAMP:20260425T185128
CREATED:20240806T204301Z
LAST-MODIFIED:20250923T181352Z
UID:10054509-1765018800-1765029600@diversionsgames.com
SUMMARY:Dungeons & Dragons Monthly Session
DESCRIPTION:Join us for a monthly D&D session! This is a 3-hour session for all experience levels. Please bring your own dice and pencil; the DM will have pre-generated characters\, or you can bring your own character (level can be adjusted based on the session). \nThe session fee is $5.00 per person. There is plenty of free parking and quick-service food options nearby. ***Sign ups are encouraged due to space limitations and interest. Please call\, email\, or chat the store on Facebook Messenger to reserve your spot***
URL:https://diversionsgames.com/event/dungeons-dragons-one-shot-session-2022-10-08-3-2-2/2025-12-06/
CATEGORIES:Somersworth
ATTACH;FMTTYPE=image/png:https://diversionsgames.com/wp-content/uploads/2023/10/DD-1.png
END:VEVENT
END:VCALENDAR