BEGIN:VCALENDAR
VERSION:2.0
PRODID:-//Diversions Puzzles &amp; Games - ECPv6.14.0//NONSGML v1.0//EN
CALSCALE:GREGORIAN
METHOD:PUBLISH
X-ORIGINAL-URL:https://diversionsgames.com
X-WR-CALDESC:Events for Diversions Puzzles &amp; Games
REFRESH-INTERVAL;VALUE=DURATION:PT1H
X-Robots-Tag:noindex
X-PUBLISHED-TTL:PT1H
BEGIN:VTIMEZONE
TZID:America/New_York
BEGIN:DAYLIGHT
TZOFFSETFROM:-0500
TZOFFSETTO:-0400
TZNAME:EDT
DTSTART:20250309T070000
END:DAYLIGHT
BEGIN:STANDARD
TZOFFSETFROM:-0400
TZOFFSETTO:-0500
TZNAME:EST
DTSTART:20251102T060000
END:STANDARD
END:VTIMEZONE
BEGIN:VEVENT
DTSTART;TZID=America/New_York:20251214T120000
DTEND;TZID=America/New_York:20251214T180000
DTSTAMP:20260425T235216
CREATED:20251104T182443Z
LAST-MODIFIED:20251104T182443Z
UID:10054750-1765713600-1765735200@diversionsgames.com
SUMMARY:Disney Lorcana: Infinity Weekend Sealed Tournament
DESCRIPTION:Entry is $60 per player. Players will receive ten booster packs (1ea of First Chapter 1-Whipsers in the Well)\, and will have 40 minutes to build a 60-card deck. Participants will then play a 5-round Swiss-style tournament\, 3-game format\, with the decks.\nPrizing consists of packs to the top 4 players.All players will receive 1-Whole New World PromoOther prizes may also be in the prize pool.\n\nSealed Tournament Deck Construction Rules:Players will be provided with ten booster packs each to use as their individual card pool\, from which they will build a 60-card deck using any number of different inks (rather than only two inks). More than four copies of a card with the same full name can be played.\n\nSignup: https://tcg.ravensburgerplay.com/events/246303
URL:https://diversionsgames.com/event/disney-lorcana-infinity-weekend-sealed-tournament/
CATEGORIES:Somersworth
ATTACH;FMTTYPE=image/jpeg:https://diversionsgames.com/wp-content/uploads/2025/11/sealed.jpg
END:VEVENT
BEGIN:VEVENT
DTSTART;TZID=America/New_York:20251217T180000
DTEND;TZID=America/New_York:20251217T210000
DTSTAMP:20260425T235216
CREATED:20251020T203337Z
LAST-MODIFIED:20251020T203351Z
UID:10054672-1765994400-1766005200@diversionsgames.com
SUMMARY:Board Game Night
DESCRIPTION:Bring your favorite games or try some from our library. Help us get this twice a month event up and rolling\, invite your friends and family!
URL:https://diversionsgames.com/event/board-game-night-3/2025-12-17/
CATEGORIES:Somersworth
ATTACH;FMTTYPE=image/jpeg:https://diversionsgames.com/wp-content/uploads/2025/10/566253280_835261522361713_668231470537107243_n.jpg
END:VEVENT
BEGIN:VEVENT
DTSTART;TZID=America/New_York:20251218T180000
DTEND;TZID=America/New_York:20251218T210000
DTSTAMP:20260425T235216
CREATED:20251016T140620Z
LAST-MODIFIED:20251016T142626Z
UID:10054542-1766080800-1766091600@diversionsgames.com
SUMMARY:Disney Lorcana: Whispers in the Well Starter Deck League
DESCRIPTION:Join us as we dive in the newest Lorcana set\, Whispers in the Well. This is a three week event. Week one $35\, Weeks two and three $18.\nThe first week you will use your Starter Deck and two packs to build a 60-card deck using 6 colors. All other normal constructed rules apply. Each week\, you will get two additional packs to add on to your deck\, or you can trade for cards you need with other players. You will also remove 2 colors. We will trade and build\, and then play a Swiss tournament each week. Your league deck and cards will be stored at Diversions in your deck box. At the end of league\, you will take home your decks\, cards\, deck boxes\, and some fun goodies!\n\nAdditional guidelines:-You are welcome to play constructed on league night to hone your tournament/championship decks.-Only cards received as part of league weekly entry boosters can be added to an Official League Deck. These can be cards you opened in your pack\, or cards you traded with another league member from their league pack.-Folks who wish to join late or who miss a week can catch up by back-paying weekly entry fees.\n\nLeague Rules:No proxies are allowed in league games.Cards from league packs may be traded with other players in-store. Selling or buying cards from players is prohibited for league decks.Good sportsmanship is expected. This is a fun game!​\n\n\nSignup in store!!
URL:https://diversionsgames.com/event/disney-lorcana-whispers-in-the-well-starter-deck-league/2025-12-18/
CATEGORIES:Somersworth
ATTACH;FMTTYPE=image/jpeg:https://diversionsgames.com/wp-content/uploads/2025/10/564050140_831004119454120_6675526636760334742_n.jpg
END:VEVENT
BEGIN:VEVENT
DTSTART;TZID=America/New_York:20251219T180000
DTEND;TZID=America/New_York:20251219T210000
DTSTAMP:20260425T235216
CREATED:20251020T203142Z
LAST-MODIFIED:20260414T145902Z
UID:10054662-1766167200-1766178000@diversionsgames.com
SUMMARY:Star Wars: Unlimited Open Play
DESCRIPTION:Come battle against others in this open format Star Wars Unlimited series. As the event gets going we may add drafts and sealed events as well as constructed tournaments.
URL:https://diversionsgames.com/event/star-wars-unlimited-open-play/2025-12-19/
CATEGORIES:Somersworth
ATTACH;FMTTYPE=image/png:https://diversionsgames.com/wp-content/uploads/2026/04/Copy-of-Star-Wars.png
END:VEVENT
BEGIN:VEVENT
DTSTART;TZID=America/New_York:20251220T100000
DTEND;TZID=America/New_York:20251220T180000
DTSTAMP:20260425T235216
CREATED:20240701T184600Z
LAST-MODIFIED:20240701T191429Z
UID:10049960-1766224800-1766253600@diversionsgames.com
SUMMARY:Saturday Board Games
DESCRIPTION:Saturdays are for board games! We invite you to stop in for light\, medium\, and heavy strategy games! Bring your favorites or try out some of our demos. There is plenty of free parking and quick-serve food options nearby.
URL:https://diversionsgames.com/event/saturday-board-games-2-2-2/2025-12-20/
CATEGORIES:Somersworth
ATTACH;FMTTYPE=image/png:https://diversionsgames.com/wp-content/uploads/2023/09/Wingspan.-Photo-from-Stonemaier-Games.png
END:VEVENT
BEGIN:VEVENT
DTSTART;TZID=America/New_York:20251220T160000
DTEND;TZID=America/New_York:20251220T233000
DTSTAMP:20260425T235216
CREATED:20251024T174430Z
LAST-MODIFIED:20251024T174430Z
UID:10054738-1766246400-1766273400@diversionsgames.com
SUMMARY:Late Night Gaming
DESCRIPTION:Join us for Late Night Board Gaming! Bring your favorites\, join in on a new game\, or try some something from our library. Gather up your friends and family\, we’ll see you there!
URL:https://diversionsgames.com/event/late-night-gaming-23/
CATEGORIES:Somersworth
ATTACH;FMTTYPE=image/jpeg:https://diversionsgames.com/wp-content/uploads/2025/10/566233920_835295249025007_1042138678072520717_n.jpg
END:VEVENT
END:VCALENDAR