BEGIN:VCALENDAR
VERSION:2.0
PRODID:-//Diversions Puzzles &amp; Games - ECPv6.14.0//NONSGML v1.0//EN
CALSCALE:GREGORIAN
METHOD:PUBLISH
X-ORIGINAL-URL:https://diversionsgames.com
X-WR-CALDESC:Events for Diversions Puzzles &amp; Games
REFRESH-INTERVAL;VALUE=DURATION:PT1H
X-Robots-Tag:noindex
X-PUBLISHED-TTL:PT1H
BEGIN:VTIMEZONE
TZID:America/New_York
BEGIN:DAYLIGHT
TZOFFSETFROM:-0500
TZOFFSETTO:-0400
TZNAME:EDT
DTSTART:20260308T070000
END:DAYLIGHT
BEGIN:STANDARD
TZOFFSETFROM:-0400
TZOFFSETTO:-0500
TZNAME:EST
DTSTART:20261101T060000
END:STANDARD
END:VTIMEZONE
BEGIN:VEVENT
DTSTART;TZID=America/New_York:20260107T180000
DTEND;TZID=America/New_York:20260107T210000
DTSTAMP:20260424T052406
CREATED:20251020T203422Z
LAST-MODIFIED:20251020T203422Z
UID:10054682-1767808800-1767819600@diversionsgames.com
SUMMARY:Board Game Night
DESCRIPTION:Bring your favorite games or try some from our library. Help us get this twice a month event up and rolling\, invite your friends and family!
URL:https://diversionsgames.com/event/board-game-night-4/2026-01-07/
CATEGORIES:Somersworth
ATTACH;FMTTYPE=image/jpeg:https://diversionsgames.com/wp-content/uploads/2025/10/566253280_835261522361713_668231470537107243_n.jpg
END:VEVENT
BEGIN:VEVENT
DTSTART;TZID=America/New_York:20260109T180000
DTEND;TZID=America/New_York:20260109T210000
DTSTAMP:20260424T052406
CREATED:20251020T203553Z
LAST-MODIFIED:20251020T203617Z
UID:10054688-1767981600-1767992400@diversionsgames.com
SUMMARY:Altered TCG
DESCRIPTION:Come battle against others in this open format Altered series. As the event gets going we may add drafts and sealed events.
URL:https://diversionsgames.com/event/altered-tcg/2026-01-09/
CATEGORIES:Somersworth
ATTACH;FMTTYPE=image/jpeg:https://diversionsgames.com/wp-content/uploads/2025/10/565815517_835272222360643_3088215077137092476_n.jpg
END:VEVENT
BEGIN:VEVENT
DTSTART;TZID=America/New_York:20260110T110000
DTEND;TZID=America/New_York:20260110T140000
DTSTAMP:20260424T052406
CREATED:20240806T204301Z
LAST-MODIFIED:20250923T181352Z
UID:10049571-1768042800-1768053600@diversionsgames.com
SUMMARY:Dungeons & Dragons Monthly Session
DESCRIPTION:Join us for a monthly D&D session! This is a 3-hour session for all experience levels. Please bring your own dice and pencil; the DM will have pre-generated characters\, or you can bring your own character (level can be adjusted based on the session). \nThe session fee is $5.00 per person. There is plenty of free parking and quick-service food options nearby. ***Sign ups are encouraged due to space limitations and interest. Please call\, email\, or chat the store on Facebook Messenger to reserve your spot***
URL:https://diversionsgames.com/event/dungeons-dragons-one-shot-session-2022-10-08-3-2-2/2026-01-10/
CATEGORIES:Somersworth
ATTACH;FMTTYPE=image/png:https://diversionsgames.com/wp-content/uploads/2023/10/DD-1.png
END:VEVENT
BEGIN:VEVENT
DTSTART;TZID=America/New_York:20260110T110000
DTEND;TZID=America/New_York:20260110T150000
DTSTAMP:20260424T052406
CREATED:20260107T175711Z
LAST-MODIFIED:20260107T175711Z
UID:10055455-1768042800-1768057200@diversionsgames.com
SUMMARY:ONE PIECE TCG OP-14 Release Event
DESCRIPTION:Sealed Event $29.94\n-6 Packs per person-You may bring your own leader (including those from previous sets) to use in the event.-Please bring 10x DON!! Cards to participate in the event.\n\n\nRules for Sealed: https://en.onepiece-cardgame.com/…/tournament_rules…
URL:https://diversionsgames.com/event/one-piece-tcg-op-14-release-event/
CATEGORIES:Somersworth
ATTACH;FMTTYPE=image/jpeg:https://diversionsgames.com/wp-content/uploads/2026/01/611635048_895637496324115_848048691045153201_n.jpg
END:VEVENT
END:VCALENDAR