BEGIN:VCALENDAR
VERSION:2.0
PRODID:-//Diversions Puzzles &amp; Games - ECPv6.14.0//NONSGML v1.0//EN
CALSCALE:GREGORIAN
METHOD:PUBLISH
X-ORIGINAL-URL:https://diversionsgames.com
X-WR-CALDESC:Events for Diversions Puzzles &amp; Games
REFRESH-INTERVAL;VALUE=DURATION:PT1H
X-Robots-Tag:noindex
X-PUBLISHED-TTL:PT1H
BEGIN:VTIMEZONE
TZID:America/New_York
BEGIN:DAYLIGHT
TZOFFSETFROM:-0500
TZOFFSETTO:-0400
TZNAME:EDT
DTSTART:20260308T070000
END:DAYLIGHT
BEGIN:STANDARD
TZOFFSETFROM:-0400
TZOFFSETTO:-0500
TZNAME:EST
DTSTART:20261101T060000
END:STANDARD
END:VTIMEZONE
BEGIN:VEVENT
DTSTART;TZID=America/New_York:20260204T180000
DTEND;TZID=America/New_York:20260204T210000
DTSTAMP:20260425T124534
CREATED:20251020T203422Z
LAST-MODIFIED:20251020T203422Z
UID:10054683-1770228000-1770238800@diversionsgames.com
SUMMARY:Board Game Night
DESCRIPTION:Bring your favorite games or try some from our library. Help us get this twice a month event up and rolling\, invite your friends and family!
URL:https://diversionsgames.com/event/board-game-night-4/2026-02-04/
CATEGORIES:Somersworth
ATTACH;FMTTYPE=image/jpeg:https://diversionsgames.com/wp-content/uploads/2025/10/566253280_835261522361713_668231470537107243_n.jpg
END:VEVENT
BEGIN:VEVENT
DTSTART;TZID=America/New_York:20260206T180000
DTEND;TZID=America/New_York:20260206T210000
DTSTAMP:20260425T124534
CREATED:20251020T202916Z
LAST-MODIFIED:20260414T145941Z
UID:10054657-1770400800-1770411600@diversionsgames.com
SUMMARY:Riftbound: League of Legends TCG Organized Play
DESCRIPTION:Come battle against others in this open format Riftbound: League of Legends TCG series. As the event gets going and the community builds\, we may add drafts and sealed events as well as constructed tournaments.
URL:https://diversionsgames.com/event/riftbound-league-of-legends-tcg-organized-play/2026-02-06/
CATEGORIES:Somersworth
ATTACH;FMTTYPE=image/png:https://diversionsgames.com/wp-content/uploads/2026/04/Copy-of-Riftbound.png
END:VEVENT
BEGIN:VEVENT
DTSTART;TZID=America/New_York:20260207T100000
DTEND;TZID=America/New_York:20260207T180000
DTSTAMP:20260425T124534
CREATED:20240701T184600Z
LAST-MODIFIED:20240701T191429Z
UID:10049966-1770458400-1770487200@diversionsgames.com
SUMMARY:Saturday Board Games
DESCRIPTION:Saturdays are for board games! We invite you to stop in for light\, medium\, and heavy strategy games! Bring your favorites or try out some of our demos. There is plenty of free parking and quick-serve food options nearby.
URL:https://diversionsgames.com/event/saturday-board-games-2-2-2/2026-02-07/
CATEGORIES:Somersworth
ATTACH;FMTTYPE=image/png:https://diversionsgames.com/wp-content/uploads/2023/09/Wingspan.-Photo-from-Stonemaier-Games.png
END:VEVENT
BEGIN:VEVENT
DTSTART;TZID=America/New_York:20260207T120000
DTEND;TZID=America/New_York:20260207T170000
DTSTAMP:20260425T124534
CREATED:20260107T175538Z
LAST-MODIFIED:20260107T175538Z
UID:10055454-1770465600-1770483600@diversionsgames.com
SUMMARY:Epic Disney Lorcana Heist
DESCRIPTION:Bring your best deck and challenge Jafar in Illumineer’s Quest – Palace Heist! The Illumineer’s Quest creates the ideal cooperative play experience while immersing players in the stories of Disney Lorcana. Players share turns\, coordinating inking\, challenges\, and quests. This event is perfect for board game fans\, families\, and players interested in Disney Lorcana. Promos and Prizes for all attendees.\n\nEntry: Free
URL:https://diversionsgames.com/event/epic-disney-lorcana-heist/
CATEGORIES:Somersworth
ATTACH;FMTTYPE=image/jpeg:https://diversionsgames.com/wp-content/uploads/2026/01/610546556_895662732988258_3775983460701966662_n.jpg
END:VEVENT
END:VCALENDAR