BEGIN:VCALENDAR
VERSION:2.0
PRODID:-//Diversions Puzzles &amp; Games - ECPv6.14.0//NONSGML v1.0//EN
CALSCALE:GREGORIAN
METHOD:PUBLISH
X-ORIGINAL-URL:https://diversionsgames.com
X-WR-CALDESC:Events for Diversions Puzzles &amp; Games
REFRESH-INTERVAL;VALUE=DURATION:PT1H
X-Robots-Tag:noindex
X-PUBLISHED-TTL:PT1H
BEGIN:VTIMEZONE
TZID:America/New_York
BEGIN:DAYLIGHT
TZOFFSETFROM:-0500
TZOFFSETTO:-0400
TZNAME:EDT
DTSTART:20260308T070000
END:DAYLIGHT
BEGIN:STANDARD
TZOFFSETFROM:-0400
TZOFFSETTO:-0500
TZNAME:EST
DTSTART:20261101T060000
END:STANDARD
END:VTIMEZONE
BEGIN:VEVENT
DTSTART;TZID=America/New_York:20260211T180000
DTEND;TZID=America/New_York:20260211T210000
DTSTAMP:20260424T074901
CREATED:20251020T203931Z
LAST-MODIFIED:20260414T143250Z
UID:10054699-1770832800-1770843600@diversionsgames.com
SUMMARY:Magic: The Gathering Commander Open Play
DESCRIPTION:Come battle against others in this open format Commander series. As the event gets going we may add events and fun challenges to this twice a month event.
URL:https://diversionsgames.com/event/magic-the-gathering-commander-open-play-2/2026-02-11/
CATEGORIES:Somersworth
ATTACH;FMTTYPE=image/jpeg:https://diversionsgames.com/wp-content/uploads/2025/10/567508677_835258519028680_3310415009717897692_n.jpg
END:VEVENT
BEGIN:VEVENT
DTSTART;TZID=America/New_York:20260213T180000
DTEND;TZID=America/New_York:20260213T210000
DTSTAMP:20260424T074901
CREATED:20251020T203553Z
LAST-MODIFIED:20251020T203617Z
UID:10054689-1771005600-1771016400@diversionsgames.com
SUMMARY:Altered TCG
DESCRIPTION:Come battle against others in this open format Altered series. As the event gets going we may add drafts and sealed events.
URL:https://diversionsgames.com/event/altered-tcg/2026-02-13/
CATEGORIES:Somersworth
ATTACH;FMTTYPE=image/jpeg:https://diversionsgames.com/wp-content/uploads/2025/10/565815517_835272222360643_3088215077137092476_n.jpg
END:VEVENT
BEGIN:VEVENT
DTSTART;TZID=America/New_York:20260213T180000
DTEND;TZID=America/New_York:20260213T220000
DTSTAMP:20260424T074901
CREATED:20260107T175405Z
LAST-MODIFIED:20260107T175405Z
UID:10055453-1771005600-1771020000@diversionsgames.com
SUMMARY:Disney Lorcana: Winterspell Release Day Sealed Tournament
DESCRIPTION:Join us on Release Day for a Disney Lorcana: Winterspell Sealed Tournament! \nEntry is $41.93 per player. \nPlayers will receive six (6) booster packs from Disney Lorcana: Winterspell\, and will have 30 minutes to build a 40-card deck. Participants will then play a 3-round Swiss-style tournament\, 3-game format\, with the decks.Prizing consists of packs to the top 4 players. \nSealed Tournament Deck Construction Rules:Players will be provided with six booster packs each to use as their individual card pool\, from which they will build a 40-card deck using any number of different inks (rather than only two inks). More than four copies of a card with the same full name can be played. \n  \nSign up here: https://tcg.ravensburgerplay.com/events/328775
URL:https://diversionsgames.com/event/disney-lorcana-winterspell-release-day-sealed-tournament/
CATEGORIES:Somersworth
ATTACH;FMTTYPE=image/jpeg:https://diversionsgames.com/wp-content/uploads/2026/01/612299441_895669119654286_3249267145177981590_n.jpg
END:VEVENT
BEGIN:VEVENT
DTSTART;TZID=America/New_York:20260214T110000
DTEND;TZID=America/New_York:20260214T140000
DTSTAMP:20260424T074901
CREATED:20240806T204301Z
LAST-MODIFIED:20250923T181352Z
UID:10049572-1771066800-1771077600@diversionsgames.com
SUMMARY:Dungeons & Dragons Monthly Session
DESCRIPTION:Join us for a monthly D&D session! This is a 3-hour session for all experience levels. Please bring your own dice and pencil; the DM will have pre-generated characters\, or you can bring your own character (level can be adjusted based on the session). \nThe session fee is $5.00 per person. There is plenty of free parking and quick-service food options nearby. ***Sign ups are encouraged due to space limitations and interest. Please call\, email\, or chat the store on Facebook Messenger to reserve your spot***
URL:https://diversionsgames.com/event/dungeons-dragons-one-shot-session-2022-10-08-3-2-2/2026-02-14/
CATEGORIES:Somersworth
ATTACH;FMTTYPE=image/png:https://diversionsgames.com/wp-content/uploads/2023/10/DD-1.png
END:VEVENT
END:VCALENDAR