BEGIN:VCALENDAR
VERSION:2.0
PRODID:-//Diversions Puzzles &amp; Games - ECPv6.14.0//NONSGML v1.0//EN
CALSCALE:GREGORIAN
METHOD:PUBLISH
X-WR-CALNAME:Diversions Puzzles &amp; Games
X-ORIGINAL-URL:https://diversionsgames.com
X-WR-CALDESC:Events for Diversions Puzzles &amp; Games
REFRESH-INTERVAL;VALUE=DURATION:PT1H
X-Robots-Tag:noindex
X-PUBLISHED-TTL:PT1H
BEGIN:VTIMEZONE
TZID:America/New_York
BEGIN:DAYLIGHT
TZOFFSETFROM:-0500
TZOFFSETTO:-0400
TZNAME:EDT
DTSTART:20260308T070000
END:DAYLIGHT
BEGIN:STANDARD
TZOFFSETFROM:-0400
TZOFFSETTO:-0500
TZNAME:EST
DTSTART:20261101T060000
END:STANDARD
END:VTIMEZONE
BEGIN:VEVENT
DTSTART;TZID=America/New_York:20260225T180000
DTEND;TZID=America/New_York:20260225T210000
DTSTAMP:20260425T131905
CREATED:20251020T203955Z
LAST-MODIFIED:20251020T204111Z
UID:10054719-1772042400-1772053200@diversionsgames.com
SUMMARY:Magic: The Gathering Commander Open Play
DESCRIPTION:Come battle against others in this open format Commander series. As the event gets going we may add events and fun challenges to this twice a month event.
URL:https://diversionsgames.com/event/magic-the-gathering-commander-open-play-3/2026-02-25/
CATEGORIES:Somersworth
ATTACH;FMTTYPE=image/jpeg:https://diversionsgames.com/wp-content/uploads/2025/10/567508677_835258519028680_3310415009717897692_n.jpg
END:VEVENT
BEGIN:VEVENT
DTSTART;TZID=America/New_York:20260226T180000
DTEND;TZID=America/New_York:20260226T210000
DTSTAMP:20260425T131905
CREATED:20260107T174739Z
LAST-MODIFIED:20260107T174740Z
UID:10055449-1772128800-1772139600@diversionsgames.com
SUMMARY:Disney: Lorcana Pack-Per-Win Tournament
DESCRIPTION:Core Constructed Pack-Per-Win Tournament. 3 rounds Bo3 starting at 6:00pm \n\nCost: $11.98\nRegister here: https://tcg.ravensburgerplay.com/events/328795
URL:https://diversionsgames.com/event/disney-lorcana-pack-per-win-tournament-4/
CATEGORIES:Somersworth
ATTACH;FMTTYPE=image/jpeg:https://diversionsgames.com/wp-content/uploads/2026/01/612020931_895694419651756_6846239578874759749_n.jpg
END:VEVENT
BEGIN:VEVENT
DTSTART;TZID=America/New_York:20260226T180000
DTEND;TZID=America/New_York:20260226T210000
DTSTAMP:20260425T131905
CREATED:20260203T165238Z
LAST-MODIFIED:20260203T165238Z
UID:10055462-1772128800-1772139600@diversionsgames.com
SUMMARY:Disney Lorcana: Winterspell League - Week 1: Pack Per Win
DESCRIPTION:Winterspell League is upon us and we have a flurry of events lined up. Six weeks of league\, every Thursday starting at 6pm. Bring your newest core constructed deck and test them out!\n\nWeek one: Pack Per WinCost: $11.98Sign Up: https://tcg.ravensburgerplay.com/events/328795
URL:https://diversionsgames.com/event/disney-lorcana-winterspell-league-week-1-pack-per-win/
CATEGORIES:Somersworth
ATTACH;FMTTYPE=image/jpeg:https://diversionsgames.com/wp-content/uploads/2026/02/627041001_916831214204743_2510572508462957158_n.jpg
END:VEVENT
BEGIN:VEVENT
DTSTART;TZID=America/New_York:20260227T180000
DTEND;TZID=America/New_York:20260227T210000
DTSTAMP:20260425T131905
CREATED:20251020T204220Z
LAST-MODIFIED:20251020T204220Z
UID:10054729-1772215200-1772226000@diversionsgames.com
SUMMARY:Daggerheart RPG
DESCRIPTION:Join us as we explore Daggerheart\, a new epic TTRPG from Darrington Press. Powered by an innovative card and Duality Dice design\, Daggerheart blends tactical depth with narrative freedom\, empowering each group to make the game their own.\n\nSign up in-store. Space is limited.
URL:https://diversionsgames.com/event/daggerheart-rpg/2026-02-27/
CATEGORIES:Somersworth
ATTACH;FMTTYPE=image/jpeg:https://diversionsgames.com/wp-content/uploads/2025/10/568630264_835284445692754_869650272663676147_n.jpg
END:VEVENT
BEGIN:VEVENT
DTSTART;TZID=America/New_York:20260228T100000
DTEND;TZID=America/New_York:20260228T180000
DTSTAMP:20260425T131905
CREATED:20240701T184600Z
LAST-MODIFIED:20240701T191429Z
UID:10049968-1772272800-1772301600@diversionsgames.com
SUMMARY:Saturday Board Games
DESCRIPTION:Saturdays are for board games! We invite you to stop in for light\, medium\, and heavy strategy games! Bring your favorites or try out some of our demos. There is plenty of free parking and quick-serve food options nearby.
URL:https://diversionsgames.com/event/saturday-board-games-2-2-2/2026-02-28/
CATEGORIES:Somersworth
ATTACH;FMTTYPE=image/png:https://diversionsgames.com/wp-content/uploads/2023/09/Wingspan.-Photo-from-Stonemaier-Games.png
END:VEVENT
END:VCALENDAR