BEGIN:VCALENDAR
VERSION:2.0
PRODID:-//Diversions Puzzles &amp; Games - ECPv6.14.0//NONSGML v1.0//EN
CALSCALE:GREGORIAN
METHOD:PUBLISH
X-WR-CALNAME:Diversions Puzzles &amp; Games
X-ORIGINAL-URL:https://diversionsgames.com
X-WR-CALDESC:Events for Diversions Puzzles &amp; Games
REFRESH-INTERVAL;VALUE=DURATION:PT1H
X-Robots-Tag:noindex
X-PUBLISHED-TTL:PT1H
BEGIN:VTIMEZONE
TZID:America/New_York
BEGIN:DAYLIGHT
TZOFFSETFROM:-0500
TZOFFSETTO:-0400
TZNAME:EDT
DTSTART:20260308T070000
END:DAYLIGHT
BEGIN:STANDARD
TZOFFSETFROM:-0400
TZOFFSETTO:-0500
TZNAME:EST
DTSTART:20261101T060000
END:STANDARD
END:VTIMEZONE
BEGIN:VEVENT
DTSTART;TZID=America/New_York:20260401T180000
DTEND;TZID=America/New_York:20260401T210000
DTSTAMP:20260423T002140
CREATED:20251020T203422Z
LAST-MODIFIED:20251020T203422Z
UID:10054685-1775066400-1775077200@diversionsgames.com
SUMMARY:Board Game Night
DESCRIPTION:Bring your favorite games or try some from our library. Help us get this twice a month event up and rolling\, invite your friends and family!
URL:https://diversionsgames.com/event/board-game-night-4/2026-04-01/
CATEGORIES:Somersworth
ATTACH;FMTTYPE=image/jpeg:https://diversionsgames.com/wp-content/uploads/2025/10/566253280_835261522361713_668231470537107243_n.jpg
END:VEVENT
BEGIN:VEVENT
DTSTART;TZID=America/New_York:20260402T180000
DTEND;TZID=America/New_York:20260402T210000
DTSTAMP:20260423T002140
CREATED:20260203T165659Z
LAST-MODIFIED:20260203T165659Z
UID:10055468-1775152800-1775163600@diversionsgames.com
SUMMARY:Disney Lorcana: Winterspell League - Week 6: Pack Per Win
DESCRIPTION:Winterspell League is upon us and we have a flurry of events lined up. Six weeks of league\, every Thursday starting at 6pm.\n\nWeek six: Pack Per WinCost: $11.98Sign Up: https://tcg.ravensburgerplay.com/events/373615\n\nStart the preparation for Set Champs with your core constructed deck.
URL:https://diversionsgames.com/event/disney-lorcana-winterspell-league-week-6-pack-per-win/
CATEGORIES:Somersworth
ATTACH;FMTTYPE=image/jpeg:https://diversionsgames.com/wp-content/uploads/2026/02/627041001_916831214204743_2510572508462957158_n.jpg
END:VEVENT
BEGIN:VEVENT
DTSTART;TZID=America/New_York:20260403T180000
DTEND;TZID=America/New_York:20260403T210000
DTSTAMP:20260423T002140
CREATED:20251020T202916Z
LAST-MODIFIED:20260414T145941Z
UID:10054659-1775239200-1775250000@diversionsgames.com
SUMMARY:Riftbound: League of Legends TCG Organized Play
DESCRIPTION:Come battle against others in this open format Riftbound: League of Legends TCG series. As the event gets going and the community builds\, we may add drafts and sealed events as well as constructed tournaments.
URL:https://diversionsgames.com/event/riftbound-league-of-legends-tcg-organized-play/2026-04-03/
CATEGORIES:Somersworth
ATTACH;FMTTYPE=image/png:https://diversionsgames.com/wp-content/uploads/2026/04/Copy-of-Riftbound.png
END:VEVENT
BEGIN:VEVENT
DTSTART;TZID=America/New_York:20260403T180000
DTEND;TZID=America/New_York:20260403T210000
DTSTAMP:20260423T002140
CREATED:20260223T173758Z
LAST-MODIFIED:20260223T173758Z
UID:10055550-1775239200-1775250000@diversionsgames.com
SUMMARY:Riftbound TCG Summoner Skirmish
DESCRIPTION:Friday April 3rd 6pm\nCost $15\n*All players must have a Carde.io account liked to a Riot account to participate*\nFormat: 1v1 Constructed\, Best of 3 Matches. 3 rounds\nSign up https://locator.riftbound.uvsgames.com/events/275446\nPrize Support:\n\nParticipation Promo\nTop Cut Promo\nChampion Promo\nChampion Playmat\nAdditionally\, the winner of the event will receive a Round 1 Bye at a Regional Qualifier. Please note: Players can accumulate multiple byes across Summoner Skirmish events\, but they are only able to utilize one bye per Regional Qualifier event. Bye rewards are automatically applied to the recorded winner’s account.
URL:https://diversionsgames.com/event/riftbound-tcg-summoner-skirmish/
CATEGORIES:Somersworth
ATTACH;FMTTYPE=image/jpeg:https://diversionsgames.com/wp-content/uploads/2026/02/639948027_934408049113726_1563015470470181196_n.jpg
END:VEVENT
BEGIN:VEVENT
DTSTART;TZID=America/New_York:20260404T100000
DTEND;TZID=America/New_York:20260404T180000
DTSTAMP:20260423T002140
CREATED:20240701T184600Z
LAST-MODIFIED:20240701T191429Z
UID:10049972-1775296800-1775325600@diversionsgames.com
SUMMARY:Saturday Board Games
DESCRIPTION:Saturdays are for board games! We invite you to stop in for light\, medium\, and heavy strategy games! Bring your favorites or try out some of our demos. There is plenty of free parking and quick-serve food options nearby.
URL:https://diversionsgames.com/event/saturday-board-games-2-2-2/2026-04-04/
CATEGORIES:Somersworth
ATTACH;FMTTYPE=image/png:https://diversionsgames.com/wp-content/uploads/2023/09/Wingspan.-Photo-from-Stonemaier-Games.png
END:VEVENT
END:VCALENDAR