BEGIN:VCALENDAR
VERSION:2.0
PRODID:-//Diversions Puzzles &amp; Games - ECPv6.14.0//NONSGML v1.0//EN
CALSCALE:GREGORIAN
METHOD:PUBLISH
X-WR-CALNAME:Diversions Puzzles &amp; Games
X-ORIGINAL-URL:https://diversionsgames.com
X-WR-CALDESC:Events for Diversions Puzzles &amp; Games
REFRESH-INTERVAL;VALUE=DURATION:PT1H
X-Robots-Tag:noindex
X-PUBLISHED-TTL:PT1H
BEGIN:VTIMEZONE
TZID:America/New_York
BEGIN:DAYLIGHT
TZOFFSETFROM:-0500
TZOFFSETTO:-0400
TZNAME:EDT
DTSTART:20260308T070000
END:DAYLIGHT
BEGIN:STANDARD
TZOFFSETFROM:-0400
TZOFFSETTO:-0500
TZNAME:EST
DTSTART:20261101T060000
END:STANDARD
END:VTIMEZONE
BEGIN:VEVENT
DTSTART;TZID=America/New_York:20260506T180000
DTEND;TZID=America/New_York:20260506T210000
DTSTAMP:20260424T025109
CREATED:20260414T141853Z
LAST-MODIFIED:20260414T141907Z
UID:10055589-1778090400-1778101200@diversionsgames.com
SUMMARY:One Piece Weekly Play
DESCRIPTION:One Piece Weekly event. Come join us and help grow this expanding community!!
URL:https://diversionsgames.com/event/one-piece-weekly-play/2026-05-06/
CATEGORIES:Somersworth
ATTACH;FMTTYPE=image/jpeg:https://diversionsgames.com/wp-content/uploads/2026/04/668877908_971640002057197_8429903579795491276_n.jpg
END:VEVENT
BEGIN:VEVENT
DTSTART;TZID=America/New_York:20260506T180000
DTEND;TZID=America/New_York:20260506T210000
DTSTAMP:20260424T025109
CREATED:20260414T143445Z
LAST-MODIFIED:20260414T145821Z
UID:10055636-1778090400-1778101200@diversionsgames.com
SUMMARY:Magic: The Gathering Commander Open Play
DESCRIPTION:Come battle against others in this open format Commander series.
URL:https://diversionsgames.com/event/magic-the-gathering-commander-open-play-4/2026-05-06/
CATEGORIES:Somersworth
ATTACH;FMTTYPE=image/png:https://diversionsgames.com/wp-content/uploads/2026/04/Copy-of-MtG-1.png
END:VEVENT
BEGIN:VEVENT
DTSTART;TZID=America/New_York:20260508T180000
DTEND;TZID=America/New_York:20260508T210000
DTSTAMP:20260424T025109
CREATED:20260414T140903Z
LAST-MODIFIED:20260414T141540Z
UID:10055581-1778263200-1778274000@diversionsgames.com
SUMMARY:Disney Lorcana: Wilds Unknown Sealed PreRelease
DESCRIPTION:Join us for a full day of Lorcana Wilds Unknown. We will cap the day with a Sealed event at 6pm! \n$41.93 cost \nRegister here: https://tcg.ravensburgerplay.com/events/492614
URL:https://diversionsgames.com/event/disney-lorcana-wilds-unknown-sealed-prerelease/
CATEGORIES:Somersworth
ATTACH;FMTTYPE=image/jpeg:https://diversionsgames.com/wp-content/uploads/2026/04/671157285_974054941815703_751067804423352854_n-1.jpg
END:VEVENT
BEGIN:VEVENT
DTSTART;TZID=America/New_York:20260509T101500
DTEND;TZID=America/New_York:20260509T131500
DTSTAMP:20260424T025109
CREATED:20260223T164155Z
LAST-MODIFIED:20260223T164235Z
UID:10055481-1778321700-1778332500@diversionsgames.com
SUMMARY:Dungeons & Dragons Monthly Session (Campaign)
DESCRIPTION:*PLEASE NOTE NEW TIMES*\nJoin us for a monthly D&D session! This is a 3-hour session for all experience levels. Please bring your own dice and pencil; the DM will have pre-generated characters\, or you can bring your own character (level can be adjusted based on the session).\nThe session fee is $5.00 per person.\n\n10:15 Session is full going forward until the end of the current campaign\n2:00 Slots are open for players new to D&D.\n\n***Sign ups are encouraged due to space limitations and interest. Please call\, email\, or chat the store on Facebook Messenger to reserve your spot***
URL:https://diversionsgames.com/event/dungeons-dragons-one-shot-session-2022-10-08-3-2-2-2/2026-05-09/
CATEGORIES:Somersworth
ATTACH;FMTTYPE=image/png:https://diversionsgames.com/wp-content/uploads/2023/10/DD-1.png
END:VEVENT
BEGIN:VEVENT
DTSTART;TZID=America/New_York:20260509T110000
DTEND;TZID=America/New_York:20260509T170000
DTSTAMP:20260424T025109
CREATED:20260414T140455Z
LAST-MODIFIED:20260414T141433Z
UID:10055579-1778324400-1778346000@diversionsgames.com
SUMMARY:Disney Lorcana: Wilds Unknown Prerelease Sealed + Draft Super Event
DESCRIPTION:May 9th @ 11:00am\nThe Sealed + Draft format is back!\nCome celebrate the release of Wilds Unknown with a Sealed/Draft tourney. Round one you will build your 40 card deck from a sealed pool. We will draft round 2 and build a 35 card deck. In the final round you will combine all your cards to build a deck of 40 cards. The true test of your limited format skills!\n\nCost: $65.89 (10 packs for event plus 1 pack to prize pool)24 person capacity.\n\nRound 1: Sealed (6 packs)Round 2: Draft (4 packs)Round 3: Combine your sealed and draft decks into one deck.\n\nRegister here: https://tcg.ravensburgerplay.com/events/497092
URL:https://diversionsgames.com/event/disney-lorcana-wilds-unknown-prerelease-sealed-draft-super-event/
CATEGORIES:Somersworth
ATTACH;FMTTYPE=image/jpeg:https://diversionsgames.com/wp-content/uploads/2026/04/671157285_974054941815703_751067804423352854_n.jpg
END:VEVENT
BEGIN:VEVENT
DTSTART;TZID=America/New_York:20260509T140000
DTEND;TZID=America/New_York:20260509T170000
DTSTAMP:20260424T025109
CREATED:20260223T164403Z
LAST-MODIFIED:20260223T164403Z
UID:10055541-1778335200-1778346000@diversionsgames.com
SUMMARY:Dungeons & Dragons Monthly Session (New Players)
DESCRIPTION:*PLEASE NOTE NEW TIMES*\nJoin us for a monthly D&D session! This is a 3-hour session for all experience levels. Please bring your own dice and pencil; the DM will have pre-generated characters\, or you can bring your own character (level can be adjusted based on the session).\nThe session fee is $5.00 per person.\n\n10:15 Session is full going forward until the end of the current campaign\n2:00 Slots are open for players new to D&D.\n\n***Sign ups are encouraged due to space limitations and interest. Please call\, email\, or chat the store on Facebook Messenger to reserve your spot***
URL:https://diversionsgames.com/event/dungeons-dragons-monthly-session-new-players/2026-05-09/
CATEGORIES:Somersworth
ATTACH;FMTTYPE=image/png:https://diversionsgames.com/wp-content/uploads/2026/02/DD-1-1536x804-1.png
END:VEVENT
END:VCALENDAR