BEGIN:VCALENDAR
VERSION:2.0
PRODID:-//Diversions Puzzles &amp; Games - ECPv6.14.0//NONSGML v1.0//EN
CALSCALE:GREGORIAN
METHOD:PUBLISH
X-ORIGINAL-URL:https://diversionsgames.com
X-WR-CALDESC:Events for Diversions Puzzles &amp; Games
REFRESH-INTERVAL;VALUE=DURATION:PT1H
X-Robots-Tag:noindex
X-PUBLISHED-TTL:PT1H
BEGIN:VTIMEZONE
TZID:America/New_York
BEGIN:DAYLIGHT
TZOFFSETFROM:-0500
TZOFFSETTO:-0400
TZNAME:EDT
DTSTART:20260308T070000
END:DAYLIGHT
BEGIN:STANDARD
TZOFFSETFROM:-0400
TZOFFSETTO:-0500
TZNAME:EST
DTSTART:20261101T060000
END:STANDARD
END:VTIMEZONE
BEGIN:VEVENT
DTSTART;TZID=America/New_York:20260520T180000
DTEND;TZID=America/New_York:20260520T210000
DTSTAMP:20260425T155409
CREATED:20260414T141853Z
LAST-MODIFIED:20260414T141907Z
UID:10055591-1779300000-1779310800@diversionsgames.com
SUMMARY:One Piece Weekly Play
DESCRIPTION:One Piece Weekly event. Come join us and help grow this expanding community!!
URL:https://diversionsgames.com/event/one-piece-weekly-play/2026-05-20/
CATEGORIES:Somersworth
ATTACH;FMTTYPE=image/jpeg:https://diversionsgames.com/wp-content/uploads/2026/04/668877908_971640002057197_8429903579795491276_n.jpg
END:VEVENT
BEGIN:VEVENT
DTSTART;TZID=America/New_York:20260520T180000
DTEND;TZID=America/New_York:20260520T210000
DTSTAMP:20260425T155409
CREATED:20260414T143445Z
LAST-MODIFIED:20260414T145821Z
UID:10055638-1779300000-1779310800@diversionsgames.com
SUMMARY:Magic: The Gathering Commander Open Play
DESCRIPTION:Come battle against others in this open format Commander series.
URL:https://diversionsgames.com/event/magic-the-gathering-commander-open-play-4/2026-05-20/
CATEGORIES:Somersworth
ATTACH;FMTTYPE=image/png:https://diversionsgames.com/wp-content/uploads/2026/04/Copy-of-MtG-1.png
END:VEVENT
BEGIN:VEVENT
DTSTART;TZID=America/New_York:20260521T180000
DTEND;TZID=America/New_York:20260521T210000
DTSTAMP:20260425T155409
CREATED:20260414T142036Z
LAST-MODIFIED:20260414T142036Z
UID:10055622-1779386400-1779397200@diversionsgames.com
SUMMARY:Disney Lorcana: Learn to Play/Open Play/Trade Night
DESCRIPTION:Have you always been interested in Lorcana? Have extra cards laying around? Looking for one more copy to complete your set? Tonight is the night for you!
URL:https://diversionsgames.com/event/disney-lorcana-learn-to-play-open-play-trade-night/
CATEGORIES:Somersworth
ATTACH;FMTTYPE=image/jpeg:https://diversionsgames.com/wp-content/uploads/2026/04/670546835_974155881805609_792706505809618317_n.jpg
END:VEVENT
BEGIN:VEVENT
DTSTART;TZID=America/New_York:20260522T180000
DTEND;TZID=America/New_York:20260522T210000
DTSTAMP:20260425T155409
CREATED:20260414T142159Z
LAST-MODIFIED:20260414T145722Z
UID:10054732-1779472800-1779483600@diversionsgames.com
SUMMARY:Daggerheart RPG
DESCRIPTION:Join us as we explore Daggerheart\, a new epic TTRPG from Darrington Press. Powered by an innovative card and Duality Dice design\, Daggerheart blends tactical depth with narrative freedom\, empowering each group to make the game their own.\n\nSign up in-store. Space is limited.
URL:https://diversionsgames.com/event/daggerheart-rpg-2/2026-05-22/
CATEGORIES:Somersworth
ATTACH;FMTTYPE=image/png:https://diversionsgames.com/wp-content/uploads/2026/04/Copy-of-Copy-of-Star-Wars.png
END:VEVENT
BEGIN:VEVENT
DTSTART;TZID=America/New_York:20260523T100000
DTEND;TZID=America/New_York:20260523T180000
DTSTAMP:20260425T155409
CREATED:20240701T184600Z
LAST-MODIFIED:20240701T191429Z
UID:10049977-1779530400-1779559200@diversionsgames.com
SUMMARY:Saturday Board Games
DESCRIPTION:Saturdays are for board games! We invite you to stop in for light\, medium\, and heavy strategy games! Bring your favorites or try out some of our demos. There is plenty of free parking and quick-serve food options nearby.
URL:https://diversionsgames.com/event/saturday-board-games-2-2-2/2026-05-23/
CATEGORIES:Somersworth
ATTACH;FMTTYPE=image/png:https://diversionsgames.com/wp-content/uploads/2023/09/Wingspan.-Photo-from-Stonemaier-Games.png
END:VEVENT
END:VCALENDAR