BEGIN:VCALENDAR
VERSION:2.0
PRODID:-//Diversions Puzzles &amp; Games - ECPv6.14.0//NONSGML v1.0//EN
CALSCALE:GREGORIAN
METHOD:PUBLISH
X-WR-CALNAME:Diversions Puzzles &amp; Games
X-ORIGINAL-URL:https://diversionsgames.com
X-WR-CALDESC:Events for Diversions Puzzles &amp; Games
REFRESH-INTERVAL;VALUE=DURATION:PT1H
X-Robots-Tag:noindex
X-PUBLISHED-TTL:PT1H
BEGIN:VTIMEZONE
TZID:America/New_York
BEGIN:DAYLIGHT
TZOFFSETFROM:-0500
TZOFFSETTO:-0400
TZNAME:EDT
DTSTART:20260308T070000
END:DAYLIGHT
BEGIN:STANDARD
TZOFFSETFROM:-0400
TZOFFSETTO:-0500
TZNAME:EST
DTSTART:20261101T060000
END:STANDARD
END:VTIMEZONE
BEGIN:VEVENT
DTSTART;TZID=America/New_York:20260101T170000
DTEND;TZID=America/New_York:20260101T200000
DTSTAMP:20260425T142407
CREATED:20251016T143518Z
LAST-MODIFIED:20260223T163607Z
UID:10054777-1767286800-1767297600@diversionsgames.com
SUMMARY:Marvel Champions Game Night
DESCRIPTION:Join us each Thursday for a Marvel Champions night!
URL:https://diversionsgames.com/event/marvel-champions-game-night-2/2026-01-01/
CATEGORIES:South Portland
ATTACH;FMTTYPE=image/png:https://diversionsgames.com/wp-content/uploads/2025/10/Champions-Night.png
END:VEVENT
BEGIN:VEVENT
DTSTART;TZID=America/New_York:20260101T170000
DTEND;TZID=America/New_York:20260101T200000
DTSTAMP:20260425T142407
CREATED:20251016T145112Z
LAST-MODIFIED:20251205T193701Z
UID:10054759-1767286800-1767297600@diversionsgames.com
SUMMARY:Disney: Lorcana - Whispers in the Well Weekly League
DESCRIPTION:Lorcana League is every Thursday\, 5:00-9:00pm.  Players can join the league at any time. Lorcana League is a casual and free event.  Please check in with a Diversions associate when arriving for Lorcana League for free promos\, including cards\, pins\, and lore trackers!
URL:https://diversionsgames.com/event/disney-lorcana-whispers-in-the-well-weekly-league/2026-01-01/
CATEGORIES:South Portland
ATTACH;FMTTYPE=image/jpeg:https://diversionsgames.com/wp-content/uploads/2025/10/Lorcana-League-Portland-1.jpg
END:VEVENT
BEGIN:VEVENT
DTSTART;TZID=America/New_York:20260102T170000
DTEND;TZID=America/New_York:20260102T200000
DTSTAMP:20260425T142407
CREATED:20251215T174056Z
LAST-MODIFIED:20260223T163637Z
UID:10054809-1767373200-1767384000@diversionsgames.com
SUMMARY:Board Game Night
DESCRIPTION:Join us from 5pm to 8pm for open board gaming! Bring your own or use any of our demo games from our game library.
URL:https://diversionsgames.com/event/board-game-night-5/2026-01-02/
CATEGORIES:South Portland
ATTACH;FMTTYPE=image/jpeg:https://diversionsgames.com/wp-content/uploads/2025/12/594968970_1464433012348968_9036102886510384528_n.jpg
END:VEVENT
BEGIN:VEVENT
DTSTART;TZID=America/New_York:20260108T170000
DTEND;TZID=America/New_York:20260108T200000
DTSTAMP:20260425T142407
CREATED:20251016T143518Z
LAST-MODIFIED:20260223T163607Z
UID:10054778-1767891600-1767902400@diversionsgames.com
SUMMARY:Marvel Champions Game Night
DESCRIPTION:Join us each Thursday for a Marvel Champions night!
URL:https://diversionsgames.com/event/marvel-champions-game-night-2/2026-01-08/
CATEGORIES:South Portland
ATTACH;FMTTYPE=image/png:https://diversionsgames.com/wp-content/uploads/2025/10/Champions-Night.png
END:VEVENT
BEGIN:VEVENT
DTSTART;TZID=America/New_York:20260108T170000
DTEND;TZID=America/New_York:20260108T200000
DTSTAMP:20260425T142407
CREATED:20251016T145112Z
LAST-MODIFIED:20251205T193701Z
UID:10054760-1767891600-1767902400@diversionsgames.com
SUMMARY:Disney: Lorcana - Whispers in the Well Weekly League
DESCRIPTION:Lorcana League is every Thursday\, 5:00-9:00pm.  Players can join the league at any time. Lorcana League is a casual and free event.  Please check in with a Diversions associate when arriving for Lorcana League for free promos\, including cards\, pins\, and lore trackers!
URL:https://diversionsgames.com/event/disney-lorcana-whispers-in-the-well-weekly-league/2026-01-08/
CATEGORIES:South Portland
ATTACH;FMTTYPE=image/jpeg:https://diversionsgames.com/wp-content/uploads/2025/10/Lorcana-League-Portland-1.jpg
END:VEVENT
BEGIN:VEVENT
DTSTART;TZID=America/New_York:20260109T170000
DTEND;TZID=America/New_York:20260109T200000
DTSTAMP:20260425T142407
CREATED:20251215T174056Z
LAST-MODIFIED:20260223T163637Z
UID:10054810-1767978000-1767988800@diversionsgames.com
SUMMARY:Board Game Night
DESCRIPTION:Join us from 5pm to 8pm for open board gaming! Bring your own or use any of our demo games from our game library.
URL:https://diversionsgames.com/event/board-game-night-5/2026-01-09/
CATEGORIES:South Portland
ATTACH;FMTTYPE=image/jpeg:https://diversionsgames.com/wp-content/uploads/2025/12/594968970_1464433012348968_9036102886510384528_n.jpg
END:VEVENT
BEGIN:VEVENT
DTSTART;TZID=America/New_York:20260110T100000
DTEND;TZID=America/New_York:20260110T180000
DTSTAMP:20260425T142407
CREATED:20251205T195754Z
LAST-MODIFIED:20260223T163703Z
UID:10054802-1768039200-1768068000@diversionsgames.com
SUMMARY:Game Day
DESCRIPTION:Join us for all day board gaming\, from 10am to 6pm.
URL:https://diversionsgames.com/event/game-day/2026-01-10/
CATEGORIES:South Portland
ATTACH;FMTTYPE=image/png:https://diversionsgames.com/wp-content/uploads/2025/12/Game-Day.png
END:VEVENT
BEGIN:VEVENT
DTSTART;TZID=America/New_York:20260115T170000
DTEND;TZID=America/New_York:20260115T200000
DTSTAMP:20260425T142407
CREATED:20251016T143518Z
LAST-MODIFIED:20260223T163607Z
UID:10054779-1768496400-1768507200@diversionsgames.com
SUMMARY:Marvel Champions Game Night
DESCRIPTION:Join us each Thursday for a Marvel Champions night!
URL:https://diversionsgames.com/event/marvel-champions-game-night-2/2026-01-15/
CATEGORIES:South Portland
ATTACH;FMTTYPE=image/png:https://diversionsgames.com/wp-content/uploads/2025/10/Champions-Night.png
END:VEVENT
BEGIN:VEVENT
DTSTART;TZID=America/New_York:20260115T170000
DTEND;TZID=America/New_York:20260115T200000
DTSTAMP:20260425T142407
CREATED:20251016T145112Z
LAST-MODIFIED:20251205T193701Z
UID:10054761-1768496400-1768507200@diversionsgames.com
SUMMARY:Disney: Lorcana - Whispers in the Well Weekly League
DESCRIPTION:Lorcana League is every Thursday\, 5:00-9:00pm.  Players can join the league at any time. Lorcana League is a casual and free event.  Please check in with a Diversions associate when arriving for Lorcana League for free promos\, including cards\, pins\, and lore trackers!
URL:https://diversionsgames.com/event/disney-lorcana-whispers-in-the-well-weekly-league/2026-01-15/
CATEGORIES:South Portland
ATTACH;FMTTYPE=image/jpeg:https://diversionsgames.com/wp-content/uploads/2025/10/Lorcana-League-Portland-1.jpg
END:VEVENT
BEGIN:VEVENT
DTSTART;TZID=America/New_York:20260116T170000
DTEND;TZID=America/New_York:20260116T200000
DTSTAMP:20260425T142407
CREATED:20251215T174056Z
LAST-MODIFIED:20260223T163637Z
UID:10054811-1768582800-1768593600@diversionsgames.com
SUMMARY:Board Game Night
DESCRIPTION:Join us from 5pm to 8pm for open board gaming! Bring your own or use any of our demo games from our game library.
URL:https://diversionsgames.com/event/board-game-night-5/2026-01-16/
CATEGORIES:South Portland
ATTACH;FMTTYPE=image/jpeg:https://diversionsgames.com/wp-content/uploads/2025/12/594968970_1464433012348968_9036102886510384528_n.jpg
END:VEVENT
BEGIN:VEVENT
DTSTART;TZID=America/New_York:20260117T100000
DTEND;TZID=America/New_York:20260117T180000
DTSTAMP:20260425T142407
CREATED:20251205T195754Z
LAST-MODIFIED:20260223T163703Z
UID:10054803-1768644000-1768672800@diversionsgames.com
SUMMARY:Game Day
DESCRIPTION:Join us for all day board gaming\, from 10am to 6pm.
URL:https://diversionsgames.com/event/game-day/2026-01-17/
CATEGORIES:South Portland
ATTACH;FMTTYPE=image/png:https://diversionsgames.com/wp-content/uploads/2025/12/Game-Day.png
END:VEVENT
BEGIN:VEVENT
DTSTART;TZID=America/New_York:20260122T170000
DTEND;TZID=America/New_York:20260122T200000
DTSTAMP:20260425T142407
CREATED:20251016T143518Z
LAST-MODIFIED:20260223T163607Z
UID:10054780-1769101200-1769112000@diversionsgames.com
SUMMARY:Marvel Champions Game Night
DESCRIPTION:Join us each Thursday for a Marvel Champions night!
URL:https://diversionsgames.com/event/marvel-champions-game-night-2/2026-01-22/
CATEGORIES:South Portland
ATTACH;FMTTYPE=image/png:https://diversionsgames.com/wp-content/uploads/2025/10/Champions-Night.png
END:VEVENT
BEGIN:VEVENT
DTSTART;TZID=America/New_York:20260122T170000
DTEND;TZID=America/New_York:20260122T200000
DTSTAMP:20260425T142407
CREATED:20251016T145112Z
LAST-MODIFIED:20251205T193701Z
UID:10054762-1769101200-1769112000@diversionsgames.com
SUMMARY:Disney: Lorcana - Whispers in the Well Weekly League
DESCRIPTION:Lorcana League is every Thursday\, 5:00-9:00pm.  Players can join the league at any time. Lorcana League is a casual and free event.  Please check in with a Diversions associate when arriving for Lorcana League for free promos\, including cards\, pins\, and lore trackers!
URL:https://diversionsgames.com/event/disney-lorcana-whispers-in-the-well-weekly-league/2026-01-22/
CATEGORIES:South Portland
ATTACH;FMTTYPE=image/jpeg:https://diversionsgames.com/wp-content/uploads/2025/10/Lorcana-League-Portland-1.jpg
END:VEVENT
BEGIN:VEVENT
DTSTART;TZID=America/New_York:20260123T170000
DTEND;TZID=America/New_York:20260123T200000
DTSTAMP:20260425T142407
CREATED:20251215T174056Z
LAST-MODIFIED:20260223T163637Z
UID:10054812-1769187600-1769198400@diversionsgames.com
SUMMARY:Board Game Night
DESCRIPTION:Join us from 5pm to 8pm for open board gaming! Bring your own or use any of our demo games from our game library.
URL:https://diversionsgames.com/event/board-game-night-5/2026-01-23/
CATEGORIES:South Portland
ATTACH;FMTTYPE=image/jpeg:https://diversionsgames.com/wp-content/uploads/2025/12/594968970_1464433012348968_9036102886510384528_n.jpg
END:VEVENT
BEGIN:VEVENT
DTSTART;TZID=America/New_York:20260124T110000
DTEND;TZID=America/New_York:20260124T170000
DTSTAMP:20260425T142407
CREATED:20251128T191346Z
LAST-MODIFIED:20251128T191346Z
UID:10054765-1769252400-1769274000@diversionsgames.com
SUMMARY:Disney Lorcana: Whispers in the Well Set Championship
DESCRIPTION:Join us on Saturday\, January 24 at 11:00am for our Disney Lorcana: Whispers in the Well Set Championship!\n\n~Registration & Check-In~An entry fee of $15.00 will be collected in-store on the day of the event. Player cap is 24.\nCheck-in will be Saturday\, January 24\, 9:00-10:45am. Entry fee due at check-in\nRegister here: https://tcg.ravensburgerplay.com/events/285547\n\n~Format~This is a Swiss-style tournament\, played in Best-of-3 format. Each round is 60-minutes in length. The number of rounds in the tournament will depend on the number of attendees. Playoff rounds will be played after the Swiss rounds including players with the highest standings. The playoffs are best-of-3\, single-elimination rounds until one undefeated player is remaining as the tournament champion.\n8 players: 3 rounds\, no cut9-16 players: 4 rounds\, cut to top 417-32 players: 5 rounds\, cut to top 8\n\n~Prizing~\n\nAll players: Daisy Duck (Paranormal Investigator) non-foil promo card\n1st place: Daisy Duck (Paranormal Investigator) Champion playmat\, Daisy Duck (Paranormal Investigator) foil promo card\n2nd place: Whispers in the Well Playmat\, Daisy Duck (Paranormal Investigator) Foil Promo Card\n3rd-8th place: Daisy Duck (Paranormal Investigator)\n\nUnofficial prizing (booster packs\, etc) will be dependent on final turnout.\n\n~Deck rules~This tournament is in the Constructed (Core) format. Each player must bring one deck to the event which they have built ahead of time. Constructed decks must contain at least 60 cards. There is no maximum deck size\, but a player must be able to shuffle their deck in a timely manner without assistance. Constructed decks must not contain cards from more than two ink colors. For example\, if a deck contains Amber and Amethyst cards\, it must not contain any Emerald\, Ruby\, Sapphire\, or Steel cards. Constructed decks must not contain more than four of a single card as identified by its full English card name. Character cards with different subtitles are considered different cards for purposes of this rule. For example\, a deck may contain up to four copies of Ariel – On Human Legs as well as up to four copies of Ariel – Spectacular Singer. All released cards are legal for this event. You must use the same deck for the duration of the event. Decklist submission will be required. Please submit a hardcopy of your decklist during registration.\n\nOfficially banned cards are not permitted in this event. For more information about tournaments\, please consult the official tournament rules.
URL:https://diversionsgames.com/event/disney-lorcana-whispers-in-the-well-set-championship-2/
CATEGORIES:South Portland
ATTACH;FMTTYPE=image/jpeg:https://diversionsgames.com/wp-content/uploads/2025/11/SoPo-WITW-SC-1.jpg
END:VEVENT
BEGIN:VEVENT
DTSTART;TZID=America/New_York:20260129T170000
DTEND;TZID=America/New_York:20260129T200000
DTSTAMP:20260425T142407
CREATED:20251016T143518Z
LAST-MODIFIED:20260223T163607Z
UID:10054781-1769706000-1769716800@diversionsgames.com
SUMMARY:Marvel Champions Game Night
DESCRIPTION:Join us each Thursday for a Marvel Champions night!
URL:https://diversionsgames.com/event/marvel-champions-game-night-2/2026-01-29/
CATEGORIES:South Portland
ATTACH;FMTTYPE=image/png:https://diversionsgames.com/wp-content/uploads/2025/10/Champions-Night.png
END:VEVENT
BEGIN:VEVENT
DTSTART;TZID=America/New_York:20260129T170000
DTEND;TZID=America/New_York:20260129T200000
DTSTAMP:20260425T142407
CREATED:20251016T145112Z
LAST-MODIFIED:20251205T193701Z
UID:10054763-1769706000-1769716800@diversionsgames.com
SUMMARY:Disney: Lorcana - Whispers in the Well Weekly League
DESCRIPTION:Lorcana League is every Thursday\, 5:00-9:00pm.  Players can join the league at any time. Lorcana League is a casual and free event.  Please check in with a Diversions associate when arriving for Lorcana League for free promos\, including cards\, pins\, and lore trackers!
URL:https://diversionsgames.com/event/disney-lorcana-whispers-in-the-well-weekly-league/2026-01-29/
CATEGORIES:South Portland
ATTACH;FMTTYPE=image/jpeg:https://diversionsgames.com/wp-content/uploads/2025/10/Lorcana-League-Portland-1.jpg
END:VEVENT
BEGIN:VEVENT
DTSTART;TZID=America/New_York:20260130T170000
DTEND;TZID=America/New_York:20260130T200000
DTSTAMP:20260425T142407
CREATED:20251215T174056Z
LAST-MODIFIED:20260223T163637Z
UID:10054813-1769792400-1769803200@diversionsgames.com
SUMMARY:Board Game Night
DESCRIPTION:Join us from 5pm to 8pm for open board gaming! Bring your own or use any of our demo games from our game library.
URL:https://diversionsgames.com/event/board-game-night-5/2026-01-30/
CATEGORIES:South Portland
ATTACH;FMTTYPE=image/jpeg:https://diversionsgames.com/wp-content/uploads/2025/12/594968970_1464433012348968_9036102886510384528_n.jpg
END:VEVENT
BEGIN:VEVENT
DTSTART;TZID=America/New_York:20260131T100000
DTEND;TZID=America/New_York:20260131T180000
DTSTAMP:20260425T142407
CREATED:20251205T195754Z
LAST-MODIFIED:20260223T163703Z
UID:10054804-1769853600-1769882400@diversionsgames.com
SUMMARY:Game Day
DESCRIPTION:Join us for all day board gaming\, from 10am to 6pm.
URL:https://diversionsgames.com/event/game-day/2026-01-31/
CATEGORIES:South Portland
ATTACH;FMTTYPE=image/png:https://diversionsgames.com/wp-content/uploads/2025/12/Game-Day.png
END:VEVENT
BEGIN:VEVENT
DTSTART;TZID=America/New_York:20260131T110000
DTEND;TZID=America/New_York:20260131T150000
DTSTAMP:20260425T142407
CREATED:20251230T144822Z
LAST-MODIFIED:20251230T144822Z
UID:10054818-1769857200-1769871600@diversionsgames.com
SUMMARY:Intro to Daggerheart: Sablewood Adventure
DESCRIPTION:Kyle is running a special Intro to Daggerheart on Saturday\, January 31 from 11:00am to 3:00pm. This event is free to attend. Max player count of 6. Please email the store at portland@diversionsgames.com to secure your spot. This is suitable for those new to tabletop RPGs and experienced players alike. \nName: Sablewood Adventure\nLevel: 1/2 \nIf you’re able\, please bring the following:\n• #2 Pencil\n• Character Sheet If you want your own:\no https://www.daggerheart.com/…/Character-Sheets-and…\n• Polyhedral dice\no 1x d20\no 2x d12 – one being any dark color and one being any bright color\no 1x d10\no 1x d8\no 1x d6\no 1x d4 \nOtherwise\, all characters and dice will be provided.
URL:https://diversionsgames.com/event/intro-to-daggerheart-sablewood-adventure/
CATEGORIES:South Portland
ATTACH;FMTTYPE=image/jpeg:https://diversionsgames.com/wp-content/uploads/2025/12/Daggerheart-1.jpg
END:VEVENT
END:VCALENDAR