BEGIN:VCALENDAR
VERSION:2.0
PRODID:-//Diversions Puzzles &amp; Games - ECPv6.14.0//NONSGML v1.0//EN
CALSCALE:GREGORIAN
METHOD:PUBLISH
X-ORIGINAL-URL:https://diversionsgames.com
X-WR-CALDESC:Events for Diversions Puzzles &amp; Games
REFRESH-INTERVAL;VALUE=DURATION:PT1H
X-Robots-Tag:noindex
X-PUBLISHED-TTL:PT1H
BEGIN:VTIMEZONE
TZID:America/New_York
BEGIN:DAYLIGHT
TZOFFSETFROM:-0500
TZOFFSETTO:-0400
TZNAME:EDT
DTSTART:20250309T070000
END:DAYLIGHT
BEGIN:STANDARD
TZOFFSETFROM:-0400
TZOFFSETTO:-0500
TZNAME:EST
DTSTART:20251102T060000
END:STANDARD
END:VTIMEZONE
BEGIN:VEVENT
DTSTART;TZID=America/New_York:20251230T170000
DTEND;TZID=America/New_York:20251230T210000
DTSTAMP:20260425T192637
CREATED:20230106T175934Z
LAST-MODIFIED:20251205T193457Z
UID:10049004-1767114000-1767128400@diversionsgames.com
SUMMARY:Tuesday Open Game Night
DESCRIPTION:Join us every Tuesday evening for our weekly board game nights featuring light\, medium\, and heavy strategy games. Bring your favorites or try out some of our demos. (Games need to be family friendly). Stop in and play a game or two!
URL:https://diversionsgames.com/event/tuesday-open-game-night/2025-12-30/
CATEGORIES:South Portland
ATTACH;FMTTYPE=image/jpeg:https://diversionsgames.com/wp-content/uploads/2025/01/471522015_1154726389986300_5668769673982792138_n.jpg
END:VEVENT
END:VCALENDAR