BEGIN:VCALENDAR
VERSION:2.0
PRODID:-//Diversions Puzzles &amp; Games - ECPv6.14.0//NONSGML v1.0//EN
CALSCALE:GREGORIAN
METHOD:PUBLISH
X-ORIGINAL-URL:https://diversionsgames.com
X-WR-CALDESC:Events for Diversions Puzzles &amp; Games
REFRESH-INTERVAL;VALUE=DURATION:PT1H
X-Robots-Tag:noindex
X-PUBLISHED-TTL:PT1H
BEGIN:VTIMEZONE
TZID:America/New_York
BEGIN:DAYLIGHT
TZOFFSETFROM:-0500
TZOFFSETTO:-0400
TZNAME:EDT
DTSTART:20260308T070000
END:DAYLIGHT
BEGIN:STANDARD
TZOFFSETFROM:-0400
TZOFFSETTO:-0500
TZNAME:EST
DTSTART:20261101T060000
END:STANDARD
END:VTIMEZONE
BEGIN:VEVENT
DTSTART;TZID=America/New_York:20260108T170000
DTEND;TZID=America/New_York:20260108T200000
DTSTAMP:20260425T075202
CREATED:20251016T143518Z
LAST-MODIFIED:20260223T163607Z
UID:10054778-1767891600-1767902400@diversionsgames.com
SUMMARY:Marvel Champions Game Night
DESCRIPTION:Join us each Thursday for a Marvel Champions night!
URL:https://diversionsgames.com/event/marvel-champions-game-night-2/2026-01-08/
CATEGORIES:South Portland
ATTACH;FMTTYPE=image/png:https://diversionsgames.com/wp-content/uploads/2025/10/Champions-Night.png
END:VEVENT
BEGIN:VEVENT
DTSTART;TZID=America/New_York:20260108T170000
DTEND;TZID=America/New_York:20260108T200000
DTSTAMP:20260425T075202
CREATED:20251016T145112Z
LAST-MODIFIED:20251205T193701Z
UID:10054760-1767891600-1767902400@diversionsgames.com
SUMMARY:Disney: Lorcana - Whispers in the Well Weekly League
DESCRIPTION:Lorcana League is every Thursday\, 5:00-9:00pm.  Players can join the league at any time. Lorcana League is a casual and free event.  Please check in with a Diversions associate when arriving for Lorcana League for free promos\, including cards\, pins\, and lore trackers!
URL:https://diversionsgames.com/event/disney-lorcana-whispers-in-the-well-weekly-league/2026-01-08/
CATEGORIES:South Portland
ATTACH;FMTTYPE=image/jpeg:https://diversionsgames.com/wp-content/uploads/2025/10/Lorcana-League-Portland-1.jpg
END:VEVENT
BEGIN:VEVENT
DTSTART;TZID=America/New_York:20260109T170000
DTEND;TZID=America/New_York:20260109T200000
DTSTAMP:20260425T075202
CREATED:20251215T174056Z
LAST-MODIFIED:20260223T163637Z
UID:10054810-1767978000-1767988800@diversionsgames.com
SUMMARY:Board Game Night
DESCRIPTION:Join us from 5pm to 8pm for open board gaming! Bring your own or use any of our demo games from our game library.
URL:https://diversionsgames.com/event/board-game-night-5/2026-01-09/
CATEGORIES:South Portland
ATTACH;FMTTYPE=image/jpeg:https://diversionsgames.com/wp-content/uploads/2025/12/594968970_1464433012348968_9036102886510384528_n.jpg
END:VEVENT
BEGIN:VEVENT
DTSTART;TZID=America/New_York:20260110T100000
DTEND;TZID=America/New_York:20260110T180000
DTSTAMP:20260425T075202
CREATED:20251205T195754Z
LAST-MODIFIED:20260223T163703Z
UID:10054802-1768039200-1768068000@diversionsgames.com
SUMMARY:Game Day
DESCRIPTION:Join us for all day board gaming\, from 10am to 6pm.
URL:https://diversionsgames.com/event/game-day/2026-01-10/
CATEGORIES:South Portland
ATTACH;FMTTYPE=image/png:https://diversionsgames.com/wp-content/uploads/2025/12/Game-Day.png
END:VEVENT
END:VCALENDAR