BEGIN:VCALENDAR
VERSION:2.0
PRODID:-//Diversions Puzzles &amp; Games - ECPv6.14.0//NONSGML v1.0//EN
CALSCALE:GREGORIAN
METHOD:PUBLISH
X-ORIGINAL-URL:https://diversionsgames.com
X-WR-CALDESC:Events for Diversions Puzzles &amp; Games
REFRESH-INTERVAL;VALUE=DURATION:PT1H
X-Robots-Tag:noindex
X-PUBLISHED-TTL:PT1H
BEGIN:VTIMEZONE
TZID:America/New_York
BEGIN:DAYLIGHT
TZOFFSETFROM:-0500
TZOFFSETTO:-0400
TZNAME:EDT
DTSTART:20210314T070000
END:DAYLIGHT
BEGIN:STANDARD
TZOFFSETFROM:-0400
TZOFFSETTO:-0500
TZNAME:EST
DTSTART:20211107T060000
END:STANDARD
END:VTIMEZONE
BEGIN:VEVENT
DTSTART;TZID=America/New_York:20210718T110000
DTEND;TZID=America/New_York:20210718T140000
DTSTAMP:20260425T224411
CREATED:20210608T183441Z
LAST-MODIFIED:20210608T183441Z
UID:10045399-1626606000-1626616800@diversionsgames.com
SUMMARY:Pokémon Game Day
DESCRIPTION:Everyone of all ages and experience is welcome to join us for this free Pokémon event! This is an open play event\, you can play any deck you have\, trade cards with other players and talk about your favorite Pokémon!
URL:https://diversionsgames.com/event/pokemon-game-day/
CATEGORIES:South Portland
ATTACH;FMTTYPE=image/png:https://diversionsgames.com/wp-content/uploads/2021/06/Copy-of-FB-Event-Cover-Pokemon.png
END:VEVENT
BEGIN:VEVENT
DTSTART;TZID=America/New_York:20210718T120000
DTEND;TZID=America/New_York:20210718T170000
DTSTAMP:20260425T224411
CREATED:20210623T200007Z
LAST-MODIFIED:20210623T200007Z
UID:10046237-1626609600-1626627600@diversionsgames.com
SUMMARY:Magic: The Gathering: Adventures in the Forgotten Realms Pre-Release
DESCRIPTION:Join us for the Magic the Gathering: Adventures in the Forgotten Realm Prerelease at Diversions Puzzles & Games – Portsmouth!\nRegistration for this event is open from 10:00-11:45AM on the day of the event. No registrations after 11:45AM. The cost for entry is $27.99\nPlayers must have an active Wizards Account with a valid email to participate. You can register for an account here:\nhttps://myaccounts.wizards.com/register\n\n\nPrereleases are Sealed Deck format events\, where you build a minimum 40-card deck using the contents of a Prerelease Pack (6 booster packs) and a Premium date-stamped promo card) plus basic lands that are provided to you by the store. After your deck is built\, you’ll be randomly paired with another player for a best two-of-three match. Each round you’ll report who won and be paired up with a new player. If you do well\, you might win additional booster packs as prizes!\n\n\nEach person may only purchase one pre-release pack for use during the event only. All event participants will receive at least one free booster during prizing.
URL:https://diversionsgames.com/event/magic-the-gathering-adventures-in-the-forgotten-realms-pre-release/
CATEGORIES:Portsmouth
ATTACH;FMTTYPE=image/jpeg:https://diversionsgames.com/wp-content/uploads/2021/06/Magic-PreRelease.jpg
END:VEVENT
BEGIN:VEVENT
DTSTART;TZID=America/New_York:20210720T170000
DTEND;TZID=America/New_York:20210720T210000
DTSTAMP:20260425T224411
CREATED:20210526T133518Z
LAST-MODIFIED:20220624T185845Z
UID:10046144-1626800400-1626814800@diversionsgames.com
SUMMARY:Game Night
DESCRIPTION:Join us every Tuesday evening for our weekly board game night featuring light\, medium\, and heavy strategy games. Bring your favorites or try out some of our demos. (Games need to be family friendly). Stop in and play a game or two!
URL:https://diversionsgames.com/event/game-night/2021-07-20/
CATEGORIES:South Portland
ATTACH;FMTTYPE=image/png:https://diversionsgames.com/wp-content/uploads/2021/05/FB-Event-Cover-Game-Night-2.png
END:VEVENT
BEGIN:VEVENT
DTSTART;TZID=America/New_York:20210723T170000
DTEND;TZID=America/New_York:20210723T210000
DTSTAMP:20260425T224411
CREATED:20210526T133933Z
LAST-MODIFIED:20210526T133933Z
UID:10045361-1627059600-1627074000@diversionsgames.com
SUMMARY:Game Night
DESCRIPTION:Join us Friday evenings in July for our weekly board game nights featuring light\, medium\, and heavy strategy games. Bring your favorites or try out some of our demos. (Games need to be family friendly). Stop in and play a game or two!\n\n*** COVID safety requirements and capacity limits TBD. Please check back before attending to ensure you are able/willing to comply with any requirements we may implement.***
URL:https://diversionsgames.com/event/game-night-2/2021-07-23/
CATEGORIES:South Portland
ATTACH;FMTTYPE=image/png:https://diversionsgames.com/wp-content/uploads/2021/05/FB-Event-Cover-Game-Night-1.png
END:VEVENT
BEGIN:VEVENT
DTSTART;TZID=America/New_York:20210723T170000
DTEND;TZID=America/New_York:20210723T210000
DTSTAMP:20260425T224411
CREATED:20210526T200707Z
LAST-MODIFIED:20210829T173811Z
UID:10045366-1627059600-1627074000@diversionsgames.com
SUMMARY:Game Night
DESCRIPTION:Join us every Friday evening for our weekly board game night featuring light\, medium\, and heavy strategy games! Bring your favorites or try out some of our demos. (Games need to be family friendly). Stop in and play a game or two!
URL:https://diversionsgames.com/event/game-night-3/2021-07-23/
CATEGORIES:Portsmouth
ATTACH;FMTTYPE=image/png:https://diversionsgames.com/wp-content/uploads/2021/05/FB-Event-Cover-Game-Night-1.png
END:VEVENT
END:VCALENDAR