BEGIN:VCALENDAR
VERSION:2.0
PRODID:-//Diversions Puzzles &amp; Games - ECPv6.14.0//NONSGML v1.0//EN
CALSCALE:GREGORIAN
METHOD:PUBLISH
X-ORIGINAL-URL:https://diversionsgames.com
X-WR-CALDESC:Events for Diversions Puzzles &amp; Games
REFRESH-INTERVAL;VALUE=DURATION:PT1H
X-Robots-Tag:noindex
X-PUBLISHED-TTL:PT1H
BEGIN:VTIMEZONE
TZID:America/New_York
BEGIN:DAYLIGHT
TZOFFSETFROM:-0500
TZOFFSETTO:-0400
TZNAME:EDT
DTSTART:20250309T070000
END:DAYLIGHT
BEGIN:STANDARD
TZOFFSETFROM:-0400
TZOFFSETTO:-0500
TZNAME:EST
DTSTART:20251102T060000
END:STANDARD
END:VTIMEZONE
BEGIN:VEVENT
DTSTART;TZID=America/New_York:20250525T100000
DTEND;TZID=America/New_York:20250525T140000
DTSTAMP:20260424T112805
CREATED:20250106T172239Z
LAST-MODIFIED:20250106T172334Z
UID:10053579-1748167200-1748181600@diversionsgames.com
SUMMARY:Star Wars: Unlimited Weekly Play
DESCRIPTION:Join us for Star Wars Unlimited Weekly Play – a casual event to learn\, play\, and trade this new and growing TCG. Every Sunday from 10am to 2pm! Promos and prizes will be given out to attendees from the official Organized Play Weekly Kits.
URL:https://diversionsgames.com/event/star-wars-unlimited-weekly-play-2-2/2025-05-25/
CATEGORIES:South Portland
ATTACH;FMTTYPE=image/jpeg:https://diversionsgames.com/wp-content/uploads/2024/07/471613729_1154732943318978_7686291457270349196_n.jpg
END:VEVENT
BEGIN:VEVENT
DTSTART;TZID=America/New_York:20250526T170000
DTEND;TZID=America/New_York:20250526T210000
DTSTAMP:20260424T112805
CREATED:20250116T152005Z
LAST-MODIFIED:20250116T152006Z
UID:10053764-1748278800-1748293200@diversionsgames.com
SUMMARY:Dungeons & Dragons
DESCRIPTION:Come play Dungeons & Dragons with us every Monday night!\nNew and experienced players are welcome to join a group on the current adventure.  No sign-ups needed! Walk-ins are welcome to participate in this event. Grab a set of dice\, make a new character with the Dungeon Master and you are on your way!\n\n\nWhere can I park?-Free parking is available at the Masonic Temple Lot at the corner of Middle St & Miller St (5-minute walk)-Parking is available at the Foundry Garage for $1/hr (6-minute walk)-Parking is available directly behind the store in the Worth Lot for $2/hr for the first three hours\, and $5/hr each hour after.
URL:https://diversionsgames.com/event/dungeons-dragons-4/2025-05-26/
CATEGORIES:Portsmouth
ATTACH;FMTTYPE=image/jpeg:https://diversionsgames.com/wp-content/uploads/2025/01/473617200_1149978393799269_6831837848602846284_n.jpg
END:VEVENT
BEGIN:VEVENT
DTSTART;TZID=America/New_York:20250527T170000
DTEND;TZID=America/New_York:20250527T210000
DTSTAMP:20260424T112805
CREATED:20230106T175934Z
LAST-MODIFIED:20251205T193457Z
UID:10048973-1748365200-1748379600@diversionsgames.com
SUMMARY:Tuesday Open Game Night
DESCRIPTION:Join us every Tuesday evening for our weekly board game nights featuring light\, medium\, and heavy strategy games. Bring your favorites or try out some of our demos. (Games need to be family friendly). Stop in and play a game or two!
URL:https://diversionsgames.com/event/tuesday-open-game-night/2025-05-27/
CATEGORIES:South Portland
ATTACH;FMTTYPE=image/jpeg:https://diversionsgames.com/wp-content/uploads/2025/01/471522015_1154726389986300_5668769673982792138_n.jpg
END:VEVENT
BEGIN:VEVENT
DTSTART;TZID=America/New_York:20250527T170000
DTEND;TZID=America/New_York:20250527T210000
DTSTAMP:20260424T112805
CREATED:20250116T152118Z
LAST-MODIFIED:20250116T152322Z
UID:10053865-1748365200-1748379600@diversionsgames.com
SUMMARY:Weekly Game Night
DESCRIPTION:Join us every Tuesday for our weekly board game night featuring light\, medium\, and heavy strategy board games! Bring your favorites from home or try out some of our demos in-store. Bring a friend or show up solo\, all are welcome!\n\n\nOutside food is okay\, but please be respectful of other people’s games & belongings. No alcohol allowed.\n\n\nWhere can I park?-Free parking is available at the Masonic Temple Lot at the corner of Middle St & Miller St (5-minute walk)-Parking is available at the Foundry Garage for $1/hr (6-minute walk)-Parking is available directly behind the store in the Worth Lot for $2/hr for the first three hours\, and $5/hr each hour after.
URL:https://diversionsgames.com/event/weekly-game-night/2025-05-27/
CATEGORIES:Portsmouth
ATTACH;FMTTYPE=image/jpeg:https://diversionsgames.com/wp-content/uploads/2025/01/473616252_1149976813799427_7936656020506912706_n.jpg
END:VEVENT
BEGIN:VEVENT
DTSTART;TZID=America/New_York:20250527T170000
DTEND;TZID=America/New_York:20250527T210000
DTSTAMP:20260424T112805
CREATED:20250226T200910Z
LAST-MODIFIED:20250528T190945Z
UID:10054185-1748365200-1748379600@diversionsgames.com
SUMMARY:Disney Lorcana: Archazia's Island Weekly League
DESCRIPTION:Lorcana League is every Tuesday\, 5:00-9:00pm. This league is running March 11th through May 27th. Players can join the league at any time!\nLorcana League is a casual and free event. During League days\, players can earn points by completing goals during the event:\n•Sign up for a League Round: 1 point\n•Win a match (best 2 out of 3 games vs 1 opponent): 2 points\n•Lose a match (same as above): 1 point\n•Bring a new person to League: 1 point\n•Come to league wearing a piece of Disney merchandise: 1 point\n•Teach someone how to play Disney Lorcana in the store: 2 point\n*IMPORTANT CHANGES*\nChanges have been made to prize support for Lorcana League starting with Archazia’s Island League on 3/11/25\nPrizes will be given out weekly to the top 4 players each week based on points earned that week only\, with top players getting their pick of the following items based on how they place.\n-1x Perdita-Playful Mother Promo Card\n-1x Li Shang-Newly Promoted Promo Card\n-1x Bolt-Superdog Pin OR Mad Hatter-Unruly Eccentric Pin\n-1x Show Me More! Deck Box\nIn addition to the above weekly prizing Diversions will also be offering a grand prize to the highest cumulative scoring player across all twelve weeks of 1 free booster box of the next set Disney Lorcana: Reign of Jafar!\nPlease check in with a Diversions associate when arriving for Lorcana League.
URL:https://diversionsgames.com/event/disney-lorcana-archazias-island-weekly-league/2025-05-27/
CATEGORIES:South Portland
ATTACH;FMTTYPE=image/jpeg:https://diversionsgames.com/wp-content/uploads/2025/02/480702124_1204521101673495_1785400987953676517_n.jpg
END:VEVENT
BEGIN:VEVENT
DTSTART;TZID=America/New_York:20250529T170000
DTEND;TZID=America/New_York:20250529T210000
DTSTAMP:20260424T112805
CREATED:20250116T152221Z
LAST-MODIFIED:20250116T152357Z
UID:10053816-1748538000-1748552400@diversionsgames.com
SUMMARY:Star Wars: Unlimited Weekly Play
DESCRIPTION:Weekly Play involves simple\, open-ended\, weekly events that stores host for Star Wars: Unlimited. Weekly Play is constant and consistently run from the release of a new set onward—the whole point is for it to be available every week\, after all! Whether a Weekly Play event is a short tournament or a simple\, casual gathering is up to each individual store; all that matters is that participating stores have a night each week where you and your friends can stop in to play some Star Wars: Unlimited. This phase is supported by a special OP kit\, from which you can earn a unique promo pack each week that you participate in your store’s Weekly Play.\n\n\nWeekly Play at Diversions Puzzles & Games allows players to choose how they want to play Star Wars: Unlimited during the evening – casual constructed 1v1s\, Twin Suns\, or draft are all available for the store to run\, with player consensus!\n\n\nWhere can I park?-Free parking is available at the Masonic Temple Lot at the corner of Middle St & Miller St (5-minute walk)-Parking is available at the Foundry Garage for $1/hr (6-minute walk)-Parking is available directly behind the store in the Worth Lot for $2/hr for the first three hours\, and $5/hr each hour after.
URL:https://diversionsgames.com/event/star-wars-unlimited-weekly-play-7/2025-05-29/
CATEGORIES:Portsmouth
ATTACH;FMTTYPE=image/jpeg:https://diversionsgames.com/wp-content/uploads/2025/01/473620297_1149979753799133_6897703479610110789_n.jpg
END:VEVENT
BEGIN:VEVENT
DTSTART;TZID=America/New_York:20250529T170000
DTEND;TZID=America/New_York:20250529T210000
DTSTAMP:20260424T112805
CREATED:20250317T152617Z
LAST-MODIFIED:20250501T203443Z
UID:10054259-1748538000-1748552400@diversionsgames.com
SUMMARY:Disney Lorcana: Weekly Play
DESCRIPTION:Welcome to our weekly play sessions! These events are unstructured open play\, so you can test your best meta decks ahead of tournaments\, or play fun and casual themed decks.
URL:https://diversionsgames.com/event/disney-lorcana-weekly-play/2025-05-29/
CATEGORIES:Somersworth
ATTACH;FMTTYPE=image/png:https://diversionsgames.com/wp-content/uploads/2025/03/weekly-play.png
END:VEVENT
BEGIN:VEVENT
DTSTART;TZID=America/New_York:20250530T170000
DTEND;TZID=America/New_York:20250530T210000
DTSTAMP:20260424T112805
CREATED:20250106T171817Z
LAST-MODIFIED:20251205T195921Z
UID:10053470-1748624400-1748638800@diversionsgames.com
SUMMARY:Board Game Night
DESCRIPTION:Join us every Friday evening for our weekly board game night featuring light\, medium\, and heavy strategy games. Bring your favorites or try out some of our demos. (Games need to be family friendly). Stop in and play a game or two!
URL:https://diversionsgames.com/event/secret-game-night-3/2025-05-30/
CATEGORIES:South Portland
ATTACH;FMTTYPE=image/jpeg:https://diversionsgames.com/wp-content/uploads/2025/01/471434003_1154720463320226_146561356160475220_n.jpg
END:VEVENT
BEGIN:VEVENT
DTSTART;TZID=America/New_York:20250530T170000
DTEND;TZID=America/New_York:20250530T210000
DTSTAMP:20260424T112805
CREATED:20250116T152536Z
LAST-MODIFIED:20250116T152536Z
UID:10053916-1748624400-1748638800@diversionsgames.com
SUMMARY:Magic: The Gathering - Commander
DESCRIPTION:Join us for an evening of Magic: the Gathering – Commander!\n\nThis event is free and open to all players\, new & seasoned alike. Players do need to bring their own Commander deck to play with at the event. Please call to see if we have any decks available to purchase.\nPlease check in for the event inside the store upon arrival!\n\nHere are the basic rules for Commander:\nYOUR DECK:*1 commander card (legendary creature)*99 other cards*Only one copy of any card\, except basic lands*All cards must be in the color identity of the commander\nTHE GAME:*2–6 players*Free-for-all multiplayer format*Start with 40 life*All commanders start in their command zone*Take turns in clockwise order*Last player standing wins\n\nMore info about Commander:https://mtgcommander.net/ind…/the-philosophy-of-commander/\n\n\nWhere can I park?-Free parking is available at the Masonic Temple Lot at the corner of Middle St & Miller St (5-minute walk)-Parking is available at the Foundry Garage for $1/hr (6-minute walk)-Parking is available directly behind the store in the Worth Lot for $2/hr for the first three hours\, and $5/hr each hour after.
URL:https://diversionsgames.com/event/magic-the-gathering-commander-2/2025-05-30/
CATEGORIES:Portsmouth
ATTACH;FMTTYPE=image/jpeg:https://diversionsgames.com/wp-content/uploads/2025/01/473622299_1149982480465527_4491078968270362250_n.jpg
END:VEVENT
BEGIN:VEVENT
DTSTART;TZID=America/New_York:20250530T180000
DTEND;TZID=America/New_York:20250530T230000
DTSTAMP:20260424T112805
CREATED:20250424T195055Z
LAST-MODIFIED:20250424T195055Z
UID:10054319-1748628000-1748646000@diversionsgames.com
SUMMARY:Disney Lorcana: Reign of Jafar Release Weekend Sealed Tournament
DESCRIPTION:Join us on Release Day for a Disney Lorcana: Reign of Jafar Sealed Tournament!\n\nEntry is $42.00 per player.\n\nPlayers will receive six (6) booster packs from Disney Lorcana: Reign of Jafar\, and will have 30 minutes to build a 40-card deck. Participants will then play a 3-round Swiss-style tournament\, 2-game format\, with the decks. Prizing consists of packs to the top 4 players.\n\nSealed Tournament Deck Construction Rules:\nPlayers will be provided with six booster packs each to use as their individual card pool\, from which they will build a 40-card deck using any number of different inks (rather than only two inks). More than four copies of a card with the same full name can be played.\n\nSign up here: https://shorturl.at/XvTyT
URL:https://diversionsgames.com/event/disney-lorcana-reign-of-jafar-release-weekend-sealed-tournament/
CATEGORIES:Somersworth
ATTACH;FMTTYPE=image/jpeg:https://diversionsgames.com/wp-content/uploads/2025/04/492885452_695370253017508_7860285267801036794_n.jpg
END:VEVENT
BEGIN:VEVENT
DTSTART;TZID=America/New_York:20250531T100000
DTEND;TZID=America/New_York:20250531T180000
DTSTAMP:20260424T112805
CREATED:20240701T184600Z
LAST-MODIFIED:20240701T191429Z
UID:10049938-1748685600-1748714400@diversionsgames.com
SUMMARY:Saturday Board Games
DESCRIPTION:Saturdays are for board games! We invite you to stop in for light\, medium\, and heavy strategy games! Bring your favorites or try out some of our demos. There is plenty of free parking and quick-serve food options nearby.
URL:https://diversionsgames.com/event/saturday-board-games-2-2-2/2025-05-31/
CATEGORIES:Somersworth
ATTACH;FMTTYPE=image/png:https://diversionsgames.com/wp-content/uploads/2023/09/Wingspan.-Photo-from-Stonemaier-Games.png
END:VEVENT
BEGIN:VEVENT
DTSTART;TZID=America/New_York:20250531T110000
DTEND;TZID=America/New_York:20250531T140000
DTSTAMP:20260424T112805
CREATED:20250513T184957Z
LAST-MODIFIED:20250513T184957Z
UID:10054354-1748689200-1748700000@diversionsgames.com
SUMMARY:Altered TCG: Whispers from the Maze Prerelease
DESCRIPTION:Entry: $34.99Format: Sealed\, Best-of-one\, 35-min roundsWhen: Saturday\, May 31 at 11:00am*********************Join us for prerelease sealed event for the newest set from Altered\, Whispers from the Maze!\nPlayers will a prerelease kit containing 7 boosters. We will play three to four rounds of best-of-one matches\, with 35 minutes per round. Deck construction begins at 11:00am.\n\nThis event will follow the rules for sealed deck construction:-Sealed Decks are played 1v1-Each player receives 1 prerelease kit. Players must build decks using only the cards within those kits.-Sealed decks must be at least 30 cards following the deck building instructions below.-After deck construction\, players face one-another in a series of Swiss rounds.\nAdditional rules can be found here: https://www.altered.gg/…/the-formats-of-altered-standard
URL:https://diversionsgames.com/event/altered-tcg-whispers-from-the-maze-prerelease/
CATEGORIES:Somersworth
ATTACH;FMTTYPE=image/jpeg:https://diversionsgames.com/wp-content/uploads/2025/05/496938965_709602214927645_7884298718886004835_n.jpg
END:VEVENT
BEGIN:VEVENT
DTSTART;TZID=America/New_York:20250531T120000
DTEND;TZID=America/New_York:20250531T160000
DTSTAMP:20260424T112805
CREATED:20250513T185433Z
LAST-MODIFIED:20250513T185434Z
UID:10054355-1748692800-1748707200@diversionsgames.com
SUMMARY:Disney Lorcana: Reign of Jafar Sealed Tournament
DESCRIPTION:Join us for Disney: Lorcana – Reign of Jafar release weekend! We are hosting a Sealed Tournament to celebrate! This sealed tournament will run from 12:00-4:00PM\n\n>>Registration & Check-In<<\nEntry is $42.00 per player (6 packs + entry fee)\, due upon check-in before the event. Check-in to register between 9:00-11:45AM.\n\n>>Format<<\nPlayers will be provided with six booster packs each to use as their individual card pool\, from which they will build a 40-card deck using any number of different inks (rather than only two inks). More than four copies of a card with the same full name can be played.\nPlayers use this deck to play in a Swiss-style tournament for 3-4 rounds (dependent on # of players). Each round consists of best-of-three games.\n\n>>Prizing<<\nThe prizing for the event will be Reign of Jafar booster packs distributed to the top standing players at the end of the final round. Promos from the League Kit may also be distributed. All promotional material is from the Disney Lorcana: Reign of Jafar Organized Play Kit.
URL:https://diversionsgames.com/event/disney-lorcana-reign-of-jafar-sealed-tournament/
CATEGORIES:Portsmouth
ATTACH;FMTTYPE=image/jpeg:https://diversionsgames.com/wp-content/uploads/2025/05/496845158_1255424443254663_1639697900019468029_n.jpg
END:VEVENT
BEGIN:VEVENT
DTSTART;TZID=America/New_York:20250531T140000
DTEND;TZID=America/New_York:20250531T200000
DTSTAMP:20260424T112805
CREATED:20250513T185603Z
LAST-MODIFIED:20250513T185603Z
UID:10054356-1748700000-1748721600@diversionsgames.com
SUMMARY:Disney Lorcana: Reign of Jafar Sealed Tournament
DESCRIPTION:Join us on Release Weekend as Jafar takes his throne with a Disney Lorcana: Reign of Jafar Sealed Tournament!\n\nEntry is $41.93 (+tax) per player\, which includes 6 Reign of Jafar booster packs and a tournament entry fee\, payable in person day of.\n\n\nPlayers will receive six (6) booster packs from Disney Lorcana: Reign of Jafar\, and will have 30 minutes to build a 40-card deck. Participants will then play a Swiss-style tournament (best-of-3 matches for 3 rounds) with their decks. The primary prizing for the event will be Reign of Jafar booster packs to the top 3 players (prizing is based on event attendance). Promos from the League Kit may also be distributed. All promotional material are from the Disney Lorcana: Organized Play Kits.\n\nSealed Tournament Deck Construction Rules:Players will be provided with six booster packs each to use as their individual card pool\, from which they will build a 40-card deck using any number of different inks (rather than only two inks). More than four copies of a card with the same full name can be played.
URL:https://diversionsgames.com/event/disney-lorcana-reign-of-jafar-sealed-tournament-2/
CATEGORIES:South Portland
ATTACH;FMTTYPE=image/jpeg:https://diversionsgames.com/wp-content/uploads/2025/05/496927744_1275628871229384_6076999128139318219_n.jpg
END:VEVENT
BEGIN:VEVENT
DTSTART;TZID=America/New_York:20250531T160000
DTEND;TZID=America/New_York:20250531T233000
DTSTAMP:20260424T112805
CREATED:20250501T203136Z
LAST-MODIFIED:20250515T135747Z
UID:10054333-1748707200-1748734200@diversionsgames.com
SUMMARY:Late Night Gaming
DESCRIPTION:It’s time for some late night gaming! Bring your own games or choose games from our library of strategy and family games. New people are always welcome! Outside food is okay but please be respectful of other people’s games and belongings. And don’t worry\, we will keep the lights on.
URL:https://diversionsgames.com/event/late-night-gaming-18/2025-05-31/
CATEGORIES:Somersworth
ATTACH;FMTTYPE=image/jpeg:https://diversionsgames.com/wp-content/uploads/2025/05/493284105_700481772506356_7422021842470263048_n.jpg
END:VEVENT
END:VCALENDAR