BEGIN:VCALENDAR
VERSION:2.0
PRODID:-//Diversions Puzzles &amp; Games - ECPv6.14.0//NONSGML v1.0//EN
CALSCALE:GREGORIAN
METHOD:PUBLISH
X-ORIGINAL-URL:https://diversionsgames.com
X-WR-CALDESC:Events for Diversions Puzzles &amp; Games
REFRESH-INTERVAL;VALUE=DURATION:PT1H
X-Robots-Tag:noindex
X-PUBLISHED-TTL:PT1H
BEGIN:VTIMEZONE
TZID:America/New_York
BEGIN:DAYLIGHT
TZOFFSETFROM:-0500
TZOFFSETTO:-0400
TZNAME:EDT
DTSTART:20250309T070000
END:DAYLIGHT
BEGIN:STANDARD
TZOFFSETFROM:-0400
TZOFFSETTO:-0500
TZNAME:EST
DTSTART:20251102T060000
END:STANDARD
END:VTIMEZONE
BEGIN:VEVENT
DTSTART;TZID=America/New_York:20250629T100000
DTEND;TZID=America/New_York:20250629T140000
DTSTAMP:20260422T185549
CREATED:20250106T172239Z
LAST-MODIFIED:20250106T172334Z
UID:10053584-1751191200-1751205600@diversionsgames.com
SUMMARY:Star Wars: Unlimited Weekly Play
DESCRIPTION:Join us for Star Wars Unlimited Weekly Play – a casual event to learn\, play\, and trade this new and growing TCG. Every Sunday from 10am to 2pm! Promos and prizes will be given out to attendees from the official Organized Play Weekly Kits.
URL:https://diversionsgames.com/event/star-wars-unlimited-weekly-play-2-2/2025-06-29/
CATEGORIES:South Portland
ATTACH;FMTTYPE=image/jpeg:https://diversionsgames.com/wp-content/uploads/2024/07/471613729_1154732943318978_7686291457270349196_n.jpg
END:VEVENT
BEGIN:VEVENT
DTSTART;TZID=America/New_York:20250629T110000
DTEND;TZID=America/New_York:20250629T170000
DTSTAMP:20260422T185549
CREATED:20250515T161737Z
LAST-MODIFIED:20250515T161737Z
UID:10054365-1751194800-1751216400@diversionsgames.com
SUMMARY:Disney Lorcana Chaos Draft
DESCRIPTION:Join us for a Lorcana Chaos Draft!\nEach player receives 5 booster packs – one from each set (Ursula’s Return\, Shimmering Skies\, Azurite Sea\, Archazia’s Island and Reign of Jafar). To draft\, open 1 pack and pick 1 card\, pass the rest to the left/right\, pick a second card\, and so on until all 5 packs have been opened and each player has 60 cards.\nThen\, you build your deck from the 60 cards you drafted (which are yours to keep) according to the following rules:-Minimum deck size 40 cards-You can use any number of ink colors-You can have more than 4 copies of a single card\nFinally\, we will play 4 rounds of Best of 2 games (40 min).\n\nCost is $40 and prizing includes booster packs and more*Space limited to 24 players. Reserve your space here: https://melee.gg/Tournament/View/308036\n\n*prizing dependent on number of attendees
URL:https://diversionsgames.com/event/disney-lorcana-chaos-draft/
CATEGORIES:Somersworth
ATTACH;FMTTYPE=image/jpeg:https://diversionsgames.com/wp-content/uploads/2025/05/497584480_710205141534019_2844348318772645945_n.jpg
END:VEVENT
BEGIN:VEVENT
DTSTART;TZID=America/New_York:20250630T170000
DTEND;TZID=America/New_York:20250630T210000
DTSTAMP:20260422T185549
CREATED:20250116T152005Z
LAST-MODIFIED:20250116T152006Z
UID:10053769-1751302800-1751317200@diversionsgames.com
SUMMARY:Dungeons & Dragons
DESCRIPTION:Come play Dungeons & Dragons with us every Monday night!\nNew and experienced players are welcome to join a group on the current adventure.  No sign-ups needed! Walk-ins are welcome to participate in this event. Grab a set of dice\, make a new character with the Dungeon Master and you are on your way!\n\n\nWhere can I park?-Free parking is available at the Masonic Temple Lot at the corner of Middle St & Miller St (5-minute walk)-Parking is available at the Foundry Garage for $1/hr (6-minute walk)-Parking is available directly behind the store in the Worth Lot for $2/hr for the first three hours\, and $5/hr each hour after.
URL:https://diversionsgames.com/event/dungeons-dragons-4/2025-06-30/
CATEGORIES:Portsmouth
ATTACH;FMTTYPE=image/jpeg:https://diversionsgames.com/wp-content/uploads/2025/01/473617200_1149978393799269_6831837848602846284_n.jpg
END:VEVENT
BEGIN:VEVENT
DTSTART;TZID=America/New_York:20250701T170000
DTEND;TZID=America/New_York:20250701T210000
DTSTAMP:20260422T185549
CREATED:20230106T175934Z
LAST-MODIFIED:20251205T193457Z
UID:10048978-1751389200-1751403600@diversionsgames.com
SUMMARY:Tuesday Open Game Night
DESCRIPTION:Join us every Tuesday evening for our weekly board game nights featuring light\, medium\, and heavy strategy games. Bring your favorites or try out some of our demos. (Games need to be family friendly). Stop in and play a game or two!
URL:https://diversionsgames.com/event/tuesday-open-game-night/2025-07-01/
CATEGORIES:South Portland
ATTACH;FMTTYPE=image/jpeg:https://diversionsgames.com/wp-content/uploads/2025/01/471522015_1154726389986300_5668769673982792138_n.jpg
END:VEVENT
BEGIN:VEVENT
DTSTART;TZID=America/New_York:20250701T170000
DTEND;TZID=America/New_York:20250701T210000
DTSTAMP:20260422T185549
CREATED:20250116T152118Z
LAST-MODIFIED:20250116T152322Z
UID:10053870-1751389200-1751403600@diversionsgames.com
SUMMARY:Weekly Game Night
DESCRIPTION:Join us every Tuesday for our weekly board game night featuring light\, medium\, and heavy strategy board games! Bring your favorites from home or try out some of our demos in-store. Bring a friend or show up solo\, all are welcome!\n\n\nOutside food is okay\, but please be respectful of other people’s games & belongings. No alcohol allowed.\n\n\nWhere can I park?-Free parking is available at the Masonic Temple Lot at the corner of Middle St & Miller St (5-minute walk)-Parking is available at the Foundry Garage for $1/hr (6-minute walk)-Parking is available directly behind the store in the Worth Lot for $2/hr for the first three hours\, and $5/hr each hour after.
URL:https://diversionsgames.com/event/weekly-game-night/2025-07-01/
CATEGORIES:Portsmouth
ATTACH;FMTTYPE=image/jpeg:https://diversionsgames.com/wp-content/uploads/2025/01/473616252_1149976813799427_7936656020506912706_n.jpg
END:VEVENT
BEGIN:VEVENT
DTSTART;TZID=America/New_York:20250701T170000
DTEND;TZID=America/New_York:20250701T210000
DTSTAMP:20260422T185549
CREATED:20250528T191327Z
LAST-MODIFIED:20250611T145554Z
UID:10054373-1751389200-1751403600@diversionsgames.com
SUMMARY:Disney Lorcana Weekly League: Reign of Jafar
DESCRIPTION:Lorcana League is every Tuesday\, 5:00-9:00pm. This league is running June 3rd through August 19th. Players can join the league at any time!\nLorcana League is a casual and free event.\n\nPrizes will be given out to 4 players at random each week from the following list:2x Lady – Decisive Dog\, Aladdin – Vigilant Guard\, & Patch – Playful Pup1x Captain Hook – The Pirate King Pin OR Into the Unknown Pin1x Vanellope von Schweetz – Spunky Speedster Storage Box\n\nAdditionally\, all attendees will be given a Pull the Lever! card on their first night of league play.\n\nIn addition to the above weekly prizing Diversions will also be offering a grand prize of 1 free booster box of the next set Disney Lorcana: Fabled to one lucky player. Each time you attend a weekly league night\, you’re name will be entered into a raffle for this sealed booster box on the last night of league 8/19/25!\nPlease check in with a Diversions associate when arriving for Lorcana League!
URL:https://diversionsgames.com/event/disney-lorcana-weekly-league-reign-of-jafar/2025-07-01/
CATEGORIES:South Portland
ATTACH;FMTTYPE=image/png:https://diversionsgames.com/wp-content/uploads/2025/05/RoJ-SoPo-Events.png
END:VEVENT
BEGIN:VEVENT
DTSTART;TZID=America/New_York:20250701T180000
DTEND;TZID=America/New_York:20250701T210000
DTSTAMP:20260422T185549
CREATED:20250513T134444Z
LAST-MODIFIED:20250826T204418Z
UID:10054347-1751392800-1751403600@diversionsgames.com
SUMMARY:Monthly Board Game Club at Hardshore Distilling
DESCRIPTION:Join us for our new monthly board game club at Hardshore Distilling!\n\nHow it Works:We’ll meet on the first Tuesday of every month\, where we’ll play a tournament of that month’s game with prizes provided by Diversions & Hardshore. Before the end of the night we’ll announce the next month’s club game and have copies available for sale at a discount to attendees. In between meetings folks will have the chance to learn and practice the game at home in preparation for the next month’s tournament and meeting!\n\nOur hosts at Hardshore have a full bar with cocktails\, mocktails\, wine\, and beer\, including $5 draft beers and gin & tonics on Tuesdays!\nSnacks and small bites will be available at the bar but food from any of the local restaurants is also welcome in!
URL:https://diversionsgames.com/event/monthly-board-game-club-at-hardshore-distilling-2/2025-07-01/
LOCATION:Hardshore Distilling\, 53 Washington Ave\, Portland\, ME\, United States
CATEGORIES:South Portland
ATTACH;FMTTYPE=image/jpeg:https://diversionsgames.com/wp-content/uploads/2025/05/495864472_1274858284639776_6525310134434752408_n.jpg
END:VEVENT
BEGIN:VEVENT
DTSTART;TZID=America/New_York:20250702T180000
DTEND;TZID=America/New_York:20250702T210000
DTSTAMP:20260422T185549
CREATED:20250528T191900Z
LAST-MODIFIED:20250918T151615Z
UID:10054386-1751479200-1751490000@diversionsgames.com
SUMMARY:Disney Lorcana Weekly Constructed Tournament (2-Game Format)
DESCRIPTION:Join us every Wednesday for a Disney: Lorcana Constructed Tournament in 2-Game Format! Tournaments start at 6:00pm each week.\n\n>>Registration & Check-In<<\nPlayers may sign-up on Melee.gg or in-store before the event. Registration is $5.99 per person\, payable in store.\n\n>>Format<<\nThe tournament will consist of 3 rounds in the 2-Game Format. Players will play 2 games per round. Each round is 45 minutes.\nPlayers must bring their own constructed deck to the event following official deckbuilding rules.\n\n>>Prizing<<\nPack prizing will be awarded to the top standing players each week. Promos will be distributed as outlined from each set’s official Organized Play Kit.
URL:https://diversionsgames.com/event/disney-lorcana-weekly-constructed-tournament-2-game-format/2025-07-02/
CATEGORIES:Portsmouth
ATTACH;FMTTYPE=image/png:https://diversionsgames.com/wp-content/uploads/2025/05/Wed-Lorcana-Weekly-1.png
END:VEVENT
BEGIN:VEVENT
DTSTART;TZID=America/New_York:20250703T170000
DTEND;TZID=America/New_York:20250703T210000
DTSTAMP:20260422T185549
CREATED:20250116T152221Z
LAST-MODIFIED:20250116T152357Z
UID:10053821-1751562000-1751576400@diversionsgames.com
SUMMARY:Star Wars: Unlimited Weekly Play
DESCRIPTION:Weekly Play involves simple\, open-ended\, weekly events that stores host for Star Wars: Unlimited. Weekly Play is constant and consistently run from the release of a new set onward—the whole point is for it to be available every week\, after all! Whether a Weekly Play event is a short tournament or a simple\, casual gathering is up to each individual store; all that matters is that participating stores have a night each week where you and your friends can stop in to play some Star Wars: Unlimited. This phase is supported by a special OP kit\, from which you can earn a unique promo pack each week that you participate in your store’s Weekly Play.\n\n\nWeekly Play at Diversions Puzzles & Games allows players to choose how they want to play Star Wars: Unlimited during the evening – casual constructed 1v1s\, Twin Suns\, or draft are all available for the store to run\, with player consensus!\n\n\nWhere can I park?-Free parking is available at the Masonic Temple Lot at the corner of Middle St & Miller St (5-minute walk)-Parking is available at the Foundry Garage for $1/hr (6-minute walk)-Parking is available directly behind the store in the Worth Lot for $2/hr for the first three hours\, and $5/hr each hour after.
URL:https://diversionsgames.com/event/star-wars-unlimited-weekly-play-7/2025-07-03/
CATEGORIES:Portsmouth
ATTACH;FMTTYPE=image/jpeg:https://diversionsgames.com/wp-content/uploads/2025/01/473620297_1149979753799133_6897703479610110789_n.jpg
END:VEVENT
BEGIN:VEVENT
DTSTART;TZID=America/New_York:20250703T180000
DTEND;TZID=America/New_York:20250703T210000
DTSTAMP:20260422T185549
CREATED:20250515T153932Z
LAST-MODIFIED:20250515T154127Z
UID:10054361-1751565600-1751576400@diversionsgames.com
SUMMARY:Disney Lorcana: Starter Deck League
DESCRIPTION:Reign of Jafar – League\, Play\, and Trade \nThursdays 6:00 PM – 9:00 PM\, June 12-July 10 \nJoin us for Reign of Jafar – League\, Play\, and Trade! This is the perfect opportunity to learn how to play Disney: Lorcana\, experience the new sets cards\, and improve your deck construction skills. Show up anytime before 6:00pm for constructed play\, and beginning at 6:00pm you can buy in for our Weekly Starter Deck League and begin opening packs and trading\, building\, and playing. \nCost: Initial entry cost is $29.99 and each player will receive one starter deck of their choice from Reign of Jafar\, one deck box\, and one additional booster pack\, all of which is yours to keep at the end of league. If you have a deck box from the previous league or want to bring your own\, the cost to enter will be $22.98 – one starter deck and one booster pack. \nEach week thereafter the entry fee is $11.98 and includes 2 booster packs to trade and build your deck with. \nOn the final week\, July 10th\, we will have a constructed tournament where the entry fee of $11.98 will include one pack for your deck\, and one pack for the prize pool. We will begin construction right at 6:00pm and our tournament will begin at 6:30pm\, 3-rounds\, 2-game format. \nHow it Works: Sign-ups are first come first serve until league is filled (30 players maximum) – call or sign-up in store.\nThe first week you will use your Starter Deck and pack to build a 60-card deck using all 6 colors. All other normal constructed rules apply. Each week\, you will get two additional packs to add on to your deck\, or you can trade for cards you need with other players\, and you will use one less color in your deck. \nWe will trade and build\, and then play with other league players to earn prizes. Your league deck and cards will be stored at Diversions in your deck box. At the end of league\, you will take home your decks\, cards\, deck boxes\, and some fun goodies! \nAdditional guidelines:\n-You are welcome to play constructed on league night to hone your tournament/championship decks.\n-Only cards received as part of league weekly entry boosters can be added to an Official League Deck. These can be cards you opened in your pack\, or cards you traded with another league member from their league pack.\n-Folks who wish to join late or who miss a week can catch up by back-paying weekly entry fees. \nLeague Rules:\n-No proxies are allowed in league games.\n-Cards from league packs may be traded with other players in-store. Selling or buying cards from players is prohibited for league decks.\n-Good sportsmanship is expected. This is a fun game!​\n-You must provide your email for your Melee account. If you do not have one\, you will need to create one to participate in the League and our final tournament.
URL:https://diversionsgames.com/event/disney-lorcana-starter-deck-league/2025-07-03/
CATEGORIES:Somersworth
ATTACH;FMTTYPE=image/jpeg:https://diversionsgames.com/wp-content/uploads/2025/05/Starter-Deck-League.jpg
END:VEVENT
BEGIN:VEVENT
DTSTART;TZID=America/New_York:20250704T170000
DTEND;TZID=America/New_York:20250704T210000
DTSTAMP:20260422T185549
CREATED:20250106T171817Z
LAST-MODIFIED:20251205T195921Z
UID:10053475-1751648400-1751662800@diversionsgames.com
SUMMARY:Board Game Night
DESCRIPTION:Join us every Friday evening for our weekly board game night featuring light\, medium\, and heavy strategy games. Bring your favorites or try out some of our demos. (Games need to be family friendly). Stop in and play a game or two!
URL:https://diversionsgames.com/event/secret-game-night-3/2025-07-04/
CATEGORIES:South Portland
ATTACH;FMTTYPE=image/jpeg:https://diversionsgames.com/wp-content/uploads/2025/01/471434003_1154720463320226_146561356160475220_n.jpg
END:VEVENT
BEGIN:VEVENT
DTSTART;TZID=America/New_York:20250704T170000
DTEND;TZID=America/New_York:20250704T210000
DTSTAMP:20260422T185549
CREATED:20250116T152536Z
LAST-MODIFIED:20250116T152536Z
UID:10053921-1751648400-1751662800@diversionsgames.com
SUMMARY:Magic: The Gathering - Commander
DESCRIPTION:Join us for an evening of Magic: the Gathering – Commander!\n\nThis event is free and open to all players\, new & seasoned alike. Players do need to bring their own Commander deck to play with at the event. Please call to see if we have any decks available to purchase.\nPlease check in for the event inside the store upon arrival!\n\nHere are the basic rules for Commander:\nYOUR DECK:*1 commander card (legendary creature)*99 other cards*Only one copy of any card\, except basic lands*All cards must be in the color identity of the commander\nTHE GAME:*2–6 players*Free-for-all multiplayer format*Start with 40 life*All commanders start in their command zone*Take turns in clockwise order*Last player standing wins\n\nMore info about Commander:https://mtgcommander.net/ind…/the-philosophy-of-commander/\n\n\nWhere can I park?-Free parking is available at the Masonic Temple Lot at the corner of Middle St & Miller St (5-minute walk)-Parking is available at the Foundry Garage for $1/hr (6-minute walk)-Parking is available directly behind the store in the Worth Lot for $2/hr for the first three hours\, and $5/hr each hour after.
URL:https://diversionsgames.com/event/magic-the-gathering-commander-2/2025-07-04/
CATEGORIES:Portsmouth
ATTACH;FMTTYPE=image/jpeg:https://diversionsgames.com/wp-content/uploads/2025/01/473622299_1149982480465527_4491078968270362250_n.jpg
END:VEVENT
BEGIN:VEVENT
DTSTART;TZID=America/New_York:20250705T100000
DTEND;TZID=America/New_York:20250705T180000
DTSTAMP:20260422T185549
CREATED:20240701T184600Z
LAST-MODIFIED:20240701T191429Z
UID:10049942-1751709600-1751738400@diversionsgames.com
SUMMARY:Saturday Board Games
DESCRIPTION:Saturdays are for board games! We invite you to stop in for light\, medium\, and heavy strategy games! Bring your favorites or try out some of our demos. There is plenty of free parking and quick-serve food options nearby.
URL:https://diversionsgames.com/event/saturday-board-games-2-2-2/2025-07-05/
CATEGORIES:Somersworth
ATTACH;FMTTYPE=image/png:https://diversionsgames.com/wp-content/uploads/2023/09/Wingspan.-Photo-from-Stonemaier-Games.png
END:VEVENT
BEGIN:VEVENT
DTSTART;TZID=America/New_York:20250705T110000
DTEND;TZID=America/New_York:20250705T150000
DTSTAMP:20260422T185549
CREATED:20250529T193748Z
LAST-MODIFIED:20250529T193748Z
UID:10054413-1751713200-1751727600@diversionsgames.com
SUMMARY:Star Wars: Unlimited - Legends of the Force Prerelease
DESCRIPTION:Join us for our Star Wars: Unlimited Prerelease event for the new set\, Legends of the Force! This event will be held on two dates: July 5 @ 11:00AM and July 10 @ 5:00PM\n\n>>Registration & Check-In<<\nRegistration for this event is walk-in only on the day of the event. Arrive before the start-time to check-in. The cost of entry is $29.99. You will receive your Prerelease Kit (includes six booster packs) upon check-in for the event.\n\n\n>>Format<<\nThis is a Sealed Play event. There will be one round of deckbuilding with your prerelease kit and three rounds of Swiss-tournament play.\n\nWhat is Sealed Play?\nThe format of Prerelease events\, sealed play combines the limited card pool aspect of draft play with the more open-ended deckbuilding approach of constructed play. Like draft play\, everyone starts the event off on equal footing\, and like constructed play\, this format gives you the opportunity to let your deckbuilding skills shine.\n\nAt the beginning of a sealed play event\, you open six booster packs. You must use the cards within those packs to build a deck. Just like in draft play\, your minimum draw deck size is 30 cards\, and you can include any number of copies of a card as you want (so long as they were all acquired within those six booster packs). Also like with draft\, you can use any common base you want\, regardless of what was in your packs. However\, if you want to use a rare base\, it must have been one of the cards from those six packs.\n\nFor leader cards\, you typically will only be able to use the ones from your packs\, just like with everything else. However\, for prerelease events in which you utilize a Prerelease Box\, the promo leader cards that come in that box are also available as options for your sealed deck.\n\nLike with draft\, you can change up the contents of your sealed play deck in between rounds as much as you like\, so long as you only utilize the cards that were in your six booster packs.\n\nThere you have it. Sealed play is fantastic for testing your deckbuilding skills while also growing your collection. And since prerelease events for each set feature this format\, you’ll have plenty of opportunities to try out sealed play for yourself each time a new set comes along!\n\n>>Prizing<<\nAn equal number of booster packs and promo cards will be distributed to all players at the end of the event.\n\n\nPlease contact the store if you have any questions!\n\n\nWhere can I park?\n-Free parking is available at the Masonic Temple Lot at the corner of Middle St & Miller St (5-minute walk)\n-Parking is available at the Foundry Garage for $1/hr (6-minute walk)\n-Parking is available directly behind the store in the Worth Lot for $2/hr for the first three hours\, and $5/hr each hour after.
URL:https://diversionsgames.com/event/star-wars-unlimited-legends-of-the-force-prerelease/2025-07-05/
CATEGORIES:Portsmouth
ATTACH;FMTTYPE=image/jpeg:https://diversionsgames.com/wp-content/uploads/2025/05/501290074_1269676498496124_5224348192606271209_n.jpg
END:VEVENT
BEGIN:VEVENT
DTSTART;TZID=America/New_York:20250705T120000
DTEND;TZID=America/New_York:20250705T140000
DTSTAMP:20260422T185549
CREATED:20250701T163301Z
LAST-MODIFIED:20250702T195156Z
UID:10054421-1751716800-1751724000@diversionsgames.com
SUMMARY:Cookie Run TCG: Learn-to-Play Launch Event
DESCRIPTION:12:00pm – 2:00pm\nCost: $20 \nMax 10 participants. Register here: https://shorturl.at/WNUDx \nBe among the first to experience the Cookie Run: Braverse Trading Card Game at our Learn to Play Starter Deck Event! \nParticipants will receive 1 random starter deck (out of 5 types) plus 3x CookieRun Braverse booster packs to modify the starter deck. Includes sleeves! Plus get additional booster packs and promo cards just for participating. \nBeginner-friendly event!
URL:https://diversionsgames.com/event/cookie-run-tcg-learn-to-play-launch-event/
CATEGORIES:Somersworth
ATTACH;FMTTYPE=image/png:https://diversionsgames.com/wp-content/uploads/2025/07/Cookie-Run-Launch-1.png
END:VEVENT
BEGIN:VEVENT
DTSTART;TZID=America/New_York:20250705T133000
DTEND;TZID=America/New_York:20250705T170000
DTSTAMP:20260422T185549
CREATED:20240325T152911Z
LAST-MODIFIED:20251030T184431Z
UID:10049830-1751722200-1751734800@diversionsgames.com
SUMMARY:D&D Open Play One Shots
DESCRIPTION:Join us on the first and third Saturday of each month for a D&D One Shot. These sessions are perfect for beginning players looking to try out D&D for the first time\, or veterans of the Forgotten Realms seeking new friends and adventuring parties to join. Sessions are $5 per person and include pre-made characters and an experienced DM to lead you on your journey. Space is limited to 7 players per session to facilitate the best experience possible\, pre-registration is available via the Eventbrite link here\, all payments will be taken the day of the event at Diversions Puzzles & Games South Portland.
URL:https://diversionsgames.com/event/dd-open-play-one-shots/2025-07-05/
CATEGORIES:South Portland
ATTACH;FMTTYPE=image/jpeg:https://diversionsgames.com/wp-content/uploads/2024/03/434127862_940437488081859_4930225772855893868_n.jpg
END:VEVENT
BEGIN:VEVENT
DTSTART;TZID=America/New_York:20250705T160000
DTEND;TZID=America/New_York:20250705T233000
DTSTAMP:20260422T185549
CREATED:20250203T155943Z
LAST-MODIFIED:20260101T032654Z
UID:10054032-1751731200-1751758200@diversionsgames.com
SUMMARY:Late Night Gaming
DESCRIPTION:The first Saturday of each month is late night gaming at Diversions Puzzles & Games! Show up for an evening of open board gaming. Bring your own games or choose games from our library of strategy and family games. Everyone is welcome! Outside food is okay but please be respectful of other people’s games and belongings.\n\nWhere can I park?-Free parking is available at the Masonic Temple Lot at the corner of Middle St & Miller St (5-minute walk)-Parking is available at the Foundry Garage for $1/hr (6-minute walk)-Parking is available directly behind the store in the Worth Lot for $2/hr for the first three hours\, and $5/hr each hour after
URL:https://diversionsgames.com/event/late-night-gaming-17/2025-07-05/
CATEGORIES:Portsmouth
ATTACH;FMTTYPE=image/jpeg:https://diversionsgames.com/wp-content/uploads/2025/02/475429960_1163575849106190_6299712794172342002_n.jpg
END:VEVENT
END:VCALENDAR