BEGIN:VCALENDAR
VERSION:2.0
PRODID:-//Diversions Puzzles &amp; Games - ECPv6.14.0//NONSGML v1.0//EN
CALSCALE:GREGORIAN
METHOD:PUBLISH
X-WR-CALNAME:Diversions Puzzles &amp; Games
X-ORIGINAL-URL:https://diversionsgames.com
X-WR-CALDESC:Events for Diversions Puzzles &amp; Games
REFRESH-INTERVAL;VALUE=DURATION:PT1H
X-Robots-Tag:noindex
X-PUBLISHED-TTL:PT1H
BEGIN:VTIMEZONE
TZID:America/New_York
BEGIN:DAYLIGHT
TZOFFSETFROM:-0500
TZOFFSETTO:-0400
TZNAME:EDT
DTSTART:20250309T070000
END:DAYLIGHT
BEGIN:STANDARD
TZOFFSETFROM:-0400
TZOFFSETTO:-0500
TZNAME:EST
DTSTART:20251102T060000
END:STANDARD
END:VTIMEZONE
BEGIN:VEVENT
DTSTART;TZID=America/New_York:20250713T100000
DTEND;TZID=America/New_York:20250713T140000
DTSTAMP:20260423T031439
CREATED:20250106T172239Z
LAST-MODIFIED:20250106T172334Z
UID:10053586-1752400800-1752415200@diversionsgames.com
SUMMARY:Star Wars: Unlimited Weekly Play
DESCRIPTION:Join us for Star Wars Unlimited Weekly Play – a casual event to learn\, play\, and trade this new and growing TCG. Every Sunday from 10am to 2pm! Promos and prizes will be given out to attendees from the official Organized Play Weekly Kits.
URL:https://diversionsgames.com/event/star-wars-unlimited-weekly-play-2-2/2025-07-13/
CATEGORIES:South Portland
ATTACH;FMTTYPE=image/jpeg:https://diversionsgames.com/wp-content/uploads/2024/07/471613729_1154732943318978_7686291457270349196_n.jpg
END:VEVENT
BEGIN:VEVENT
DTSTART;TZID=America/New_York:20250714T170000
DTEND;TZID=America/New_York:20250714T210000
DTSTAMP:20260423T031439
CREATED:20250116T152005Z
LAST-MODIFIED:20250116T152006Z
UID:10053771-1752512400-1752526800@diversionsgames.com
SUMMARY:Dungeons & Dragons
DESCRIPTION:Come play Dungeons & Dragons with us every Monday night!\nNew and experienced players are welcome to join a group on the current adventure.  No sign-ups needed! Walk-ins are welcome to participate in this event. Grab a set of dice\, make a new character with the Dungeon Master and you are on your way!\n\n\nWhere can I park?-Free parking is available at the Masonic Temple Lot at the corner of Middle St & Miller St (5-minute walk)-Parking is available at the Foundry Garage for $1/hr (6-minute walk)-Parking is available directly behind the store in the Worth Lot for $2/hr for the first three hours\, and $5/hr each hour after.
URL:https://diversionsgames.com/event/dungeons-dragons-4/2025-07-14/
CATEGORIES:Portsmouth
ATTACH;FMTTYPE=image/jpeg:https://diversionsgames.com/wp-content/uploads/2025/01/473617200_1149978393799269_6831837848602846284_n.jpg
END:VEVENT
BEGIN:VEVENT
DTSTART;TZID=America/New_York:20250715T170000
DTEND;TZID=America/New_York:20250715T210000
DTSTAMP:20260423T031439
CREATED:20230106T175934Z
LAST-MODIFIED:20251205T193457Z
UID:10048980-1752598800-1752613200@diversionsgames.com
SUMMARY:Tuesday Open Game Night
DESCRIPTION:Join us every Tuesday evening for our weekly board game nights featuring light\, medium\, and heavy strategy games. Bring your favorites or try out some of our demos. (Games need to be family friendly). Stop in and play a game or two!
URL:https://diversionsgames.com/event/tuesday-open-game-night/2025-07-15/
CATEGORIES:South Portland
ATTACH;FMTTYPE=image/jpeg:https://diversionsgames.com/wp-content/uploads/2025/01/471522015_1154726389986300_5668769673982792138_n.jpg
END:VEVENT
BEGIN:VEVENT
DTSTART;TZID=America/New_York:20250715T170000
DTEND;TZID=America/New_York:20250715T210000
DTSTAMP:20260423T031439
CREATED:20250116T152118Z
LAST-MODIFIED:20250116T152322Z
UID:10053872-1752598800-1752613200@diversionsgames.com
SUMMARY:Weekly Game Night
DESCRIPTION:Join us every Tuesday for our weekly board game night featuring light\, medium\, and heavy strategy board games! Bring your favorites from home or try out some of our demos in-store. Bring a friend or show up solo\, all are welcome!\n\n\nOutside food is okay\, but please be respectful of other people’s games & belongings. No alcohol allowed.\n\n\nWhere can I park?-Free parking is available at the Masonic Temple Lot at the corner of Middle St & Miller St (5-minute walk)-Parking is available at the Foundry Garage for $1/hr (6-minute walk)-Parking is available directly behind the store in the Worth Lot for $2/hr for the first three hours\, and $5/hr each hour after.
URL:https://diversionsgames.com/event/weekly-game-night/2025-07-15/
CATEGORIES:Portsmouth
ATTACH;FMTTYPE=image/jpeg:https://diversionsgames.com/wp-content/uploads/2025/01/473616252_1149976813799427_7936656020506912706_n.jpg
END:VEVENT
BEGIN:VEVENT
DTSTART;TZID=America/New_York:20250715T170000
DTEND;TZID=America/New_York:20250715T210000
DTSTAMP:20260423T031439
CREATED:20250528T191327Z
LAST-MODIFIED:20250611T145554Z
UID:10054375-1752598800-1752613200@diversionsgames.com
SUMMARY:Disney Lorcana Weekly League: Reign of Jafar
DESCRIPTION:Lorcana League is every Tuesday\, 5:00-9:00pm. This league is running June 3rd through August 19th. Players can join the league at any time!\nLorcana League is a casual and free event.\n\nPrizes will be given out to 4 players at random each week from the following list:2x Lady – Decisive Dog\, Aladdin – Vigilant Guard\, & Patch – Playful Pup1x Captain Hook – The Pirate King Pin OR Into the Unknown Pin1x Vanellope von Schweetz – Spunky Speedster Storage Box\n\nAdditionally\, all attendees will be given a Pull the Lever! card on their first night of league play.\n\nIn addition to the above weekly prizing Diversions will also be offering a grand prize of 1 free booster box of the next set Disney Lorcana: Fabled to one lucky player. Each time you attend a weekly league night\, you’re name will be entered into a raffle for this sealed booster box on the last night of league 8/19/25!\nPlease check in with a Diversions associate when arriving for Lorcana League!
URL:https://diversionsgames.com/event/disney-lorcana-weekly-league-reign-of-jafar/2025-07-15/
CATEGORIES:South Portland
ATTACH;FMTTYPE=image/png:https://diversionsgames.com/wp-content/uploads/2025/05/RoJ-SoPo-Events.png
END:VEVENT
BEGIN:VEVENT
DTSTART;TZID=America/New_York:20250716T180000
DTEND;TZID=America/New_York:20250716T210000
DTSTAMP:20260423T031439
CREATED:20250528T191900Z
LAST-MODIFIED:20250918T151615Z
UID:10054388-1752688800-1752699600@diversionsgames.com
SUMMARY:Disney Lorcana Weekly Constructed Tournament (2-Game Format)
DESCRIPTION:Join us every Wednesday for a Disney: Lorcana Constructed Tournament in 2-Game Format! Tournaments start at 6:00pm each week.\n\n>>Registration & Check-In<<\nPlayers may sign-up on Melee.gg or in-store before the event. Registration is $5.99 per person\, payable in store.\n\n>>Format<<\nThe tournament will consist of 3 rounds in the 2-Game Format. Players will play 2 games per round. Each round is 45 minutes.\nPlayers must bring their own constructed deck to the event following official deckbuilding rules.\n\n>>Prizing<<\nPack prizing will be awarded to the top standing players each week. Promos will be distributed as outlined from each set’s official Organized Play Kit.
URL:https://diversionsgames.com/event/disney-lorcana-weekly-constructed-tournament-2-game-format/2025-07-16/
CATEGORIES:Portsmouth
ATTACH;FMTTYPE=image/png:https://diversionsgames.com/wp-content/uploads/2025/05/Wed-Lorcana-Weekly-1.png
END:VEVENT
BEGIN:VEVENT
DTSTART;TZID=America/New_York:20250717T170000
DTEND;TZID=America/New_York:20250717T210000
DTSTAMP:20260423T031439
CREATED:20250116T152221Z
LAST-MODIFIED:20250116T152357Z
UID:10053823-1752771600-1752786000@diversionsgames.com
SUMMARY:Star Wars: Unlimited Weekly Play
DESCRIPTION:Weekly Play involves simple\, open-ended\, weekly events that stores host for Star Wars: Unlimited. Weekly Play is constant and consistently run from the release of a new set onward—the whole point is for it to be available every week\, after all! Whether a Weekly Play event is a short tournament or a simple\, casual gathering is up to each individual store; all that matters is that participating stores have a night each week where you and your friends can stop in to play some Star Wars: Unlimited. This phase is supported by a special OP kit\, from which you can earn a unique promo pack each week that you participate in your store’s Weekly Play.\n\n\nWeekly Play at Diversions Puzzles & Games allows players to choose how they want to play Star Wars: Unlimited during the evening – casual constructed 1v1s\, Twin Suns\, or draft are all available for the store to run\, with player consensus!\n\n\nWhere can I park?-Free parking is available at the Masonic Temple Lot at the corner of Middle St & Miller St (5-minute walk)-Parking is available at the Foundry Garage for $1/hr (6-minute walk)-Parking is available directly behind the store in the Worth Lot for $2/hr for the first three hours\, and $5/hr each hour after.
URL:https://diversionsgames.com/event/star-wars-unlimited-weekly-play-7/2025-07-17/
CATEGORIES:Portsmouth
ATTACH;FMTTYPE=image/jpeg:https://diversionsgames.com/wp-content/uploads/2025/01/473620297_1149979753799133_6897703479610110789_n.jpg
END:VEVENT
BEGIN:VEVENT
DTSTART;TZID=America/New_York:20250717T180000
DTEND;TZID=America/New_York:20250717T210000
DTSTAMP:20260423T031439
CREATED:20250701T164727Z
LAST-MODIFIED:20250701T164727Z
UID:10054427-1752775200-1752786000@diversionsgames.com
SUMMARY:Disney Lorcana: Pack-Per-Win Tournament
DESCRIPTION:Pack per win tournament. 3 rounds Bo3 starting at 6:00pm\nCost: $11.98\n\nJuly 17 https://tcg.ravensburgerplay.com/events/160179July 24 https://tcg.ravensburgerplay.com/events/160182
URL:https://diversionsgames.com/event/disney-lorcana-pack-per-win-tournament/2025-07-17/
CATEGORIES:Somersworth
ATTACH;FMTTYPE=image/png:https://diversionsgames.com/wp-content/uploads/2025/07/PPW-Tournaments-Lorcana.png
END:VEVENT
BEGIN:VEVENT
DTSTART;TZID=America/New_York:20250718T170000
DTEND;TZID=America/New_York:20250718T210000
DTSTAMP:20260423T031439
CREATED:20250106T171817Z
LAST-MODIFIED:20251205T195921Z
UID:10053477-1752858000-1752872400@diversionsgames.com
SUMMARY:Board Game Night
DESCRIPTION:Join us every Friday evening for our weekly board game night featuring light\, medium\, and heavy strategy games. Bring your favorites or try out some of our demos. (Games need to be family friendly). Stop in and play a game or two!
URL:https://diversionsgames.com/event/secret-game-night-3/2025-07-18/
CATEGORIES:South Portland
ATTACH;FMTTYPE=image/jpeg:https://diversionsgames.com/wp-content/uploads/2025/01/471434003_1154720463320226_146561356160475220_n.jpg
END:VEVENT
BEGIN:VEVENT
DTSTART;TZID=America/New_York:20250718T170000
DTEND;TZID=America/New_York:20250718T210000
DTSTAMP:20260423T031439
CREATED:20250116T152536Z
LAST-MODIFIED:20250116T152536Z
UID:10053923-1752858000-1752872400@diversionsgames.com
SUMMARY:Magic: The Gathering - Commander
DESCRIPTION:Join us for an evening of Magic: the Gathering – Commander!\n\nThis event is free and open to all players\, new & seasoned alike. Players do need to bring their own Commander deck to play with at the event. Please call to see if we have any decks available to purchase.\nPlease check in for the event inside the store upon arrival!\n\nHere are the basic rules for Commander:\nYOUR DECK:*1 commander card (legendary creature)*99 other cards*Only one copy of any card\, except basic lands*All cards must be in the color identity of the commander\nTHE GAME:*2–6 players*Free-for-all multiplayer format*Start with 40 life*All commanders start in their command zone*Take turns in clockwise order*Last player standing wins\n\nMore info about Commander:https://mtgcommander.net/ind…/the-philosophy-of-commander/\n\n\nWhere can I park?-Free parking is available at the Masonic Temple Lot at the corner of Middle St & Miller St (5-minute walk)-Parking is available at the Foundry Garage for $1/hr (6-minute walk)-Parking is available directly behind the store in the Worth Lot for $2/hr for the first three hours\, and $5/hr each hour after.
URL:https://diversionsgames.com/event/magic-the-gathering-commander-2/2025-07-18/
CATEGORIES:Portsmouth
ATTACH;FMTTYPE=image/jpeg:https://diversionsgames.com/wp-content/uploads/2025/01/473622299_1149982480465527_4491078968270362250_n.jpg
END:VEVENT
BEGIN:VEVENT
DTSTART;TZID=America/New_York:20250719T100000
DTEND;TZID=America/New_York:20250719T180000
DTSTAMP:20260423T031439
CREATED:20240701T184600Z
LAST-MODIFIED:20240701T191429Z
UID:10049943-1752919200-1752948000@diversionsgames.com
SUMMARY:Saturday Board Games
DESCRIPTION:Saturdays are for board games! We invite you to stop in for light\, medium\, and heavy strategy games! Bring your favorites or try out some of our demos. There is plenty of free parking and quick-serve food options nearby.
URL:https://diversionsgames.com/event/saturday-board-games-2-2-2/2025-07-19/
CATEGORIES:Somersworth
ATTACH;FMTTYPE=image/png:https://diversionsgames.com/wp-content/uploads/2023/09/Wingspan.-Photo-from-Stonemaier-Games.png
END:VEVENT
BEGIN:VEVENT
DTSTART;TZID=America/New_York:20250719T110000
DTEND;TZID=America/New_York:20250719T160000
DTSTAMP:20260423T031439
CREATED:20250701T171607Z
LAST-MODIFIED:20250701T171632Z
UID:10054432-1752922800-1752940800@diversionsgames.com
SUMMARY:Star Wars: Unlimited - Win-a-Box Constructed
DESCRIPTION:Become a legend and join us for the Star Wars: Unlimited TCG Win-a-Box Tournament\, where the force will guide your deck-building and strategy skills as you compete for a chance to win a Star Wars: Legends of the Force booster box*! \nThis tournament is the perfect opportunity for Star Wars: Unlimited fans to show off their best decks and take on other players in an exciting\, competitive environment. Whether you’re a Jedi Master or a Sith Lord\, this event promises high-stakes action and incredible prizes. \nDate & Time: Saturday\, July at 11:00am – Doors open at 10:00 am\nLocation: Diversions Somersworth\, 160 Tri City Plaza\nEntry Fee: $15.00\nRegistration: https://melee.gg/Tournament/View/333642\nWhat to Expect:\n-Tournament Format: Best of 3\n-Grand Prize: The winner of the tournament will take home a Star Wars Unlimited Legends of the Force booster box—packed with rare and powerful cards to elevate your collection.*\n*10 Players required for full Box Prizing\n-Additional Prizes: Special prizes and promos will be awarded based on attendance \n 
URL:https://diversionsgames.com/event/star-wars-unlimited-win-a-box-constructed/
CATEGORIES:Somersworth
ATTACH;FMTTYPE=image/jpeg:https://diversionsgames.com/wp-content/uploads/2025/07/514315633_744675304753669_6187814767985498856_n.jpg
END:VEVENT
BEGIN:VEVENT
DTSTART;TZID=America/New_York:20250719T133000
DTEND;TZID=America/New_York:20250719T170000
DTSTAMP:20260423T031439
CREATED:20240325T153543Z
LAST-MODIFIED:20251030T184406Z
UID:10049867-1752931800-1752944400@diversionsgames.com
SUMMARY:D&D Open Play One Shots
DESCRIPTION:Join us on the first and third Saturday of each month for a D&D One Shot. These sessions are perfect for beginning players looking to try out D&D for the first time\, or veterans of the Forgotten Realms seeking new friends and adventuring parties to join. Sessions are $5 per person and include pre-made characters and an experienced DM to lead you on your journey. Space is limited to 7 players per session to facilitate the best experience possible\, pre-registration is available via the Eventbrite link here\, all payments will be taken the day of the event at Diversions Puzzles & Games South Portland.
URL:https://diversionsgames.com/event/dd-open-play-one-shots-2/2025-07-19/
CATEGORIES:South Portland
ATTACH;FMTTYPE=image/jpeg:https://diversionsgames.com/wp-content/uploads/2024/03/434127862_940437488081859_4930225772855893868_n.jpg
END:VEVENT
END:VCALENDAR