BEGIN:VCALENDAR
VERSION:2.0
PRODID:-//Diversions Puzzles &amp; Games - ECPv6.14.0//NONSGML v1.0//EN
CALSCALE:GREGORIAN
METHOD:PUBLISH
X-WR-CALNAME:Diversions Puzzles &amp; Games
X-ORIGINAL-URL:https://diversionsgames.com
X-WR-CALDESC:Events for Diversions Puzzles &amp; Games
REFRESH-INTERVAL;VALUE=DURATION:PT1H
X-Robots-Tag:noindex
X-PUBLISHED-TTL:PT1H
BEGIN:VTIMEZONE
TZID:America/New_York
BEGIN:DAYLIGHT
TZOFFSETFROM:-0500
TZOFFSETTO:-0400
TZNAME:EDT
DTSTART:20270314T070000
END:DAYLIGHT
BEGIN:STANDARD
TZOFFSETFROM:-0400
TZOFFSETTO:-0500
TZNAME:EST
DTSTART:20271107T060000
END:STANDARD
END:VTIMEZONE
BEGIN:VEVENT
DTSTART;TZID=America/New_York:20270212T170000
DTEND;TZID=America/New_York:20270212T210000
DTSTAMP:20260421T063524
CREATED:20260101T032536Z
LAST-MODIFIED:20260101T032536Z
UID:10055241-1802451600-1802466000@diversionsgames.com
SUMMARY:Magic: the Gathering - Commander
DESCRIPTION:Join us for an evening of Magic: the Gathering – Commander!\n\nThis event is free and open to all players\, new & seasoned alike. Players do need to bring their own Commander deck to play with at the event. Please call to see if we have any decks available to purchase.\nPlease check in for the event inside the store upon arrival!\n\n\nHere are the basic rules for Commander:\nYOUR DECK:*1 commander card (legendary creature)*99 other cards*Only one copy of any card\, except basic lands*All cards must be in the color identity of the commanderTHE GAME:*2–6 players*Free-for-all multiplayer format*Start with 40 life*All commanders start in their command zone*Take turns in clockwise order*Last player standing wins\nMore info about Commander:https://mtgcommander.net/ind…/the-philosophy-of-commander/\n\n\nWhere can I park?-Free parking is available at the Masonic Temple Lot at the corner of Middle St & Miller St (5-minute walk)-Parking is available at the Foundry Garage for $1/hr (6-minute walk)-Parking is available directly behind the store in the Worth Lot for $2/hr for the first three hours\, and $5/hr each hour after.
URL:https://diversionsgames.com/event/magic-the-gathering-commander-3/2027-02-12/
CATEGORIES:Portsmouth
ATTACH;FMTTYPE=image/jpeg:https://diversionsgames.com/wp-content/uploads/2025/12/608200274_1465449062252199_8758655337727268120_n.jpg
END:VEVENT
BEGIN:VEVENT
DTSTART;TZID=America/New_York:20270213T101500
DTEND;TZID=America/New_York:20270213T131500
DTSTAMP:20260421T063524
CREATED:20260223T164155Z
LAST-MODIFIED:20260223T164235Z
UID:10055490-1802513700-1802524500@diversionsgames.com
SUMMARY:Dungeons & Dragons Monthly Session (Campaign)
DESCRIPTION:*PLEASE NOTE NEW TIMES*\nJoin us for a monthly D&D session! This is a 3-hour session for all experience levels. Please bring your own dice and pencil; the DM will have pre-generated characters\, or you can bring your own character (level can be adjusted based on the session).\nThe session fee is $5.00 per person.\n\n10:15 Session is full going forward until the end of the current campaign\n2:00 Slots are open for players new to D&D.\n\n***Sign ups are encouraged due to space limitations and interest. Please call\, email\, or chat the store on Facebook Messenger to reserve your spot***
URL:https://diversionsgames.com/event/dungeons-dragons-one-shot-session-2022-10-08-3-2-2-2/2027-02-13/
CATEGORIES:Somersworth
ATTACH;FMTTYPE=image/png:https://diversionsgames.com/wp-content/uploads/2023/10/DD-1.png
END:VEVENT
END:VCALENDAR