BEGIN:VCALENDAR
VERSION:2.0
PRODID:-//Diversions Puzzles &amp; Games - ECPv6.14.0//NONSGML v1.0//EN
CALSCALE:GREGORIAN
METHOD:PUBLISH
X-ORIGINAL-URL:https://diversionsgames.com
X-WR-CALDESC:Events for Diversions Puzzles &amp; Games
REFRESH-INTERVAL;VALUE=DURATION:PT1H
X-Robots-Tag:noindex
X-PUBLISHED-TTL:PT1H
BEGIN:VTIMEZONE
TZID:America/New_York
BEGIN:DAYLIGHT
TZOFFSETFROM:-0500
TZOFFSETTO:-0400
TZNAME:EDT
DTSTART:20200308T070000
END:DAYLIGHT
BEGIN:STANDARD
TZOFFSETFROM:-0400
TZOFFSETTO:-0500
TZNAME:EST
DTSTART:20201101T060000
END:STANDARD
END:VTIMEZONE
BEGIN:VEVENT
DTSTART;TZID=America/New_York:20200330T180000
DTEND;TZID=America/New_York:20200330T200000
DTSTAMP:20260420T110256
CREATED:20200128T205001Z
LAST-MODIFIED:20200313T193737Z
UID:10046116-1585591200-1585598400@diversionsgames.com
SUMMARY:(CANCELLED)News & Brews Trivia with Maine Public
DESCRIPTION:Are you paying attention? Are your friends? Think you’ve got all the answers? That’s what we’ll find out this Winter! \nOver consecutive weeks starting from January 29 to March 30\, Maine Public will take to some of Maine’s best brew pubs and test you on current events\, news items\, and all around things you probably should know! \nTeams of no more than six persons each assemble\, but you can play with fewer\, or come alone and find a team to join. Maine Public staff will host each game\, reading out questions around public broadcasting-centric categories (All Things Considered\, Find Your Hidden Brain\, Marketplace Musings\, I See Your Ten and Raise You!\, and more!). \nWinning teams get bragging rights\, gift certificates\, custom Maine Public mason jars\, and sometimes additional prizes\, depending on the venue. Come to just one or show up to all of our News & Brews Trivia Nights. \nShow us what you know!
URL:https://diversionsgames.com/event/news-brews-trivia-with-maine-public-3-2-2-2-2/
LOCATION:Shipyard Brewing\, 86 Newbury St\, Portland\, ME\, United States
CATEGORIES:South Portland
ATTACH;FMTTYPE=image/jpeg:https://diversionsgames.com/wp-content/uploads/2020/01/500_News_And_Brews_Logo.jpg
END:VEVENT
END:VCALENDAR