BEGIN:VCALENDAR
VERSION:2.0
PRODID:-//Diversions Puzzles &amp; Games - ECPv6.14.0//NONSGML v1.0//EN
CALSCALE:GREGORIAN
METHOD:PUBLISH
X-ORIGINAL-URL:https://diversionsgames.com
X-WR-CALDESC:Events for Diversions Puzzles &amp; Games
REFRESH-INTERVAL;VALUE=DURATION:PT1H
X-Robots-Tag:noindex
X-PUBLISHED-TTL:PT1H
BEGIN:VTIMEZONE
TZID:America/New_York
BEGIN:DAYLIGHT
TZOFFSETFROM:-0500
TZOFFSETTO:-0400
TZNAME:EDT
DTSTART:20200308T070000
END:DAYLIGHT
BEGIN:STANDARD
TZOFFSETFROM:-0400
TZOFFSETTO:-0500
TZNAME:EST
DTSTART:20201101T060000
END:STANDARD
BEGIN:DAYLIGHT
TZOFFSETFROM:-0500
TZOFFSETTO:-0400
TZNAME:EDT
DTSTART:20210314T070000
END:DAYLIGHT
BEGIN:STANDARD
TZOFFSETFROM:-0400
TZOFFSETTO:-0500
TZNAME:EST
DTSTART:20211107T060000
END:STANDARD
BEGIN:DAYLIGHT
TZOFFSETFROM:-0500
TZOFFSETTO:-0400
TZNAME:EDT
DTSTART:20220313T070000
END:DAYLIGHT
BEGIN:STANDARD
TZOFFSETFROM:-0400
TZOFFSETTO:-0500
TZNAME:EST
DTSTART:20221106T060000
END:STANDARD
BEGIN:DAYLIGHT
TZOFFSETFROM:-0500
TZOFFSETTO:-0400
TZNAME:EDT
DTSTART:20230312T070000
END:DAYLIGHT
BEGIN:STANDARD
TZOFFSETFROM:-0400
TZOFFSETTO:-0500
TZNAME:EST
DTSTART:20231105T060000
END:STANDARD
BEGIN:DAYLIGHT
TZOFFSETFROM:-0500
TZOFFSETTO:-0400
TZNAME:EDT
DTSTART:20240310T070000
END:DAYLIGHT
BEGIN:STANDARD
TZOFFSETFROM:-0400
TZOFFSETTO:-0500
TZNAME:EST
DTSTART:20241103T060000
END:STANDARD
END:VTIMEZONE
BEGIN:VEVENT
DTSTART;TZID=America/New_York:20240630T130000
DTEND;TZID=America/New_York:20240630T150000
DTSTAMP:20260424T013910
CREATED:20240424T185653Z
LAST-MODIFIED:20240502T115009Z
UID:10050147-1719752400-1719759600@diversionsgames.com
SUMMARY:Youth Board Game Day
DESCRIPTION:Join us at the South Portland Public Library’s branch location for an afternoon of gaming fun! With demo games for kids and teens of all ages\, we’ll have something for everyone. A member of the Diversions team will also be on hand to teach and lead folks through any new games they are looking to try out. We hope to see you there!
URL:https://diversionsgames.com/event/youth-board-game-day/
LOCATION:South Portland Public Library\, 482 Broadway\, South Portland\, Maine
CATEGORIES:South Portland
ATTACH;FMTTYPE=image/jpeg:https://diversionsgames.com/wp-content/uploads/2024/04/440783236_968086528650288_3887419718775229918_n.jpg
END:VEVENT
BEGIN:VEVENT
DTSTART;TZID=America/New_York:20240529T153000
DTEND;TZID=America/New_York:20240529T173000
DTSTAMP:20260424T013910
CREATED:20240424T185913Z
LAST-MODIFIED:20240502T115007Z
UID:10050148-1716996600-1717003800@diversionsgames.com
SUMMARY:Youth Board Game Day
DESCRIPTION:Join us at the South Portland Public Library’s main location for an afternoon of gaming fun! With demo games for kids and teens of all ages\, we’ll have something for everyone. A member of the Diversions team will also be on hand to teach and lead folks through any new games they are looking to try out. We hope to see you there!
URL:https://diversionsgames.com/event/youth-board-game-day-2/
LOCATION:South Portland Public Library\, 482 Broadway\, South Portland\, Maine
CATEGORIES:South Portland
ATTACH;FMTTYPE=image/jpeg:https://diversionsgames.com/wp-content/uploads/2024/04/440783236_968086528650288_3887419718775229918_n.jpg
END:VEVENT
BEGIN:VEVENT
DTSTART;TZID=America/New_York:20200611T150000
DTEND;TZID=America/New_York:20200611T170000
DTSTAMP:20260424T013910
CREATED:20200108T154057Z
LAST-MODIFIED:20200513T201813Z
UID:10045177-1591887600-1591894800@diversionsgames.com
SUMMARY:(CANCELED)Game On! Board Games with Diversions
DESCRIPTION:Novice and expert gamers alike are invited to a monthly after-school board game program in partnership with Diversions Puzzles and Games! Bring a favorite game to play with friends\, or try a game from our collection. A member of Diversions’ expert staff will be on hand to provide instruction on the games. For more information\, call Youth Services at (207)767-7660 ext. 3. Ages 6-18.
URL:https://diversionsgames.com/event/game-on-board-games-with-diversions-2020-06-11/
LOCATION:South Portland Public Library\, 482 Broadway\, South Portland\, Maine
CATEGORIES:South Portland
ATTACH;FMTTYPE=image/jpeg:https://diversionsgames.com/wp-content/uploads/2020/01/81507821_2887175724646992_7686748182771924992_o.jpg
END:VEVENT
BEGIN:VEVENT
DTSTART;TZID=America/New_York:20200514T150000
DTEND;TZID=America/New_York:20200514T170000
DTSTAMP:20260424T013910
CREATED:20200108T154057Z
LAST-MODIFIED:20200513T200622Z
UID:10045165-1589468400-1589475600@diversionsgames.com
SUMMARY:(CANCELED)Game On! Board Games with Diversions
DESCRIPTION:Novice and expert gamers alike are invited to a monthly after-school board game program in partnership with Diversions Puzzles and Games! Bring a favorite game to play with friends\, or try a game from our collection. A member of Diversions’ expert staff will be on hand to provide instruction on the games. For more information\, call Youth Services at (207)767-7660 ext. 3. Ages 6-18.
URL:https://diversionsgames.com/event/game-on-board-games-with-diversions-2020-05-14/
LOCATION:South Portland Public Library\, 482 Broadway\, South Portland\, Maine
CATEGORIES:South Portland
ATTACH;FMTTYPE=image/jpeg:https://diversionsgames.com/wp-content/uploads/2020/01/81507821_2887175724646992_7686748182771924992_o.jpg
END:VEVENT
BEGIN:VEVENT
DTSTART;TZID=America/New_York:20200409T150000
DTEND;TZID=America/New_York:20200409T170000
DTSTAMP:20260424T013910
CREATED:20200108T154057Z
LAST-MODIFIED:20200513T200946Z
UID:10045163-1586444400-1586451600@diversionsgames.com
SUMMARY:(CANCELED)Game On! Board Games with Diversions
DESCRIPTION:Novice and expert gamers alike are invited to a monthly after-school board game program in partnership with Diversions Puzzles and Games! Bring a favorite game to play with friends\, or try a game from our collection. A member of Diversions’ expert staff will be on hand to provide instruction on the games. For more information\, call Youth Services at (207)767-7660 ext. 3. Ages 6-18.
URL:https://diversionsgames.com/event/game-on-board-games-with-diversions-2020-04-09/
LOCATION:South Portland Public Library\, 482 Broadway\, South Portland\, Maine
CATEGORIES:South Portland
ATTACH;FMTTYPE=image/jpeg:https://diversionsgames.com/wp-content/uploads/2020/01/81507821_2887175724646992_7686748182771924992_o.jpg
END:VEVENT
BEGIN:VEVENT
DTSTART;TZID=America/New_York:20200312T150000
DTEND;TZID=America/New_York:20200312T170000
DTSTAMP:20260424T013910
CREATED:20200108T154057Z
LAST-MODIFIED:20200108T154057Z
UID:10045161-1584025200-1584032400@diversionsgames.com
SUMMARY:Game On! Board Games with Diversions
DESCRIPTION:Novice and expert gamers alike are invited to a monthly after-school board game program in partnership with Diversions Puzzles and Games! Bring a favorite game to play with friends\, or try a game from our collection. A member of Diversions’ expert staff will be on hand to provide instruction on the games. For more information\, call Youth Services at (207)767-7660 ext. 3. Ages 6-18.
URL:https://diversionsgames.com/event/game-on-board-games-with-diversions/2020-03-12/
LOCATION:South Portland Public Library\, 482 Broadway\, South Portland\, Maine
CATEGORIES:South Portland
ATTACH;FMTTYPE=image/jpeg:https://diversionsgames.com/wp-content/uploads/2020/01/81507821_2887175724646992_7686748182771924992_o.jpg
END:VEVENT
BEGIN:VEVENT
DTSTART;TZID=America/New_York:20200213T150000
DTEND;TZID=America/New_York:20200213T170000
DTSTAMP:20260424T013910
CREATED:20200108T154057Z
LAST-MODIFIED:20200108T154057Z
UID:10045160-1581606000-1581613200@diversionsgames.com
SUMMARY:Game On! Board Games with Diversions
DESCRIPTION:Novice and expert gamers alike are invited to a monthly after-school board game program in partnership with Diversions Puzzles and Games! Bring a favorite game to play with friends\, or try a game from our collection. A member of Diversions’ expert staff will be on hand to provide instruction on the games. For more information\, call Youth Services at (207)767-7660 ext. 3. Ages 6-18.
URL:https://diversionsgames.com/event/game-on-board-games-with-diversions/2020-02-13/
LOCATION:South Portland Public Library\, 482 Broadway\, South Portland\, Maine
CATEGORIES:South Portland
ATTACH;FMTTYPE=image/jpeg:https://diversionsgames.com/wp-content/uploads/2020/01/81507821_2887175724646992_7686748182771924992_o.jpg
END:VEVENT
BEGIN:VEVENT
DTSTART;TZID=America/New_York:20200109T150000
DTEND;TZID=America/New_York:20200109T170000
DTSTAMP:20260424T013910
CREATED:20200108T154057Z
LAST-MODIFIED:20200108T154057Z
UID:10045159-1578582000-1578589200@diversionsgames.com
SUMMARY:Game On! Board Games with Diversions
DESCRIPTION:Novice and expert gamers alike are invited to a monthly after-school board game program in partnership with Diversions Puzzles and Games! Bring a favorite game to play with friends\, or try a game from our collection. A member of Diversions’ expert staff will be on hand to provide instruction on the games. For more information\, call Youth Services at (207)767-7660 ext. 3. Ages 6-18.
URL:https://diversionsgames.com/event/game-on-board-games-with-diversions/2020-01-09/
LOCATION:South Portland Public Library\, 482 Broadway\, South Portland\, Maine
CATEGORIES:South Portland
ATTACH;FMTTYPE=image/jpeg:https://diversionsgames.com/wp-content/uploads/2020/01/81507821_2887175724646992_7686748182771924992_o.jpg
END:VEVENT
END:VCALENDAR